Workbook

Sheet SAŽETAK NOVO
A1: Naziv škole: Osnovna škola Vladimira Nazora-Scuola elementare "Vladimir Nazor"
A2: Sjedište i adresa: ROVINJ-ROVIGNO, De Amicis 31
A3: Telefon/fax: 052 814 176
A4: Žiro-račun škole: HR9223400091110418489
A5: OIB: 10372585831
A6: PRIJEDLOG FINANCIJSKOG PLANA PRORAČUNSKOG KORISNIKA JEDINICE LOKALNE I PODRUČNE (REGIONALNE) SAMOUPRAVE ZA 2026. I PROJEKCIJE ZA 2027. I 2028. GODINU
A8: I. OPĆI DIO
A10: A) SAŽETAK RAČUNA PRIHODA I RASHODA
J11: EUR
A12: Razred i naziv | F12: Izvršenje 2024. | G12: Tekući plan 2025. | H12: Plan 2026. | I12: Projekcija 2027. | J12: Projekcija 2028.
A13: 1 | F13: 2 | G13: 3 | H13: 4 | I13: 5 | J13: 6
A14: PRIHODI UKUPNO | F14: 2015749.6 | G14: =G15+G16 -> 2419909.5 | H14: =H15+H16 -> 2305300 | I14: =I15+I16 -> 2397500 | J14: =J15+J16 -> 2421600
A15: 6 PRIHODI POSLOVANJA | F15: 2015749.6 | G15: 2419909.5 | H15: 2305300 | I15: 2397500 | J15: 2421600
A16: 7 PRIHODI OD PRODAJE NEFINANCIJSKE IMOVINE | F16: 0 | G16: 0 | H16: 0 | I16: 0 | J16: 0
A17: RASHODI UKUPNO | F17: 2042853.1 | G17: =G18+G19 -> 2453207 | H17: =H18+H19 -> 2345300 | I17: =I18+I19 -> 2397500 | J17: =J18+J19 -> 2421600
A18: 3 RASHODI POSLOVANJA | F18: 1991904.3 | G18: 2390009.5 | H18: 2277400 | I18: 2339364 | J18: 2362882
A19: 4 RASHODI ZA NABAVU NEFINANCIJSKE IMOVINE | F19: 50948.87 | G19: 63197.53 | H19: 67900 | I19: 58136 | J19: 58718
A20: RAZLIKA - VIŠAK / MANJAK | F20: -27103.49 | G20: =G14-G17 -> -33297.53 | H20: =H14-H17 -> -40000 | I20: =I14-I17 -> 0 | J20: =J14-J17 -> 0
A22: B) SAŽETAK RAČUNA FINANCIRANJA
A24: Razred i naziv | F24: Izvršenje 2024. | G24: Tekući plan 2025. | H24: Plan 2026. | I24: Projekcija 2027. | J24: Projekcija 2028.
A25: 1 | F25: 2 | G25: 3 | H25: 4 | I25: 5 | J25: 6
A26: 8 PRIMICI OD FINANCIJSKE IMOVINE I ZADUŽIVANJA | F26: 0 | G26: 0
A27: 5 IZDACI ZA FINANCIJSKU IMOVINU I OTPLATE ZAJMOVA | F27: 0 | G27: 0
A28: NETO FINANCIRANJE | F28: =F26-F27 -> 0 | G28: =G26-G27 -> 0 | H28: =H26-H27 -> 0 | I28: =I26-I27 -> 0 | J28: =J26-J27 -> 0
A29: VIŠAK / MANJAK + NETO FINANCIRANJE | F29: =F20+F28 -> -27103.49 | G29: =G20+G28 -> -33297.53 | H29: =H20+H28 -> -40000 | I29: =I20+I28 -> 0 | J29: =J20+J28 -> 0
A31: C) PRENESENI VIŠAK ILI PRENESENI MANJAK
A33: Naziv | F33: Izvršenje 2024. | G33: Tekući plan 2025. | H33: Plan 2026. | I33: Projekcija 2027. | J33: Projekcija 2028.
A34: 1 | F34: 2 | G34: 3 | H34: 4 | I34: 5 | J34: 6
A35: PRIJENOS VIŠKA / MANJKA IZ PRETHODNE(IH) GODINE | F35: 60401.02 | G35: 33297.53 | H35: 40000 | I35: 0 | J35: 0
A36: PRIJENOS VIŠKA / MANJKA U SLJEDEĆE RAZDOBLJE | F36: =F29+F35 -> 33297.53 | G36: =G29+G35 -> 2.0372681e-10 | H36: =H29+H35 -> 0 | I36: =I29+I35 -> 0 | J36: =J29+J35 -> 0
A37: VIŠAK / MANJAK + NETO FINANCIRANJE + PRIJENOS VIŠKA / MANJKA IZ PRETHODNE(IH) GODINE - PRIJENOS VIŠKA / MANJKA U SLJEDEĆE RAZDOBLJE | F37: =F20+F28+F35-F36 -> 0 | G37: =G20+G28+G35-G36 -> 0 | H37: =H20+H28+H35-H36 -> 0 | I37: =I20+I28+I35-I36 -> 0 | J37: =J20+J28+J35-J36 -> 0
A39: D) VIŠEGODIŠNJI PLAN URAVNOTEŽENJA
A41: Naziv | F41: Izvršenje 2024. | G41: Tekući plan 2025. | H41: Plan 2026. | I41: Projekcija 2027. | J41: Projekcija 2028.
A42: 1 | F42: 2 | G42: 3 | H42: 4 | I42: 5 | J42: 6
A43: PRIJENOS VIŠKA / MANJKA IZ PRETHODNE(IH) GODINE | F43: 60401.02 | G43: 33297.53 | H43: 40000 | I43: =H46 -> 0 | J43: =I46 -> 0
A44: VIŠAK / MANJAK IZ PRETHODNE(IH) GODINE KOJI ĆE SE RASPOREDITI / POKRITI | F44: 0 | G44: 33297.53 | H44: 40000 | I44: 0 | J44: 0
A45: VIŠAK / MANJAK TEKUĆE GODINE | F45: -27103.49 | G45: 0 | H45: 0 | I45: 0 | J45: 0
A46: PRIJENOS VIŠKA / MANJKA U SLJEDEĆE RAZDOBLJE | F46: =F43-F44+F45 -> 33297.53 | G46: =G43-G44+G45 -> 0 | H46: =H43-H44+H45 -> 0 | I46: =I43-I44+I45 -> 0 | J46: =J43-J44+J45 -> 0

Sheet  Račun prihoda i rashoda NOVO
A1: Naziv škole: Osnovna škola Vladimira Nazora-Scuola elementare "Vladimir Nazor"
A2: Sjedište i adresa: ROVINJ-ROVIGNO, De Amicis 31
A3: Telefon/fax: 052 814 176
A4: Žiro-račun škole: HR9223400091110418489
A5: OIB: 10372585831
A6: PRIJEDLOG FINANCIJSKOG PLANA PRORAČUNSKOG KORISNIKA JEDINICE LOKALNE I PODRUČNE (REGIONALNE) SAMOUPRAVE ZA 2026. I PROJEKCIJE ZA 2027. I 2028. GODINU
A8: I. OPĆI DIO
A10: A. RAČUN PRIHODA I RASHODA
A12: A1. PRIHODI I RASHODI PREMA EKONOMSKOJ KLASIFIKACIJI
A14: Razred/ skupina | B14: Naziv | C14: Izvršenje 2024. | D14: Tekući plan 2025. | E14: Plan 2026. | F14: Projekcija 2027. | G14: Projekcija 2028.
A15: 1 | B15: 2 | C15: 3 | D15: 4 | E15: 5 | F15: 6 | G15: 7
B16: UKUPNO PRIHODI | C16: =SUM(C17+C23) -> 2015749.6 | D16: =SUM(D17+D23) -> 2419909.5 | E16: =SUM(E17+E23) -> 2305300 | F16: =SUM(F17+F23) -> 2397500 | G16: =SUM(G17+G23) -> 2421600
A17: 6 | B17: Prihodi poslovanja | C17: =SUM(C18+C19+C20+C21+C22) -> 2015749.6 | D17: =SUM(D18+D19+D20+D21+D22) -> 2419909.5 | E17: =SUM(E18+E19+E20+E21+E22) -> 2305300 | F17: =SUM(F18+F19+F20+F21+F22) -> 2397500 | G17: =SUM(G18+G19+G20+G21+G22) -> 2421600
A18: 63 | B18: Pomoći iz inozemstva i od subjekata unutar općeg proračuna | C18: 1557034.1 | D18: 1940818.5 | E18: 1804370 | F18: 1876545 | G18: 1895346
A19: 64 | B19: Prihodi od imovine | C19: 117.86 | D19: 120 | E19: 120 | F19: 125 | G19: 126
A20: 65 | B20: Prihodi od upravnih i administr.pristojbi i po posebnim propisima | C20: 50157.75 | D20: 60840 | E20: 56840 | F20: 59101 | G20: 59773
A21: 66 | B21: Prihodi od prodaje proizvoda i robe te pruženih usluga i prihodi od donacija | C21: 3458.02 | D21: 4540 | E21: 4240 | F21: 4410 | G21: 4454
A22: 67 | B22: Prihodi iz nadležnog proračuna i od HZZO-a temeljem ugovornih obveza | C22: 404981.86 | D22: 413590.97 | E22: 439730 | F22: 457319 | G22: 461901
A23: 7 | B23: Prihodi od prodaje nefinancijske imovine | C23: =SUM(C24) -> 0 | D23: =SUM(D24) -> 0 | E23: =SUM(E24) -> 0 | F23: =SUM(F24) -> 0 | G23: =SUM(G24) -> 0
A24: 72 | B24: Prihodi od prodaje proizvedene dugotrajne imovine | C24: 0 | D24: 0 | E24: 0 | F24: 0 | G24: 0
A25: …
A29: Razred/ skupina | B29: Naziv | C29: Izvršenje 2024. | D29: Tekući plan 2025. | E29: Plan 2026. | F29: Projekcija 2027. | G29: Projekcija 2028.
A30: 1 | B30: 2 | C30: 3 | D30: 4 | E30: 5 | F30: 6 | G30: 7
B31: UKUPNO RASHODI | C31: =SUM(C32+C38) -> 2042853.1 | D31: =SUM(D32+D38) -> 2453207 | E31: =SUM(E32+E38) -> 2345300 | F31: =SUM(F32+F38) -> 2397500 | G31: =SUM(G32+G38) -> 2421600
A32: 3 | B32: Rashodi poslovanja | C32: =SUM(C33+C34+C35+C36+C37) -> 1991904.3 | D32: =SUM(D33+D34+D35+D36+D37) -> 2390009.5 | E32: =SUM(E33+E34+E35+E36+E37) -> 2277400 | F32: =SUM(F33+F34+F35+F36+F37) -> 2339364 | G32: =SUM(G33+G34+G35+G36+G37) -> 2362882
A33: 31 | B33: Rashodi za zaposlene | C33: 1644316.8 | D33: 1978140 | E33: 1885365 | F33: 1959568 | G33: 1979204
A34: 32 | B34: Materijalni rashodi | C34: 317412.03 | D34: 376790.97 | E34: 357635 | F34: 344228 | G34: 347755
A35: 34 | B35: Financijski rashodi | C35: 839.43 | D35: 1300 | E35: 1400 | F35: 1248 | G35: 1260
A36: 37 | B36: Naknade građanima i kućanstvima temelj osig i druge nakn | C36: 28328.44 | D36: 33000 | E36: 32000 | F36: 33280 | G36: 33613
A37: 38 | B37: Donacije i ostali rashodi | C37: 1007.55 | D37: 778.5 | E37: 1000 | F37: 1040 | G37: 1050
A38: 4 | B38: Rashodi za nabavu nefinancijske imovine | C38: =SUM(C39+C40) -> 50948.87 | D38: =SUM(D39+D40) -> 63197.53 | E38: =SUM(E39+E40) -> 67900 | F38: =SUM(F39+F40) -> 58136 | G38: =SUM(G39+G40) -> 58718
A39: 41 | B39: Rashodi za nabavu neproizvedene dugotrajne imovine | C39: 0 | D39: 0 | E39: 0 | F39: 0 | G39: 0
A40: 42 | B40: Rashodi za nabavu proizvedene dugotrajne imovine | C40: 50948.87 | D40: 63197.53 | E40: 67900 | F40: 58136 | G40: 58718

Sheet Prihodi i rashodi po izvorima N
B1: Naziv škole: Osnovna škola Vladimira Nazora-Scuola elementare "Vladimir Nazor"
B2: Sjedište i adresa: ROVINJ-ROVIGNO, De Amicis 31
B3: Telefon/fax: 052 814 176
B4: Žiro-račun škole: HR9223400091110418489
B5: OIB: 10372585831
B6: PRIJEDLOG FINANCIJSKOG PLANA PRORAČUNSKOG KORISNIKA JEDINICE LOKALNE I PODRUČNE (REGIONALNE) SAMOUPRAVE ZA 2026. I PROJEKCIJE ZA 2027. I 2028. GODINU
C8: I. OPĆI DIO
C10: A. RAČUN PRIHODA I RASHODA
C12: A2. PRIHODI I RASHODI PREMA IZVORIMA FINANCIRANJA
B14: Razred/ skupina | C14: Naziv | D14: Izvršenje 2024. | E14: Tekući plan 2025. | F14: Plan 2026. | G14: Projekcija 2027. | H14: Projekcija 2028.
B15: 1 | C15: 2 | D15: 3 | E15: 4 | F15: 5 | G15: 6 | H15: 7
C16: UKUPNO PRIHODI | D16: =SUM(D17+D20+D22+D25+D30) -> 2015749.6 | E16: =SUM(E17+E20+E22+E25+E30) -> 2419909.5 | F16: =SUM(F17+F20+F22+F25+F30) -> 2305300 | G16: =SUM(G17+G20+G22+G25+G30) -> 2397500 | H16: =SUM(H17+H20+H22+H25+H30) -> 2421600
B17: 1 | C17: Opći prihodi i primici | D17: =SUM(D18) -> 404981.86 | E17: =SUM(E18) -> 413890.97 | F17: =SUM(F18) -> 417111.52 | G17: =SUM(G18) -> 433784 | H17: =SUM(H18) -> 438209
B18: 11 | C18: Opći prihodi i primici | D18: 404981.86 | E18: 413890.97 | F18: 417111.52 | G18: 433784 | H18: 438209
B19: … | C19: …
B20: 3 | C20: Vlastiti prihodi | D20: =SUM(D21) -> 1128.67 | E20: =SUM(E21) -> 700 | F20: =SUM(F21) -> 700 | G20: =SUM(G21) -> 728 | H20: =SUM(H21) -> 735
B21: 31 | C21: Vlastiti prihodi | D21: 1128.67 | E21: 700 | F21: 700 | G21: 728 | H21: 735
B22: 4 | C22: Prihodi za posebne namjene | D22: =SUM(D23) -> 49186.94 | E22: =SUM(E23) -> 60000 | F22: =SUM(F23+F24) -> 56000 | G22: =SUM(G23+G24) -> 58240 | H22: =SUM(H23+H24) -> 58824
B23: 41 | C23: Prihodi za posebne namjene | D23: 49186.94 | E23: 60000
B24: 43 | C24: Ostali prihodi za posebne namjene | F24: 56000 | G24: 58240 | H24: 58824
B25: 5 | C25: Pomoći | D25: =SUM(D26+D28+D29) -> 1557034.1 | E25: =SUM(E26+E28+E29) -> 1940818.5 | F25: =SUM(F26+F27+F28+F29) -> 1827288.5 | G25: =SUM(G26+G27+G28+G29) -> 1900380 | H25: =SUM(H26+H27+H28+H29) -> 1919420
B26: 50 | C26: Pomoći iz državnog proračuna | D26: 1433135.2 | E26: 1696000 | F26: 1720388.5 | G26: 1789204 | H26: 1807129
B27: 52 | C27: Ostale pomoći | F27: 4400 | G27: 4576 | H27: 4623
B28: 53 | C28: Proračun drugi nivoi | D28: 68199.08 | E28: 98318.5
B29: 56 | C29: Pomoći tijela i fondova EU | D29: 55699.91 | E29: 146500 | F29: 102500 | G29: 106600 | H29: 107668
B30: 6 | C30: Donacije | D30: =SUM(D31) -> 3418.02 | E30: =SUM(E31) -> 4500 | F30: =SUM(F31) -> 4200 | G30: =SUM(G31) -> 4368 | H30: =SUM(H31) -> 4412
B31: 61 | C31: Donacije | D31: 3418.02 | E31: 4500 | F31: 4200 | G31: 4368 | H31: 4412
B33: Razred/ skupina | C33: Naziv | D33: Izvršenje 2024. | E33: Tekući plan 2025. | F33: Plan 2026. | G33: Projekcija 2027. | H33: Projekcija 2028.
B34: 1 | C34: 2 | D34: 3 | E34: 4 | F34: 5 | G34: 6 | H34: 7
C35: UKUPNO RASHODI | D35: =SUM(D36+D39+D42+D46+D51+D53) -> 2042853.1 | E35: =SUM(E36+E39+E42+E46+E51+E53) -> 2453207 | F35: =SUM(F36+F39+F42+F46+F51+F53) -> 2345300 | G35: =SUM(G36+G39+G42+G46+G51+G53) -> 2397500 | H35: =SUM(H36+H39+H42+H46+H51+H53) -> 2421600
B36: 1 | C36: 1 Opći prihodi i primici | D36: =SUM(D37) -> 404981.86 | E36: =SUM(E37) -> 413890.97 | F36: =SUM(F37) -> 417111.52 | G36: =SUM(G37) -> 433784 | H36: =SUM(H37) -> 438209
B37: 11 | C37: 11 Opći prihodi i primici | D37: 404981.86 | E37: 413890.97 | F37: 417111.52 | G37: 433784 | H37: 438209
B38: … | C38: …
B39: 3 | C39: 3 Vlastiti prihodi | D39: =SUM(D40) -> 205.25 | E39: =SUM(E40) -> 700 | F39: =SUM(F40) -> 40700 | G39: =SUM(G40) -> 728 | H39: =SUM(H40) -> 735
B40: 31 | C40: 31 Vlastiti prihodi | D40: 205.25 | E40: 700 | F40: 40700 | G40: 728 | H40: 735
B41: … | C41: …
B42: 4 | C42: Prihodi za posebne namjene | D42: =SUM(D43+D44) -> 27548.55 | E42: =SUM(E43+E44) -> 60000 | F42: =SUM(F43+F44) -> 56000 | G42: =SUM(G43+G44) -> 58240 | H42: =SUM(H43+H44) -> 58824
B43: 41 | C43: Prihodi za posebne namjene | D43: 27548.55 | E43: 60000
B44: 43 | C44: Ostali prihodi za posebne namjene | F44: 56000 | G44: 58240 | H44: 58824
B45: … | C45: …
B46: 5 | C46: Pomoći | D46: =SUM(D47+D49+D50) -> 1573887.8 | E46: =SUM(E47+E49+E50) -> 1940818.5 | F46: =SUM(F47+F48+F49+F50) -> 1827288.5 | G46: =SUM(G47+G48+G49+G50) -> 1900380 | H46: =SUM(H47+H48+H49+H50) -> 1919420
B47: 50 | C47: Pomoći iz državnog proračuna | D47: 1433135.2 | E47: 1696000 | F47: 1720388.5 | G47: 1789204 | H47: 1807129
B48: 52 | C48: Ostale pomoći | F48: 4400 | G48: 4576 | H48: 4623
B49: 53 | C49: Proračun drugi nivoi | D49: 85052.54 | E49: 98318.5 | F49: 0
B50: 56 | C50: Pomoći tijela i fondova EU | D50: 55700.11 | E50: 146500 | F50: 102500 | G50: 106600 | H50: 107668
B51: 6 | C51: Donacije | D51: =SUM(D52) -> 3268.02 | E51: =SUM(E52) -> 4500 | F51: =SUM(F52) -> 4200 | G51: =SUM(G52) -> 4368 | H51: =SUM(H52) -> 4412
B52: 61 | C52: Donacije | D52: 3268.02 | E52: 4500 | F52: 4200 | G52: 4368 | H52: 4412
B53: 8 | C53: Preneseni viškovi iz ranijih godina | D53: =SUM(D54) -> 32961.64 | E53: =SUM(E54) -> 33297.53 | F53: =SUM(F54) -> 0 | G53: =SUM(G54) -> 0 | H53: =SUM(H54) -> 0
B54: 821 | C54: Preneseni viškovi iz ranijih godina | D54: 32961.64 | E54: 33297.53 | G54: 0 | H54: 0

Sheet Rashodi prema funkcijskoj kl
A1: Naziv škole: Osnovna škola Vladimira Nazora-Scuola elementare "Vladimir Nazor"
A2: Sjedište i adresa: ROVINJ-ROVIGNO, De Amicis 31
A3: Telefon/fax: 052 814 176
A4: Žiro-račun škole: HR9223400091110418489
A5: OIB: 10372585831
A8: PRIJEDLOG FINANCIJSKOG PLANA PRORAČUNSKOG KORISNIKA JEDINICE LOKALNE I PODRUČNE (REGIONALNE) SAMOUPRAVE ZA 2026. I PROJEKCIJE ZA 2027. I 2028. GODINU
A10: I. OPĆI DIO
A12: A. RAČUN PRIHODA I RASHODA
A14: A3. RASHODI PREMA FUNKCIJSKOJ KLASIFIKACIJI
A16: BROJČANA OZNAKA I NAZIV | B16: Izvršenje 2024. | C16: Tekući plan 2025. | D16: Plan 2026. | E16: Projekcija 2027. | F16: Projekcija 2028.
A17: UKUPNI RASHODI | B17: =SUM(B19+B22) -> 2042853.1 | C17: =SUM(C19+C22) -> 2453207 | D17: =SUM(D19+D22) -> 2345300 | E17: =SUM(E19+E22) -> 2397500 | F17: =SUM(F19+F22) -> 2421600
A19: 09 obrazovanje | B19: =SUM(B20) -> 2042853.1 | C19: =SUM(C20) -> 2452907 | D19: =SUM(D20) -> 2345300 | E19: =SUM(E20) -> 2397500 | F19: =SUM(F20) -> 2421600
A20: 0912 osnovno obrazovanje | B20: 2042853.1 | C20: 2452907 | D20: 2345300 | E20: 2397500 | F20: 2421600
A22: 10 socijalna zaštita | B22: =SUM(B23) -> 0 | C22: =SUM(C23) -> 300 | D22: =SUM(D23) -> 0 | E22: =SUM(E23) -> 0 | F22: =SUM(F23) -> 0
A23: 107 socijalna pomoć stanovništvu koje nije obuhvaćeno redovnim socijalnim programima | B23: 0 | C23: 300 | D23: 0 | E23: 0 | F23: 0

Sheet Račun financiranja
A1: Naziv škole: Osnovna škola Vladimira Nazora-Scuola elementare "Vladimir Nazor"
A2: Sjedište i adresa: ROVINJ-ROVIGNO, De Amicis 31
A3: Telefon/fax: 052 814 176
A4: Žiro-račun škole: HR9223400091110418489
A5: OIB: 10372585831
A8: PRIJEDLOG FINANCIJSKOG PLANA PRORAČUNSKOG KORISNIKA JEDINICE LOKALNE I PODRUČNE (REGIONALNE) SAMOUPRAVE ZA 2026. I PROJEKCIJA ZA 2027. I 2028. GODINU
A10: I. OPĆI DIO
A12: B. RAČUN FINANCIRANJA
A14: B1. RAČUN FINANCIRANJA PREMA EKONOMSKOJ KLASIFIKACIJI
A16: Razred | B16: Skupina | C16: Izvor | D16: Naziv | E16: Izvršenje 2024. | F16: Tekući plan 2025. | G16: Plan 2026. | H16: Projekcija 2027. | I16: Projekcija 2028.
A17: 8 | D17: Primici od financijske imovine i zaduživanja | E17: 0 | F17: 0 | G17: 0 | H17: 0 | I17: 0
B18: 84 | D18: Primici od zaduživanja | E18: 0 | F18: 0 | G18: 0 | H18: 0 | I18: 0
C19: 81 | D19: Namjenski primici od zaduživanja | E19: 0 | F19: 0 | G19: 0 | H19: 0 | I19: 0
A20: 5 | D20: Izdaci za financijsku imovinu i otplate zajmova | E20: 0 | F20: 0 | G20: 0 | H20: 0 | I20: 0
B21: 54 | D21: Izdaci za otplatu glavnice primljenih kredita i zajmova | E21: 0 | F21: 0 | G21: 0 | H21: 0 | I21: 0
C22: 11 | D22: Opći prihodi i primici | E22: 0 | F22: 0 | G22: 0 | H22: 0 | I22: 0
C23: 31 | D23: Vlastiti prihodi | E23: 0 | F23: 0 | G23: 0 | H23: 0 | I23: 0

Sheet Račun financiranja po izvorima
A1: Naziv škole: Osnovna škola Vladimira Nazora-Scuola elementare "Vladimir Nazor"
A2: Sjedište i adresa: ROVINJ-ROVIGNO, De Amicis 31
A3: Telefon/fax: 052 814 176
A4: Žiro-račun škole: HR9223400091110418489
A5: OIB: 10372585831
A6: PRIJEDLOG FINANCIJSKOG PLANA PRORAČUNSKOG KORISNIKA JEDINICE LOKALNE I PODRUČNE (REGIONALNE) SAMOUPRAVE ZA 2026. I PROJEKCIJA ZA 2027. I 2028. GODINU
B8: I. OPĆI DIO
B10: B2. RAČUN FINANCIRANJA PREMA IZVORIMA FINANCIRANJA
A12: Razred/ skupina | B12: Naziv | C12: Izvršenje 2024. | D12: Tekući plan 2025. | E12: Plan 2026. | F12: Projekcija 2027. | G12: Projekcija 2028.
A13: 1 | B13: 2 | C13: 3 | D13: 4 | E13: 5 | F13: 6 | G13: 7
B14: UKUPNO PRIMICI | C14: 0 | D14: 0 | E14: 0 | F14: 0 | G14: 0
A15: 1 | B15: Opći prihodi i primici | C15: 0 | D15: 0 | E15: 0 | F15: 0 | G15: 0
A16: 11 | B16: Opći prihodi i primici | C16: 0 | D16: 0 | E16: 0 | F16: 0 | G16: 0
A17: … | B17: … | C17: 0 | D17: 0 | E17: 0 | F17: 0 | G17: 0
A18: 3 | B18: Vlastiti prihodi | C18: 0 | D18: 0 | E18: 0 | F18: 0 | G18: 0
A19: 31 | B19: Vlastiti prihodi | C19: 0 | D19: 0 | E19: 0 | F19: 0 | G19: 0
A20: … | B20: … | C20: 0 | D20: 0 | E20: 0 | F20: 0 | G20: 0
C21: 0 | D21: 0 | E21: 0 | F21: 0 | G21: 0
B22: UKUPNO IZDACI | C22: 0 | D22: 0 | E22: 0 | F22: 0 | G22: 0
A23: 1 | B23: 1 Opći prihodi i primici | C23: 0 | D23: 0 | E23: 0 | F23: 0 | G23: 0
A24: 11 | B24: 11 Opći prihodi i primici | C24: 0 | D24: 0 | E24: 0 | F24: 0 | G24: 0
A25: 3 | B25: 3 Vlastiti prihodi | C25: 0 | D25: 0 | E25: 0 | F25: 0 | G25: 0
A26: 31 | B26: 31 Vlastiti prihodi | C26: 0 | D26: 0 | E26: 0 | F26: 0 | G26: 0
B27: …

Sheet POSEBNI DIO
A1: Naziv škole: Osnovna škola Vladimira Nazora-Scuola elementare "Vladimir Nazor"
A2: Sjedište i adresa: ROVINJ-ROVIGNO, De Amicis 31
A3: Telefon/fax: 052 814 176
A4: Žiro-račun škole: HR9223400091110418489
A5: OIB: 10372585831
A8: PRIJEDLOG FINANCIJSKOG PLANA PRORAČUNSKOG KORISNIKA JEDINICE LOKALNE I PODRUČNE (REGIONALNE) SAMOUPRAVE ZA 2026. I PROJEKCIJA ZA 2027. I 2028. GODINU
A10: II. POSEBNI DIO
F12: 7.5345 | H12: POTREBNO POPUNITI
A13: Šifra | D13: Naziv | F13: Izvršenje 2024. | G13: Tekući plan 2025. | H13: Plan 2026. | I13: Projekcija 2027. | J13: Projekcija 2028.
A14: PROGRAM 1026 | D14: PROGRAM:OPĆE JAVNE POTREBE U ŠKOLSTVU | F14: =SUM(F16+F25) -> 1400 | G14: =SUM(G16+G25) -> 902 | H14: =SUM(H16+H25) -> 0 | I14: =SUM(I16+I25) -> 0 | J14: =SUM(J16+J25) -> 0
G15: =SUM(G17+G26) -> 0
A16: Aktivnost A102607 | D16: Aktivnost: NATJECANJA UČENIKA | F16: =SUM(F20) -> 1400 | G16: =SUM(G20) -> 902 | H16: =SUM(H20) -> 0 | I16: =SUM(I20) -> 0 | J16: =SUM(J20) -> 0
G17: =SUM(G21) -> 0
A18: Izvor financiranja 112 | D18: Posebni programi-zajednički dio-iz Grada | F18: =SUM(F20) -> 1400 | G18: =SUM(G20) -> 902 | H18: =SUM(H20) -> 0 | I18: =SUM(I20) -> 0 | J18: =SUM(J20) -> 0
G19: =SUM(G21) -> 0
A20: 3 | D20: Rashodi poslovanja | F20: =SUM(F23) -> 1400 | G20: =SUM(G23) -> 902 | H20: =SUM(H23) -> 0 | I20: =SUM(I23) -> 0 | J20: =SUM(J23) -> 0
G21: =SUM(G24) -> 0
A22: 31 | D22: Rashodi za zaposlene
A23: 32 | D23: Materijalni rashodi | F23: 1400 | G23: 902 | H23: 0 | I23: 0 | J23: 0
A25: Aktivnost A102609 | D25: Aktivnost: POMOĆNICI UČENICIMA S TEŠKOĆAMA U RAZVOJU | F25: =SUM(F29) -> 0 | G25: =SUM(G29) -> 0 | H25: =SUM(H29) -> 0 | I25: =SUM(I29) -> 0 | J25: =SUM(J29) -> 0
G26: =SUM(G30) -> 0
A27: Izvor financiranja 112 | D27: Posebni programi-zajednički dio-iz Grada | F27: =SUM(F29) -> 0 | G27: =SUM(G29) -> 0 | H27: =SUM(H29) -> 0 | I27: =SUM(I29) -> 0 | J27: =SUM(J29) -> 0
G28: =SUM(G30) -> 0
A29: 3 | D29: Rashodi poslovanja | F29: =SUM(F32) -> 0 | G29: =SUM(G32) -> 0 | H29: =SUM(H32) -> 0 | I29: =SUM(I32) -> 0 | J29: =SUM(J32) -> 0
G30: 0
A31: 31 | D31: Rashodi za zaposlene
A32: 31 | D32: Rashodi za zaposlene | G32: =SUM(G33/$F$12) -> 0 | H32: =SUM(H33/$F$12) -> 0 | I32: =SUM(I33/$F$12) -> 0 | J32: =SUM(J33/$F$12) -> 0
G33: 0
A34: PROGRAM 1032 | D34: PROGRAM: SOCIJALNA SKRB | F34: =SUM(F36) -> 0 | G34: =SUM(G36) -> 300 | H34: =SUM(H36) -> 0 | I34: =SUM(I36) -> 0 | J34: =SUM(J36) -> 0
G35: =SUM(G37) -> 0
A36: Aktivnost A103212 | D36: Aktivnost: NAKNADA RAZLIKE U CIJENI TOPLOG OBROKA | F36: =SUM(F40) -> 0 | G36: =SUM(G40) -> 300 | H36: =SUM(H40) -> 0 | I36: =SUM(I40) -> 0 | J36: =SUM(J40) -> 0
G37: =SUM(G41) -> 0
A38: Izvor financiranja 112 | D38: Posebni programi-zajednički dio-iz Grada | F38: =SUM(F40) -> 0 | G38: =SUM(G40) -> 300 | H38: =SUM(H40) -> 0 | I38: =SUM(I40) -> 0 | J38: =SUM(J40) -> 0
G39: =SUM(G41) -> 0
A40: 3 | D40: Rashodi poslovanja | F40: =SUM(F43) -> 0 | G40: =SUM(G43) -> 300 | H40: =SUM(H43) -> 0 | I40: =SUM(I43) -> 0 | J40: =SUM(J43) -> 0
G41: =SUM(G44) -> 0
A42: 31 | D42: Rashodi za zaposlene
A43: 32 | D43: Materijalni rashodi | F43: 0 | G43: 300 | H43: 0 | I43: 0 | J43: 0
A45: PROGRAM 1036 | D45: PROGRAM: DJELATNOST USTANOVA U OSNOVNOM ŠKOLSTVU | F45: =SUM(F47+F56+F108+F116+F128+F136+F144+F154+F162+F260+F298+F324+F380+F390+F400+F410+F420+F438+F464+F474+F484+F494+F504+F522) -> 2041453.1 | G45: =SUM(G47+G56+G108+G116+G128+G136+G144+G154+G162+G260+G298+G324+G380+G390+G400+G410+G420+G438+G464+G474+G484+G494+G504+G522) -> 2452005 | H45: =SUM(H47+H56+H108+H116+H128+H136+H144+H154+H162+H260+H298+H324+H380+H390+H400+H410+H420+H438+H464+H474+H484+H494+H504+H522) -> 2345300 | I45: =SUM(I47+I56+I108+I116+I128+I136+I144+I154+I162+I260+I298+I324+I380+I390+I400+I410+I420+I438+I464+I474+I484+I494+I504+I522) -> 2397500 | J45: =SUM(J47+J56+J108+J116+J128+J136+J144+J154+J162+J260+J298+J324+J380+J390+J400+J410+J420+J438+J464+J474+J484+J494+J504+J522) -> 2421600
A47: Aktivnost A103643 | D47: Aktivnost: NATJECANJA UČENIKA | F47: =SUM(F51) -> 0 | G47: =SUM(G51) -> 0 | H47: =SUM(H51) -> 1000 | I47: =SUM(I51) -> 1040 | J47: =SUM(J51) -> 1050
G48: =SUM(G52) -> 0
A49: Izvor financiranja 11 | D49: Opći prihodi i primici | F49: =SUM(F51) -> 0 | G49: =SUM(G51) -> 0 | H49: =SUM(H51) -> 1000 | I49: =SUM(I51) -> 1040 | J49: =SUM(J51) -> 1050
G50: =SUM(G52) -> 0
A51: 3 | D51: Rashodi poslovanja | F51: =SUM(F54) -> 0 | G51: =SUM(G54) -> 0 | H51: =SUM(H54) -> 1000 | I51: =SUM(I54) -> 1040 | J51: =SUM(J54) -> 1050
G52: =SUM(G55) -> 0
A53: 31 | D53: Rashodi za zaposlene
A54: 32 | D54: Materijalni rashodi | F54: 0 | G54: 0 | H54: 1000 | I54: 1040 | J54: 1050
A56: Aktivnost A103606 | D56: Aktivnost: DECENTRALIZIRANE FUNKCIJE | F56: =SUM(F58+F68+F78+F98) -> 1505584.6 | G56: =SUM(G58+G68+G78+G88+G98) -> 1773071.8 | H56: =SUM(H58+H68+H78+H98) -> 1691000 | I56: =SUM(I58+I68+I78+I98) -> 1758640 | J56: =SUM(J58+J68+J78+J98) -> 1776260
G57: =SUM(G59+G69+G79) -> 0 | H57: =SUM(H59+H69+H79) -> 0 | I57: =SUM(I59+I69+I79) -> 0 | J57: =SUM(J59+J69+J79) -> 0
A58: Izvor financiranja 11 | D58: Redovna djelatnost kod korisnika | F58: =SUM(F60) -> 71340.93 | G58: =SUM(G60) -> 75936.84 | H58: =SUM(H60) -> 79311.52 | I58: =SUM(I60) -> 82484 | J58: =SUM(J60) -> 83310
G59: =SUM(G61) -> 0
A60: 3 | D60: Rashodi poslovanja | F60: =SUM(F62+F64+F66) -> 71340.93 | G60: =SUM(G64+G66) -> 75936.84 | H60: =SUM(H64+H66) -> 79311.52 | I60: =SUM(I64+I66) -> 82484 | J60: =SUM(J64+J66) -> 83310
G61: =SUM(G65+G67) -> 0
A62: 31 | D62: Rashodi za zaposlene | F62: 0 | G62: 0 | H62: 0 | I62: 0 | J62: 0
A64: 32 | D64: Materijalni rashodi | F64: 70640.93 | G64: 75236.84 | H64: 78611.52 | I64: 81756 | J64: 82575
A66: 34 | D66: Financijski rashodi | F66: 700 | G66: 700 | H66: 700 | I66: 728 | J66: 735
A68: Izvor financiranja 50 | D68: Pomoći iz drž.proračuna | F68: =SUM(F70) -> 1433135.2 | G68: =SUM(G70) -> 1696000 | H68: =SUM(H70) -> 1611688.5 | I68: =SUM(I70) -> 1676156 | J68: =SUM(J70) -> 1692950
G69: =SUM(G71) -> 0
A70: 3 | D70: Rashodi poslovanja | F70: =SUM(F72+F74) -> 1433135.2 | G70: =SUM(G72+G74) -> 1696000 | H70: =SUM(H72+H74) -> 1611688.5 | I70: =SUM(I72+I74) -> 1676156 | J70: =SUM(J72+J74) -> 1692950
G71: =SUM(G73+G75) -> 0
A72: 31 | D72: Rashodi za zaposlene | F72: 1390622.6 | G72: 1637500 | H72: 1552525 | I72: 1614626 | J72: 1630804
A74: 32 | D74: Materijalni rashodi | F74: 42512.53 | G74: 58500 | H74: 59163.48 | I74: 61530 | J74: 62146
A76: 34 | D76: Financijski rashodi | F76: 0 | G76: 0 | H76: 0 | I76: 0 | J76: 0
A78: Izvor financiranja 53 | D78: Proračun - drugi nivoi | F78: =SUM(F80) -> 695 | G78: =SUM(G80) -> 835 | H78: =SUM(H80) -> 0 | I78: =SUM(I80) -> 0 | J78: =SUM(J80) -> 0
G79: =SUM(G81) -> 0
A80: 3 | D80: Rashodi poslovanja | F80: =SUM(F82+F84+F86) -> 695 | G80: =SUM(G82+G84+G86) -> 835 | H80: =SUM(H82+H84+H86) -> 0 | I80: =SUM(I82+I84+I86) -> 0 | J80: =SUM(J82+J84+J86) -> 0
G81: =SUM(G83+G85+G87) -> 0
A82: 31 | D82: Rashodi za zaposlene | F82: 0 | G82: 525 | H82: 0 | I82: 0 | J82: 0
A84: 32 | D84: Materijalni rashodi | F84: 695 | G84: 310 | H84: 0 | I84: 0 | J84: 0
A86: 34 | D86: Financijski rashodi | F86: 0 | G86: 0 | H86: 0 | I86: 0 | J86: 0
A88: Izvor financiranja 61 | D88: Donacije | F88: =SUM(F90) -> 0 | G88: =SUM(G90) -> 300 | H88: =SUM(H90) -> 0 | I88: =SUM(I90) -> 0 | J88: =SUM(J90) -> 0
G89: =SUM(G91) -> 0
A90: 3 | D90: Rashodi poslovanja | F90: =SUM(F92+F94+F96) -> 0 | G90: =SUM(G92+G94+G96) -> 300 | H90: =SUM(H92+H94+H96) -> 0 | I90: =SUM(I92+I94+I96) -> 0 | J90: =SUM(J92+J94+J96) -> 0
G91: =SUM(G93+G95+G97) -> 0
A92: 31 | D92: Rashodi za zaposlene | F92: 0 | G92: 0 | H92: 0 | I92: 0 | J92: 0
A94: 32 | D94: Materijalni rashodi | F94: 0 | G94: 300 | H94: 0 | I94: 0 | J94: 0
A96: 34 | D96: Financijski rashodi | F96: 0 | G96: 0 | H96: 0 | I96: 0 | J96: 0
A98: Izvor financiranja 82 | D98: Proračun - drugi nivoi | F98: =SUM(F100) -> 413.55 | G98: =SUM(G100) -> 0 | H98: =SUM(H100) -> 0 | I98: =SUM(I100) -> 0 | J98: =SUM(J100) -> 0
G99: =SUM(G101) -> 0
A100: 3 | D100: Rashodi poslovanja | F100: =SUM(F102+F104+F106) -> 413.55 | G100: =SUM(G102+G104+G106) -> 0 | H100: =SUM(H102+H104+H106) -> 0 | I100: =SUM(I102+I104+I106) -> 0 | J100: =SUM(J102+J104+J106) -> 0
G101: =SUM(G103+G105+G107) -> 0
A102: 31 | D102: Rashodi za zaposlene | F102: 0 | G102: 0 | H102: 0 | I102: 0 | J102: 0
A104: 32 | D104: Materijalni rashodi | F104: 413.55 | G104: 0 | H104: 0 | I104: 0 | J104: 0
A106: 34 | D106: Financijski rashodi | F106: 0 | G106: 0 | H106: 0 | I106: 0 | J106: 0
A108: Aktivnost A103607 | D108: Aktivnost: NASTAVA TJELESNE I ZDRAVSTVENE KULTURE | F108: =SUM(F110) -> 29424.05 | G108: =SUM(G110) -> 34500 | H108: =SUM(H110) -> 33300 | I108: =SUM(I110) -> 34632 | J108: =SUM(J110) -> 34979
G109: =SUM(G113) -> 0
A110: Izvor financiranja 11 | D110: Redovna djelatnost kod korisnika | F110: =SUM(F112) -> 29424.05 | G110: =SUM(G112) -> 34500 | H110: =SUM(H112) -> 33300 | I110: =SUM(I112) -> 34632 | J110: =SUM(J112) -> 34979
G111: =SUM(G113) -> 0
A112: 3 | D112: Rashodi poslovanja | F112: =SUM(F114) -> 29424.05 | G112: =SUM(G114) -> 34500 | H112: =SUM(H114) -> 33300 | I112: =SUM(I114) -> 34632 | J112: =SUM(J114) -> 34979
G113: =SUM(G115) -> 0
A114: 31 | D114: Rashodi za zaposlene | F114: 29424.05 | G114: 34500 | H114: 33300 | I114: 34632 | J114: 34979
A116: Aktivnost A103608 | D116: Aktivnost: PRODUŽENI BORAVAK DJECE U ŠKOLI | F116: =SUM(F120) -> 110585.76 | G116: =SUM(G120) -> 133100 | H116: =SUM(H120) -> 126900 | I116: =SUM(I120) -> 131976 | J116: =SUM(J120) -> 133298
G117: =SUM(G119+G510+G551) -> 93500
A118: Izvor financiranja 11 | D118: Redovna djelatnost kod korisnika | F118: =SUM(F120) -> 110585.76 | G118: =SUM(G120) -> 133100 | H118: =SUM(H120) -> 126900 | I118: =SUM(I120) -> 131976 | J118: =SUM(J120) -> 133298
G119: =SUM(G121) -> 0
A120: 3 | D120: Rashodi poslovanja | F120: =SUM(F122+F124+F126) -> 110585.76 | G120: =SUM(G122+G124+G126) -> 133100 | H120: =SUM(H122+H124+H126) -> 126900 | I120: =SUM(I122+I124+I126) -> 131976 | J120: =SUM(J122+J124+J126) -> 133298
G121: =SUM(G123+G125+G127) -> 0
A122: 31 | D122: Rashodi za zaposlene | F122: 110585.76 | G122: 133100 | H122: 126900 | I122: 131976 | J122: 133298
A124: 32 | D124: Materijalni rashodi | F124: =SUM(F125/F12) -> 0 | G124: 0 | H124: 0 | I124: 0 | J124: 0
A126: 34 | D126: Financijski rashodi | F126: =SUM(F127/F12) -> 0 | G126: 0 | H126: 0 | I126: 0 | J126: 0
...

Sheet PRIHODI
C2: Naziv škole: Osnovna škola Vladimira Nazora-Scuola elementare "Vladimir Nazor" | K2: Naziv škole: Osnovna škola Vladimira Nazora-Scuola elementare "Vladimir Nazor"
C3: Sjedište i adresa: ROVINJ-ROVIGNO, De Amicis 31 | H3: PRIJEDLOG 1.IZMJENA I DOPUNA FINANCIJSKOG PLANA 2018. I PROJEKCIJE 2019. I 2020.g. | K3: Sjedište i adresa: ROVINJ-ROVIGNO, De Amicis 31
C4: Telefon/fax: 052 814 176 | H4: RASHODI | K4: Telefon/fax: 052 814 176
C5: Žiro-račun škole: HR9223400091110418489 | K5: Žiro-račun škole: HR3423400091511359042
C6: OIB: 10372585831 | K6: OIB: 10372585831
L13: PRIJEDLOG ( NACRT ) FINANCIJSKOG PLANA 2017. I PROJEKCIJE ZA 2018. I 2019. GODINU | M13: PRIJEDLOG ( NACRT ) FINANCIJSKOG PLANA 2017. I PROJEKCIJE ZA 2018. I 2019. GODINU | N13: PRIJEDLOG ( NACRT ) FINANCIJSKOG PLANA 2017. I PROJEKCIJE ZA 2018. I 2019. GODINU | O13: PRIJEDLOG ( NACRT ) FINANCIJSKOG PLANA 2017. I PROJEKCIJE ZA 2018. I 2019. GODINU | P13: PRIJEDLOG ( NACRT ) FINANCIJSKOG PLANA 2017. I PROJEKCIJE ZA 2018. I 2019. GODINU | Q13: PRIJEDLOG ( NACRT ) FINANCIJSKOG PLANA 2017. I PROJEKCIJE ZA 2018. I 2019. GODINU | R13: PRIJEDLOG ( NACRT ) FINANCIJSKOG PLANA 2017. I PROJEKCIJE ZA 2018. I 2019. GODINU | S13: FINANCIJSKI PLAN ZA 2026., PROJEKCIJE 2027.-2028.
F14: - | J14: A | K14: RAČUN PRIHODA I RASHODA
P15: ovu kolonu NE DIRATI !!!
K16: PRIHODI I PRIMICI
E18: izvor | J18: konto | K18: opis | L18: BAZA za kopiranje - NE DIRAJ | P18: povećanje / smanjenje | S18: 110 -Opći prihodi i primic | T18: 111 - Opći prihodi i primici po decentralizaciji | U18: 311 - Vlastiti prihodi - pr.korisnici | V18: 431-Prihodi posebne namjene-pr.korisnici | W18: 50111 -Pomoći iz drž.proračuna-pr.korisnici | X18: 5021 - Pomoći za min.standard dec.funkcija | Y18: 5023 - Pomoći iz državnog proračuna - COP-pr.korisnici | Z18: 5231 - Pomoći (ŽP,GR,OP)-pr.korisnici | AA18: 5611 - Europski socijalni fond plus-pr.korisnici | AB18: 611 - Donacije | AC18: 711 - Prih od prodaje ili zamjene nefinancijske imovine i naknade štete od osiguranja | AD18: 811 - Namjenski primici od zaduživanja | AE18: 511 - DIREKTNO MZO | AF18: Sveukupno 2026. | AG18: PROJEKCIJA 2027. | AH18: PROJEKCIJA 2028.
E19: 0 | J19: 01 | K19: 02 | S19: 10 | T19: 11 | U19: 13 | V19: 14 | W19: 15 | Y19: 25 | Z19: 16 | AA19: 17 | AB19: 19 | AC19: 20 | AD19: 21 | AE19: 26 | AF19: 27 | AG19: 28 | AH19: 29
J20: Prihodi i primici | L20: =SUM(L21+L174+L176) -> 0 | M20: =SUM(M21+M174+M176) -> 0 | N20: =SUM(N21+N174+N176) -> 0 | O20: =SUM(O21+O174+O176) -> 0 | P20: =SUM(P21+P174+P176) -> 0 | Q20: =SUM(Q21+Q174+Q176) -> 0 | S20: =SUM(S21+S174+S176) -> 337800 | T20: =SUM(T21+T174+T176) -> 79311.52 | U20: =SUM(U21+U174+U176) -> 700 | V20: =SUM(V21+V174+V176) -> 56000 | W20: =SUM(W21+W174+W176) -> 87470 | X20: =SUM(X21+X174+X176) -> 22918.48 | Y20: =SUM(Y21+Y174+Y176) -> 1610000 | Z20: =SUM(Z21+Z174+Z176) -> 4400 | ... AE20: =SUM(AE21+AE174+AE176) -> 0 | AF20: =SUM(S20:AD20) -> 2305300 | AG20: =SUM(AG21+AG174+AG176) -> 2397500 | AH20: =SUM(AH21+AH174+AH176) -> 2421600
J21: prihodi iz poslovnih aktivnosti | L21: =SUM(L22+L149) -> 0 | M21: =SUM(M22+M149) -> 0 | N21: =SUM(N22+N149) -> 0 | O21: =SUM(O22+O149) -> 0 | P21: =SUM(P22+P149) -> 0 | Q21: =SUM(Q22+Q149) -> 0 | S21: =SUM(S22+S149) -> 337800 | T21: =SUM(T22+T149) -> 79311.52 | U21: =SUM(U22+U149) -> 700 | V21: =SUM(V22+V149) -> 56000 | W21: =SUM(W22+W149) -> 87470 | X21: =SUM(X22+X149) -> 22918.48 | Y21: =SUM(Y22+Y149) -> 1610000 | Z21: =SUM(Z22+Z149) -> 4400 | ... AE21: =SUM(AE22+AE149) -> 0 | AF21: =SUM(S21:AD21) -> 2305300 | AG21: =SUM(AG22+AG149) -> 2397500 | AH21: =SUM(AH22+AH149) -> 2421600
J22: 6 | K22: prihodi poslovanja | L22: =SUM(L23+L91+L104+L119+L137+L143) -> 0 | M22: =SUM(M23+M91+M104+M119+M137+M143) -> 0 | N22: =SUM(N23+N91+N104+N119+N137+N143) -> 0 | O22: =SUM(O23+O91+O104+O119+O137+O143) -> 0 | P22: =SUM(P23+P91+P104+P119+P137+P143) -> 0 | Q22: =SUM(Q23+Q91+Q104+Q119+Q137+Q143) -> 0 | S22: =SUM(S23+S91+S104+S119+S137+S143) -> 337800 | T22: =SUM(T23+T91+T104+T119+T137+T143) -> 79311.52 | U22: =SUM(U23+U91+U104+U119+U137+U143) -> 700 | V22: =SUM(V23+V91+V104+V119+V137+V143) -> 56000 | W22: =SUM(W23+W91+W104+W119+W137+W143) -> 87470 | X22: =SUM(X23+X91+X104+X119+X137+X143) -> 22918.48 | Y22: =SUM(Y23+Y91+Y104+Y119+Y137+Y143) -> 1610000 | Z22: =SUM(Z23+Z91+Z104+Z119+Z137+Z143) -> 4400 | ... AE22: =SUM(AE23+AE91+AE104+AE119+AE137+AE143) -> 0 | AF22: =SUM(S22:AD22) -> 2305300 | AG22: =SUM(AG23+AG91+AG104+AG119+AG137+AG143) -> 2397500 | AH22: =SUM(AH23+AH91+AH104+AH119+AH137+AH143) -> 2421600
J23: 63 | K23: pomoći iz inozemstva i od subjekata unutar općeg proračuna | L23: =SUM(L24+L30+L42+L61+L71+L78) -> 0 | M23: =SUM(M24+M30+M42+M61+M71+M78) -> 0 | N23: =SUM(N24+N30+N42+N61+N71+N78) -> 0 | O23: =SUM(O24+O30+O42+O61+O71+O78) -> 0 | P23: =SUM(P24+P30+P42+P61+P71+P78) -> 0 | Q23: =SUM(Q24+Q30+Q42+Q61+Q71+Q78) -> 0 | S23: =SUM(S24+S30+S42+S61+S71+S78) -> 0 | T23: =SUM(T24+T30+T42+T61+T71+T78) -> 0 | U23: =SUM(U24+U30+U42+U61+U71+U78) -> 0 | V23: =SUM(V24+V30+V42+V61+V71+V78) -> 0 | W23: =SUM(W24+W30+W42+W61+W71+W78+W87) -> 87470 | X23: =SUM(X24+X30+X42+X61+X71+X78+X87) -> 0 | Y23: =SUM(Y24+Y30+Y42+Y61+Y71+Y78) -> 1610000 | Z23: =SUM(Z24+Z30+Z42+Z61+Z71+Z78+Z87) -> 4400 | AA23: =SUM(AA24+AA30+AA42+AA61+AA71+AA78+AA87) -> 102500 | AB23: =SUM(AB24+AB30+AB42+AB61+AB71+AB78) -> 0 | AC23: =SUM(AC24+AC30+AC42+AC61+AC71+AC78) -> 0 | AD23: =SUM(AD24+AD30+AD42+AD61+AD71+AD78) -> 0 | AE23: =SUM(AE24+AE30+AE42+AE61+AE71+AE78) -> 0 | AF23: =SUM(S23:AD23) -> 1804370 | AG23: 1876545 | AH23: 1895346
E24: 54 | J24: 631 | K24: pomoći od inozemnih vlada | L24: =SUM(L25+L28) -> 0 | M24: =SUM(M25+M28) -> 0 | N24: =SUM(N25+N28) -> 0 | O24: =SUM(O25+O28) -> 0 | P24: =SUM(P25+P28) -> 0 | Q24: =SUM(Q25+Q28) -> 0 | S24: =SUM(S25+S28) -> 0 | T24: =SUM(T25+T28) -> 0 | U24: =SUM(U25+U28) -> 0 | W24: =SUM(W25+W28) -> 0 | X24: =SUM(X25+X28) -> 0 | Y24: =SUM(Y25+Y28) -> 0 | Z24: =SUM(Z25+Z28) -> 0 | AA24: =SUM(AA25+AA28) -> 0 | AB24: =SUM(AB25+AB28) -> 0 | AC24: =SUM(AC25+AC28) -> 0 | AD24: =SUM(AD25+AD28) -> 0 | AE24: =SUM(AE25+AE28) -> 0 | AF24: =SUM(S24:AD24) -> 0 | AG24: =SUM(AG25+AG28) -> 0 | AH24: =SUM(AH25+AH28) -> 0
E25: 54 | J25: 6311 | K25: tekuće pomoći od inozemnih vlada | L25: =SUM(L26:L27) -> 0 | M25: =SUM(M26:M27) -> 0 | N25: =SUM(N26:N27) -> 0 | O25: =SUM(O26:O27) -> 0 | P25: =SUM(P26:P27) -> 0 | Q25: =SUM(Q26:Q27) -> 0 | S25: =SUM(S26:S27) -> 0 | T25: =SUM(T26:T27) -> 0 | U25: =SUM(U26:U27) -> 0 | W25: =SUM(W26:W27) -> 0 | X25: =SUM(X26:X27) -> 0 | Y25: =SUM(Y26:Y27) -> 0 | Z25: =SUM(Z26:Z27) -> 0 | AA25: =SUM(AA26:AA27) -> 0 | AB25: =SUM(AB26:AB27) -> 0 | AC25: =SUM(AC26:AC27) -> 0 | AD25: =SUM(AD26:AD27) -> 0 | AE25: =SUM(AE26:AE27) -> 0 | AF25: =SUM(S25:AD25) -> 0 | AG25: =SUM(AG26:AG27) -> 0 | AH25: =SUM(AH26:AH27) -> 0
E26: 54 | J26: 63111 | K26: tekuće pomoći od inozemnih vlada u EU | P26: =Q26-O26 -> 0 | AF26: =SUM(S26:AD26) -> 0
E27: 54 | J27: 63111 | K27: tekuće pomoći od inozemnih vlada u EU | P27: =Q27-O27 -> 0 | AF27: =SUM(S27:AD27) -> 0
E28: 54 | J28: 6312 | K28: kapitalne pomoći od inozemnih vlada | L28: =SUM(L29:L29) -> 0 | M28: =SUM(M29:M29) -> 0 | N28: =SUM(N29:N29) -> 0 | O28: =SUM(O29:O29) -> 0 | P28: =SUM(P29:P29) -> 0 | Q28: =SUM(Q29:Q29) -> 0 | S28: =SUM(S29:S29) -> 0 | T28: =SUM(T29:T29) -> 0 | U28: =SUM(U29:U29) -> 0 | W28: =SUM(W29:W29) -> 0 | X28: =SUM(X29:X29) -> 0 | Y28: =SUM(Y29:Y29) -> 0 | Z28: =SUM(Z29:Z29) -> 0 | AA28: =SUM(AA29:AA29) -> 0 | AB28: =SUM(AB29:AB29) -> 0 | AC28: =SUM(AC29:AC29) -> 0 | AD28: =SUM(AD29:AD29) -> 0 | AE28: =SUM(AE29:AE29) -> 0 | AF28: =SUM(S28:AD28) -> 0 | AG28: =SUM(AG29:AG29) -> 0 | AH28: =SUM(AH29:AH29) -> 0
E29: 54 | J29: 63121 | K29: kapitalne pomoći od inozemnih vlada u EU | P29: =Q29-O29 -> 0 | AF29: =SUM(S29:AD29) -> 0
D30: 38 | E30: 54 | J30: 632 | K30: pomoći od međunarodnih organizacija te institucija i tijela EU | L30: =SUM(L31+L33+L35+L39) -> 0 | M30: =SUM(M31+M33+M35+M39) -> 0 | N30: =SUM(N31+N33+N35+N39) -> 0 | O30: =SUM(O31+O33+O35+O39) -> 0 | P30: =SUM(P31+P33+P35+P39) -> 0 | Q30: =SUM(Q31+Q33+Q35+Q39) -> 0 | S30: =SUM(S31+S33+S35+S39) -> 0 | T30: =SUM(T31+T33+T35+T39) -> 0 | U30: =SUM(U31+U33+U35+U39) -> 0 | W30: =SUM(W31+W33+W35+W39) -> 0 | X30: =SUM(X31+X33+X35+X39) -> 0 | Y30: =SUM(Y31+Y33+Y35+Y39) -> 0 | Z30: =SUM(Z31+Z33+Z35+Z39) -> 0 | AA30: =SUM(AA31+AA33+AA35+AA39) -> 0 | AB30: =SUM(AB31+AB33+AB35+AB39) -> 0 | AC30: =SUM(AC31+AC33+AC35+AC39) -> 0 | AD30: =SUM(AD31+AD33+AD35+AD39) -> 0 | AE30: =SUM(AE31+AE33+AE35+AE39) -> 0 | AF30: =SUM(S30:AD30) -> 0 | AG30: =SUM(AG31+AG33+AG35+AG39) -> 0 | AH30: =SUM(AH31+AH33+AH35+AH39) -> 0
D31: 39 | E31: 54 | J31: 6321 | K31: tekuće pomoći od međunarodnih organizacija | L31: =SUM(L32) -> 0 | M31: =SUM(M32) -> 0 | N31: =SUM(N32) -> 0 | O31: =SUM(O32) -> 0 | P31: =SUM(P32) -> 0 | Q31: =SUM(Q32) -> 0 | S31: =SUM(S32) -> 0 | T31: =SUM(T32) -> 0 | U31: =SUM(U32) -> 0 | W31: =SUM(W32) -> 0 | X31: =SUM(X32) -> 0 | Y31: =SUM(Y32) -> 0 | Z31: =SUM(Z32) -> 0 | AA31: =SUM(AA32) -> 0 | AB31: =SUM(AB32) -> 0 | AC31: =SUM(AC32) -> 0 | AD31: =SUM(AD32) -> 0 | AE31: =SUM(AE32) -> 0 | AF31: =SUM(S31:AD31) -> 0 | AG31: =SUM(AG32) -> 0 | AH31: =SUM(AH32) -> 0
D32: 40 | E32: 54 | J32: 63211 | K32: tekuće pomoći od međunarodnih organizacija | P32: =Q32-O32 -> 0 | AA32: 0 | AF32: =SUM(S32:AD32) -> 0
D33: 39 | E33: 54 | J33: 6322 | K33: kapitalne pomoći od međunarodnih organizacija | L33: =SUM(L34) -> 0 | M33: =SUM(M34) -> 0 | N33: =SUM(N34) -> 0 | O33: =SUM(O34) -> 0 | P33: =SUM(P34) -> 0 | Q33: =SUM(Q34) -> 0 | S33: =SUM(S34) -> 0 | T33: =SUM(T34) -> 0 | U33: =SUM(U34) -> 0 | W33: =SUM(W34) -> 0 | X33: =SUM(X34) -> 0 | Y33: =SUM(Y34) -> 0 | Z33: =SUM(Z34) -> 0 | AA33: =SUM(AA34) -> 0 | AB33: =SUM(AB34) -> 0 | AC33: =SUM(AC34) -> 0 | AD33: =SUM(AD34) -> 0 | AE33: =SUM(AE34) -> 0 | AF33: =SUM(S33:AD33) -> 0 | AG33: =SUM(AG34) -> 0 | AH33: =SUM(AH34) -> 0
D34: 40 | E34: 54 | J34: 63221 | K34: kapitalne pomoći od međunarodnih organizacija | P34: =Q34-O34 -> 0 | AA34: 0 | AF34: =SUM(S34:AD34) -> 0
E35: 54 | J35: 6323 | K35: tekuće pomoći od institucija i tijela EU | L35: =SUM(L36:L38) -> 0 | M35: =SUM(M36:M38) -> 0 | N35: =SUM(N36:N38) -> 0 | O35: =SUM(O36:O38) -> 0 | P35: =SUM(P36:P38) -> 0 | Q35: =SUM(Q36:Q38) -> 0 | S35: =SUM(S36:S38) -> 0 | T35: =SUM(T36:T38) -> 0 | U35: =SUM(U36:U38) -> 0 | W35: =SUM(W36:W38) -> 0 | X35: =SUM(X36:X38) -> 0 | Y35: =SUM(Y36:Y38) -> 0 | Z35: =SUM(Z36:Z38) -> 0 | AA35: =SUM(AA36:AA38) -> 0 | AB35: =SUM(AB36:AB38) -> 0 | AC35: =SUM(AC36:AC38) -> 0 | AD35: =SUM(AD36:AD38) -> 0 | AE35: =SUM(AE36:AE38) -> 0 | AF35: =SUM(S35:AD35) -> 0 | AG35: =SUM(AG36:AG38) -> 0 | AH35: =SUM(AH36:AH38) -> 0
E36: 54 | J36: 63231 | K36: tekuće pomoći od institucija i tijela EU | P36: =Q36-O36 -> 0 | AF36: =SUM(S36:AD36) -> 0
E37: 54 | J37: 63231 | K37: tekuće pomoći od institucija i tijela EU | P37: =Q37-O37 -> 0 | AF37: =SUM(S37:AD37) -> 0
E38: 54 | J38: 63231 | K38: tekuće pomoći od institucija i tijela EU | P38: =Q38-O38 -> 0 | AF38: =SUM(S38:AD38) -> 0
E39: 54 | J39: 6324 | K39: kapitalne pomoći od institucija i tijela EU | L39: =SUM(L40:L41) -> 0 | M39: =SUM(M40:M41) -> 0 | N39: =SUM(N40:N41) -> 0 | O39: =SUM(O40:O41) -> 0 | P39: =SUM(P40:P41) -> 0 | Q39: =SUM(Q40:Q41) -> 0 | S39: =SUM(S40:S41) -> 0 | T39: =SUM(T40:T41) -> 0 | U39: =SUM(U40:U41) -> 0 | W39: =SUM(W40:W41) -> 0 | X39: =SUM(X40:X41) -> 0 | Y39: =SUM(Y40:Y41) -> 0 | Z39: =SUM(Z40:Z41) -> 0 | AA39: =SUM(AA40:AA41) -> 0 | AB39: =SUM(AB40:AB41) -> 0 | AC39: =SUM(AC40:AC41) -> 0 | AD39: =SUM(AD40:AD41) -> 0 | AE39: =SUM(AE40:AE41) -> 0 | AF39: =SUM(S39:AD39) -> 0 | AG39: =SUM(AG40:AG41) -> 0 | AH39: =SUM(AH40:AH41) -> 0
E40: 54 | J40: 63241 | K40: kapitalne pomoći od institucija i tijela EU | P40: =Q40-O40 -> 0 | AF40: =SUM(S40:AD40) -> 0
E41: 54 | J41: 63241 | K41: kapitalne pomoći od institucija i tijela EU | P41: =Q41-O41 -> 0 | AF41: =SUM(S41:AD41) -> 0
E42: 53 | J42: 633 | K42: pomoći iz proračuna | L42: =SUM(L43+L52) -> 0 | M42: =SUM(M43+M52) -> 0 | N42: =SUM(N43+N52) -> 0 | O42: =SUM(O43+O52) -> 0 | P42: =SUM(P43+P52) -> 0 | Q42: =SUM(Q43+Q52) -> 0 | S42: =SUM(S43+S52) -> 0 | T42: =SUM(T43+T52) -> 0 | U42: =SUM(U43+U52) -> 0 | W42: =SUM(W43+W52) -> 0 | X42: =SUM(X43+X52) -> 0 | Y42: =SUM(Y43+Y52) -> 0 | Z42: =SUM(Z43+Z52) -> 0 | AA42: =SUM(AA43+AA52) -> 0 | AB42: =SUM(AB43+AB52) -> 0 | AC42: =SUM(AC43+AC52) -> 0 | AD42: =SUM(AD43+AD52) -> 0 | AE42: =SUM(AE43+AE52) -> 0 | AF42: =SUM(S42:AD42) -> 0 | AG42: =SUM(AG43+AG52) -> 0 | AH42: =SUM(AH43+AH52) -> 0
E43: 53 | J43: 6331 | K43: tekuće pomoći iz proračuna | L43: =SUM(L44:L51) -> 0 | M43: =SUM(M44:M51) -> 0 | N43: =SUM(N44:N51) -> 0 | O43: =SUM(O44:O51) -> 0 | P43: =SUM(P44:P51) -> 0 | Q43: =SUM(Q44:Q51) -> 0 | S43: =SUM(S44:S51) -> 0 | T43: =SUM(T44:T51) -> 0 | U43: =SUM(U44:U51) -> 0 | W43: =SUM(W44:W51) -> 0 | X43: =SUM(X44:X51) -> 0 | Y43: =SUM(Y44:Y51) -> 0 | Z43: =SUM(Z44:Z51) -> 0 | AA43: =SUM(AA44:AA51) -> 0 | AB43: =SUM(AB44:AB51) -> 0 | AC43: =SUM(AC44:AC51) -> 0 | AD43: =SUM(AD44:AD51) -> 0 | AE43: =SUM(AE44:AE51) -> 0 | AF43: =SUM(S43:AD43) -> 0 | AG43: =SUM(AG44:AG51) -> 0 | AH43: =SUM(AH44:AH51) -> 0
E44: 53 | J44: 63311 | K44: proračun RH za predškolstvo - DV Neven, program predškole | P44: =Q44-O44 -> 0 | AF44: =SUM(S44:AD44) -> 0
E45: 53 | J45: 63311 | K45: proračun RH za predškolstvo - DV-GI Naridola, programi manjina | P45: =Q45-O45 -> 0 | AF45: =SUM(S45:AD45) -> 0
E46: 53 | J46: 63311 | K46: proračun RH za predškolstvo - DV-GI Naridola, program predškole | P46: =Q46-O46 -> 0 | AF46: =SUM(S46:AD46) -> 0
E47: 53 | J47: 63311 | K47: proračun RH - program zaštite od požara | P47: =Q47-O47 -> 0 | AF47: =SUM(S47:AD47) -> 0
E48: 53 | J48: 63311 | K48: proračun RH - Min.regionalnog razvoja - sufin MOZAIKa (asistenti u nastavi) | P48: =Q48-O48 -> 0 | AF48: =SUM(S48:AD48) -> 0
E49: 53 | J49: 63312 | K49: proračun IŽ - socijalna skrb - ogrijev | P49: =Q49-O49 -> 0 | AF49: =SUM(S49:AD49) -> 0
E50: 53 | J50: 63312 | K50: proračun IŽ - ostalo | P50: =Q50-O50 -> 0 | AF50: =SUM(S50:AD50) -> 0
E51: 53 | J51: 63312 | K51: proračun IŽ - ostalo | P51: =Q51-O51 -> 0 | AF51: =SUM(S51:AD51) -> 0
E52: 53 | J52: 6332 | K52: kapitalne pomoći iz proračuna | L52: =SUM(L53:L60) -> 0 | M52: =SUM(M53:M60) -> 0 | N52: =SUM(N53:N60) -> 0 | O52: =SUM(O53:O60) -> 0 | P52: =SUM(P53:P60) -> 0 | Q52: =SUM(Q53:Q60) -> 0 | S52: =SUM(S53:S60) -> 0 | T52: =SUM(T53:T60) -> 0 | U52: =SUM(U53:U60) -> 0 | W52: =SUM(W53:W60) -> 0 | X52: =SUM(X53:X60) -> 0 | Y52: =SUM(Y53:Y60) -> 0 | Z52: =SUM(Z53:Z60) -> 0 | AA52: =SUM(AA53:AA60) -> 0 | AB52: =SUM(AB53:AB60) -> 0 | AC52: =SUM(AC53:AC60) -> 0 | AD52: =SUM(AD53:AD60) -> 0 | AE52: =SUM(AE53:AE60) -> 0 | AF52: =SUM(S52:AD52) -> 0 | AG52: =SUM(AG53:AG60) -> 0 | AH52: =SUM(AH53:AH60) -> 0
E53: 53 | J53: 63321 | K53: kapitalne pomoći iz proračuna RH - Min xy - NAMJENA | P53: =Q53-O53 -> 0 | AF53: =SUM(S53:AD53) -> 0
E54: 53 | J54: 63321 | K54: kapitalne pomoći iz proračuna RH - Min xy - NAMJENA | P54: =Q54-O54 -> 0 | AF54: =SUM(S54:AD54) -> 0
E55: 53 | J55: 63321 | K55: kapitalne pomoći iz proračuna RH - Min xy - NAMJENA | P55: =Q55-O55 -> 0 | AF55: =SUM(S55:AD55) -> 0
E56: 53 | J56: 63321 | K56: kapitalne pomoći iz proračuna RH - Min xy - NAMJENA | P56: =Q56-O56 -> 0 | AF56: =SUM(S56:AD56) -> 0
E57: 53 | J57: 63321 | K57: kapitalne pomoći iz proračuna RH - Min xy - NAMJENA | P57: =Q57-O57 -> 0 | AF57: =SUM(S57:AD57) -> 0
E58: 53 | J58: 63322 | K58: kapitalne pomoći iz prorač IŽ - NAMJENA | P58: =Q58-O58 -> 0 | AF58: =SUM(S58:AD58) -> 0
E59: 53 | J59: 63323 | K59: kapitalne pomoći iz gradskih proračuna - NAMJENA | P59: =Q59-O59 -> 0 | AF59: =SUM(S59:AD59) -> 0
E60: 53 | J60: 63324 | K60: kapitalne pomoći iz gradskih proračuna - NAMJENA | P60: =Q60-O60 -> 0 | AF60: =SUM(S60:AD60) -> 0
E61: 42 | H61: 53 | J61: 634 | K61: pomoći od ostalih subjekata unutar općeg proračuna | L61: =SUM(L62+L65) -> 0 | M61: =SUM(M62+M65) -> 0 | N61: =SUM(N62+N65) -> 0 | O61: =SUM(O62+O65) -> 0 | P61: =SUM(P62+P65) -> 0 | Q61: =SUM(Q62+Q65) -> 0 | S61: =SUM(S62+S65) -> 0 | T61: =SUM(T62+T65) -> 0 | U61: =SUM(U62+U65) -> 0 | V61: =SUM(V62+V65) -> 0 | W61: =SUM(W62+W65) -> 0 | X61: =SUM(X62+X65) -> 0 | Y61: =SUM(Y62+Y65) -> 0 | Z61: =SUM(Z62+Z65) -> 0 | ... AE61: =SUM(AE62+AE65) -> 0 | AF61: =SUM(S61:AD61) -> 0 | AG61: =SUM(AG62+AG65) -> 0 | AH61: =SUM(AH62+AH65) -> 0
E62: 42 | H62: 53 | J62: 6341 | K62: tekuće pomoći od ostalih subjekata unutar općeg proračuna | L62: =SUM(L63:L64) -> 0 | M62: =SUM(M63:M64) -> 0 | N62: =SUM(N63:N64) -> 0 | O62: =SUM(O63:O64) -> 0 | P62: =SUM(P63:P64) -> 0 | Q62: =SUM(Q63:Q64) -> 0 | S62: =SUM(S63:S64) -> 0 | T62: =SUM(T63:T64) -> 0 | U62: =SUM(U63:U64) -> 0 | V62: =SUM(V63:V64) -> 0 | W62: =SUM(W63:W64) -> 0 | X62: =SUM(X63:X64) -> 0 | Y62: =SUM(Y63:Y64) -> 0 | Z62: =SUM(Z63:Z64) -> 0 | ... AE62: =SUM(AE63:AE64) -> 0 | AF62: =SUM(S62:AD62) -> 0 | AG62: =SUM(AG63:AG64) -> 0 | AH62: =SUM(AH63:AH64) -> 0
E63: 42 | H63: 53 | J63: 63414 | K63: Tekuće pomoći od HZMO-a, HZZ-a i HZZO-a | P63: =Q63-O63 -> 0 | W63: 0 | X63: 0 | AB63: 0 | AF63: =SUM(S63:AD63) -> 0
E64: 42 | H64: 53 | J64: 63416 | K64: tekuće pomoći od izvanproračunskih korisnika županijskih, gradskih i općinskih proračuna | P64: =Q64-O64 -> 0 | AF64: =SUM(S64:AD64) -> 0
E65: 42 | H65: 53 | J65: 6342 | K65: kapitalne pomoći od ostalih subjekata unutar općeg proračuna | L65: =SUM(L66:L70) -> 0 | M65: =SUM(M66:M70) -> 0 | N65: =SUM(N66:N70) -> 0 | O65: =SUM(O66:O70) -> 0 | P65: =SUM(P66:P70) -> 0 | Q65: =SUM(Q66:Q70) -> 0 | S65: =SUM(S66:S70) -> 0 | T65: =SUM(T66:T70) -> 0 | U65: =SUM(U66:U70) -> 0 | W65: =SUM(W66:W70) -> 0 | X65: =SUM(X66:X70) -> 0 | Y65: =SUM(Y66:Y70) -> 0 | Z65: =SUM(Z66:Z70) -> 0 | AA65: =SUM(AA66:AA70) -> 0 | AB65: =SUM(AB66:AB70) -> 0 | AC65: =SUM(AC66:AC70) -> 0 | AD65: =SUM(AD66:AD70) -> 0 | AE65: =SUM(AE66:AE70) -> 0 | AF65: =SUM(S65:AD65) -> 0 | AG65: =SUM(AG66:AG70) -> 0 | AH65: =SUM(AH66:AH70) -> 0
E66: 42 | H66: 53 | J66: 63425 | K66: kapitalne pomoći od ostalih izvanproračunskih korisnika državnog proračuna - SUBJEKT - NAMJENA | P66: =Q66-O66 -> 0 | AF66: =SUM(S66:AD66) -> 0
E67: 42 | H67: 53 | J67: 63425 | K67: kapitalne pomoći od ostalih izvanproračunskih korisnika državnog proračuna - SUBJEKT - NAMJENA | P67: =Q67-O67 -> 0 | AF67: =SUM(S67:AD67) -> 0
E68: 42 | H68: 53 | J68: 63425 | K68: kapitalne pomoći od ostalih izvanproračunskih korisnika državnog proračuna - SUBJEKT - NAMJENA | P68: =Q68-O68 -> 0 | AF68: =SUM(S68:AD68) -> 0
E69: 42 | H69: 53 | J69: 63426 | K69: kapitalne pomoći od izvanproračunskih korisnika županijskih, gradskih i općinskih proračuna - SUBJEKT - NAMJENA | P69: =Q69-O69 -> 0 | AF69: =SUM(S69:AD69) -> 0
E70: 42 | H70: 53 | J70: 63426 | K70: kapitalne pomoći od izvanproračunskih korisnika županijskih, gradskih i općinskih proračuna - SUBJEKT - NAMJENA | P70: =Q70-O70 -> 0 | AF70: =SUM(S70:AD70) -> 0
D71: 66 | E71: 50 | J71: 635 | K71: pomoći izravnanja za decentralizirane funkcije | L71: =SUM(L72+L75) -> 0 | M71: =SUM(M72+M75) -> 0 | N71: =SUM(N72+N75) -> 0 | O71: =SUM(O72+O75) -> 0 | P71: =SUM(P72+P75) -> 0 | Q71: =SUM(Q72+Q75) -> 0 | S71: =SUM(S72+S75) -> 0 | T71: =SUM(T72+T75) -> 0 | U71: =SUM(U72+U75) -> 0 | W71: =SUM(W72+W75) -> 0 | X71: =SUM(X72+X75) -> 0 | Y71: =SUM(Y72+Y75) -> 0 | Z71: =SUM(Z72+Z75) -> 0 | AA71: =SUM(AA72+AA75) -> 0 | AB71: =SUM(AB72+AB75) -> 0 | AC71: =SUM(AC72+AC75) -> 0 | AD71: =SUM(AD72+AD75) -> 0 | AE71: =SUM(AE72+AE75) -> 0 | AF71: =SUM(S71:AD71) -> 0 | AG71: =SUM(AG72+AG75) -> 0 | AH71: =SUM(AH72+AH75) -> 0
D72: 67 | E72: 50 | J72: 6351 | K72: tekuće pomoći izravnanja za decentralizirane funkcije | L72: =SUM(L73:L74) -> 0 | M72: =SUM(M73:M74) -> 0 | N72: =SUM(N73:N74) -> 0 | O72: =SUM(O73:O74) -> 0 | P72: =SUM(P73:P74) -> 0 | Q72: =SUM(Q73:Q74) -> 0 | S72: =SUM(S73:S74) -> 0 | T72: =SUM(T73:T74) -> 0 | U72: =SUM(U73:U74) -> 0 | W72: =SUM(W73:W74) -> 0 | X72: =SUM(X73:X74) -> 0 | Y72: =SUM(Y73:Y74) -> 0 | Z72: =SUM(Z73:Z74) -> 0 | AA72: =SUM(AA73:AA74) -> 0 | AB72: =SUM(AB73:AB74) -> 0 | AC72: =SUM(AC73:AC74) -> 0 | AD72: =SUM(AD73:AD74) -> 0 | AE72: =SUM(AE73:AE74) -> 0 | AF72: =SUM(S72:AD72) -> 0 | AG72: =SUM(AG73:AG74) -> 0 | AH72: =SUM(AH73:AH74) -> 0
D73: 68 | E73: 50 | J73: 63511 | K73: tekuće pomoći iz državnog proračuna - Fond izravnanja - dio za decentralizirane funkcije OŠ | P73: =Q73-O73 -> 0 | AF73: =SUM(S73:AD73) -> 0
D74: 69 | E74: 50 | J74: 63511 | K74: tekuće pomoći iz državnog proračuna - Fond izravnanja - dio za decentralizirane funkcije - vatrogastvo - za 88% obveze grada | P74: =Q74-O74 -> 0 | AF74: =SUM(S74:AD74) -> 0
D75: 70 | E75: 50 | J75: 6352 | K75: kapitalne pomoći izravnanja za decentralizirane funkcije | L75: =SUM(L76:L77) -> 0 | M75: =SUM(M76:M77) -> 0 | N75: =SUM(N76:N77) -> 0 | O75: =SUM(O76:O77) -> 0 | P75: =SUM(P76:P77) -> 0 | Q75: =SUM(Q76:Q77) -> 0 | S75: =SUM(S76:S77) -> 0 | T75: =SUM(T76:T77) -> 0 | U75: =SUM(U76:U77) -> 0 | W75: =SUM(W76:W77) -> 0 | X75: =SUM(X76:X77) -> 0 | Y75: =SUM(Y76:Y77) -> 0 | Z75: =SUM(Z76:Z77) -> 0 | AA75: =SUM(AA76:AA77) -> 0 | AB75: =SUM(AB76:AB77) -> 0 | AC75: =SUM(AC76:AC77) -> 0 | AD75: =SUM(AD76:AD77) -> 0 | AE75: =SUM(AE76:AE77) -> 0 | AF75: =SUM(S75:AD75) -> 0 | AG75: =SUM(AG76:AG77) -> 0 | AH75: =SUM(AH76:AH77) -> 0
D76: 71 | E76: 50 | J76: 63521 | K76: kapitalne pomoći iz državnog proračuna - Fond izravnanja - dio za decentralizirane funkcije OŠ | P76: =Q76-O76 -> 0 | AF76: =SUM(S76:AD76) -> 0
D77: 72 | E77: 50 | J77: 63521 | K77: kapitalne pomoći iz državnog proračuna - Fond izravnanja - dio za decentralizirane funkcije vatrogastva | P77: =Q77-O77 -> 0 | U77: 0 | AF77: =SUM(S77:AD77) -> 0
D78: 66 | J78: 636 | K78: Pomoći proračunskim korisnicima iz proračuna koji im nije nadležan | L78: =SUM(L79+L84) -> 0 | M78: =SUM(M79+M84) -> 0 | N78: =SUM(N79+N84) -> 0 | O78: =SUM(O79+O84) -> 0 | P78: =SUM(P79+P84) -> 0 | Q78: =SUM(Q79+Q84) -> 0 | S78: =SUM(S79+S84) -> 0 | T78: =SUM(T79+T84) -> 0 | U78: =SUM(U79+U84) -> 0 | V78: =SUM(V79+V84) -> 0 | W78: =SUM(W79+W84) -> 87470 | X78: =SUM(X79+X84) -> 0 | Y78: =SUM(Y79+Y84) -> 1610000 | Z78: =SUM(Z79+Z84) -> 4400 | ... AE78: =SUM(AE79+AE84) -> 0 | AF78: =SUM(S78:AD78) -> 1701870 | AG78: =SUM(AG79+AG84) -> 0 | AH78: =SUM(AH79+AH84) -> 0
D79: 67 | J79: 6361 | K79: Tekuće pomoći proračunskim korisnicima iz proračuna koji im nije nadležan | L79: =SUM(L80:L83) -> 0 | M79: =SUM(M80:M83) -> 0 | N79: =SUM(N80:N83) -> 0 | O79: =SUM(O80:O83) -> 0 | P79: =SUM(P80:P83) -> 0 | Q79: =SUM(Q80:Q83) -> 0 | S79: =SUM(S80:S83) -> 0 | T79: =SUM(T80:T83) -> 0 | W79: =SUM(W80:W83) -> 61770 | X79: =SUM(X80:X83) -> 0 | Y79: =SUM(Y80:Y83) -> 1610000 | Z79: =SUM(Z80:Z83) -> 3900 | AA79: =SUM(AA80:AA83) -> 0 | AB79: =SUM(AB80:AB83) -> 0 | AC79: =SUM(AC80:AC83) -> 0 | AD79: =SUM(AD80:AD83) -> 0 | AE79: =SUM(AE80:AE83) -> 0 | AF79: =SUM(S79:AD79) -> 1675670 | AG79: =SUM(AG80:AG83) -> 0 | AH79: =SUM(AH80:AH83) -> 0
D80: 68 | J80: 63612 | K80: Tekuće pomoći iz državnog proračuna proračunskim korisnicima proračuna JLP(R)S MZOS - COP I NA ŽRN (531) | P80: =Q80-O80 -> 0 | U80: 0 | W80: 1770 | Y80: 1610000 | AF80: =SUM(S80:AD80) -> 1611770
D81: 69 | J81: 63613 | K81: Tekuće pomoći proračunskim korisnicima iz proračuna JLP(R)S koji im nije nadležan MZO-PREHRANA | P81: =Q81-O81 -> 0 | U81: 0 | W81: 60000 | AF81: =SUM(S81:AD81) -> 60000
D82: 69 | J82: 63613 | K82: Tekuće pomoći proračunskim korisnicima iz proračuna JLP(R)S koji im nije nadležan RAST LABIN | P82: =Q82-O82 -> 0 | U82: 0 | Z82: 0 | AF82: =SUM(S82:AD82) -> 0
D83: 69 | J83: 63613 | K83: Tekuće pomoći proračunskim korisnicima iz proračuna JLP(R)S koji im nije nadležan - ŽUPANIJA | P83: =Q83-O83 -> 0 | U83: 0 | Z83: 3900 | AF83: =SUM(S83:AD83) -> 3900
D84: 70 | J84: 6362 | K84: Kapitalne pomoći proračunskim korisnicima iz proračuna koji im nije nadležan | L84: =SUM(L85:L86) -> 0 | M84: =SUM(M85:M86) -> 0 | N84: =SUM(N85:N86) -> 0 | O84: =SUM(O85:O86) -> 0 | P84: =SUM(P85:P86) -> 0 | Q84: =SUM(Q85:Q86) -> 0 | S84: =SUM(S85:S86) -> 0 | T84: =SUM(T85:T86) -> 0 | U84: =SUM(U85:U86) -> 0 | V84: =SUM(V85:V86) -> 0 | W84: =SUM(W85:W86) -> 25700 | X84: =SUM(X85:X86) -> 0 | Y84: =SUM(Y85:Y86) -> 0 | Z84: =SUM(Z85:Z86) -> 500 | ... AE84: =SUM(AE85:AE86) -> 0 | AF84: =SUM(S84:AD84) -> 26200 | AG84: =SUM(AG85:AG86) -> 0 | AH84: =SUM(AH85:AH86) -> 0
D85: 71 | J85: 63622 | K85: Kapitalne pomoći iz državnog proračuna proračunskim korisnicima proračuna JLP(R)S MZO ZA UDŽBENIKE I LEKTIRU | P85: =Q85-O85 -> 0 | U85: 0 | W85: 25700 | Z85: 0 | AF85: =SUM(S85:AD85) -> 25700
D86: 72 | J86: 63623 | K86: Kapitalne pomoći proračunskim korisnicima iz proračuna JLP(R)S koji im nije nadležan BALE ZA UDŽBENIKE | P86: =Q86-O86 -> 0 | U86: 0 | Z86: 500 | AF86: =SUM(S86:AD86) -> 500
D87: 66 | J87: 638 | K87: Pomoći temeljem prijenosa EU sredstava | L87: =SUM(L88+L94) -> 0 | M87: =SUM(M88+M94) -> 0 | N87: =SUM(N88+N94) -> 0 | O87: =SUM(O88+O94) -> 0 | P87: =SUM(P88+P94) -> 0 | Q87: =SUM(Q88+Q94) -> 0 | S87: =SUM(S88+S94) -> 0 | T87: =SUM(T88+T94) -> 0 | U87: =SUM(U88) -> 0 | V87: =SUM(V88) -> 0 | W87: =SUM(W88+W94) -> 0 | X87: =SUM(X88+X94) -> 0 | Y87: =SUM(Y88+Y94) -> 0 | Z87: =SUM(Z88+Z94) -> 0 | AA87: =SUM(AA88+AA94) -> 102500 | AB87: =SUM(AB88+AB94) -> 0 | AC87: =SUM(AC88+AC94) -> 0 | AD87: =SUM(AD88+AD94) -> 0 | AE87: =SUM(AE88+AE94) -> 0 | AF87: =SUM(S87:AD87) -> 102500 | AG87: =SUM(AG88+AG94) -> 0 | AH87: =SUM(AH88+AH94) -> 0
D88: 67 | J88: 6381 | K88: Tekuće pomoći temeljem prijenosa EU sredstava | L88: =SUM(L89:L93) -> 0 | M88: =SUM(M89:M93) -> 0 | N88: =SUM(N89:N93) -> 0 | O88: =SUM(O89:O93) -> 0 | P88: =SUM(P89:P93) -> 0 | Q88: =SUM(Q89:Q93) -> 0 | S88: =SUM(S89:S93) -> 0 | T88: =SUM(T89:T93) -> 0 | U88: 0 | Y88: =SUM(Y89:Y93) -> 0 | Z88: =SUM(Z89:Z93) -> 0 | AA88: =SUM(AA89:AA93) -> 102500 | AB88: =SUM(AB89:AB93) -> 0 | AC88: =SUM(AC89:AC93) -> 0 | AD88: =SUM(AD89:AD93) -> 0 | AE88: =SUM(AE89:AE93) -> 0 | AF88: =SUM(S88:AD88) -> 102500 | AG88: =SUM(AG89) -> 0 | AH88: =SUM(AH89) -> 0
D89: 68 | J89: 63811 | K89: Tekuće pomoći iz državnog proračuna temeljem prijenosa EU sredstava - Projekt BE GITA (20%) + NOVI | P89: =Q89-O89 -> 0 | U89: 0 | Y89: 0 | AF89: =SUM(S89:AD89) -> 0
D90: 68 | J90: 63811 | K90: Tekuće pomoći iz državnog proračuna temeljem prijenosa EU sredstava - Projekt Pomoćnici u nastavi | P90: =Q90-O90 -> 0 | U90: 0 | Y90: 0 | AA90: 102500 | AF90: =SUM(S90:AD90) -> 102500
E91: 31 | J91: 64 | K91: prihodi od imovine | L91: =SUM(L92+L99) -> 0 | M91: =SUM(M92+M99) -> 0 | N91: =SUM(N92+N99) -> 0 | O91: =SUM(O92+O99) -> 0 | P91: =SUM(P92+P99) -> 0 | Q91: =SUM(Q92+Q99) -> 0 | S91: =SUM(S92+S99) -> 0 | T91: =SUM(T92+T99) -> 0 | U91: =SUM(U92+U99) -> 120 | V91: =SUM(V92+V99) -> 0 | W91: =SUM(W92+W99) -> 0 | X91: =SUM(X92+X99) -> 0 | Y91: =SUM(Y92+Y99) -> 0 | Z91: =SUM(Z92+Z99) -> 0 | ... AE91: =SUM(AE92+AE99) -> 0 | AF91: =SUM(S91:AD91) -> 120 | AG91: 125 | AH91: 126
E92: 31 | J92: 641 | K92: prih od financijske imovine | L92: =SUM(L93:L98) -> 0 | M92: =SUM(M93:M98) -> 0 | N92: =SUM(N93:N98) -> 0 | O92: =SUM(O93:O98) -> 0 | P92: =SUM(P93:P98) -> 0 | Q92: =SUM(Q93:Q98) -> 0 | S92: =SUM(S93:S98) -> 0 | T92: =SUM(T93:T98) -> 0 | U92: =SUM(U93:U98) -> 120 | V92: =SUM(V93:V98) -> 0 | W92: =SUM(W93:W98) -> 0 | X92: =SUM(X93:X98) -> 0 | Y92: =SUM(Y93:Y98) -> 0 | Z92: =SUM(Z93:Z98) -> 0 | ... AE92: =SUM(AE93:AE98) -> 0 | AF92: =SUM(S92:AD92) -> 120 | AG92: =SUM(AG93:AG98) -> 0 | AH92: =SUM(AH93:AH98) -> 0
E93: 31 | J93: 64131 | K93: prihodi od kamata na oročena sredstva | P93: =Q93-O93 -> 0 | AF93: =SUM(S93:AD93) -> 0
E94: 31 | J94: 64132 | K94: prihodi od kamata na sred po viđenju | P94: =Q94-O94 -> 0 | U94: 120 | AF94: =SUM(S94:AD94) -> 120
E95: 31 | J95: 64143 | K95: prihodi od zateznih kamata | P95: =Q95-O95 -> 0 | AF95: =SUM(S95:AD95) -> 0
E96: 31 | J96: 64151 | K96: pozitivne tečajne razlike | P96: =Q96-O96 -> 0 | AF96: =SUM(S96:AD96) -> 0
E97: 31 | J97: 64164 | K97: prihodi od dividendi | P97: =Q97-O97 -> 0 | AF97: =SUM(S97:AD97) -> 0
E98: 31 | J98: 64199 | K98: ostali prihodi od financijske imovine | P98: =Q98-O98 -> 0 | AF98: =SUM(S98:AD98) -> 0
E99: 31 | J99: 642 | K99: prih od nefinancijske imovine | L99: =SUM(L100) -> 0 | M99: =SUM(M100) -> 0 | N99: =SUM(N100) -> 0 | O99: =SUM(O100) -> 0 | P99: =SUM(P100) -> 0 | Q99: =SUM(Q100) -> 0 | S99: =SUM(S100) -> 0 | T99: =SUM(T100) -> 0 | U99: =SUM(U100) -> 0 | W99: =SUM(W100) -> 0 | Y99: =SUM(Y100) -> 0 | Z99: =SUM(Z100) -> 0 | AA99: =SUM(AA100) -> 0 | AB99: =SUM(AB100) -> 0 | AC99: =SUM(AC100) -> 0 | AD99: =SUM(AD100) -> 0 | AE99: =SUM(AE100) -> 0 | AF99: =SUM(S99:AD99) -> 0 | AG99: =SUM(AG100) -> 0 | AH99: =SUM(AH100) -> 0
E100: 31 | J100: 6422 | K100: prihodi od zakupa | L100: =SUM(L101:L103) -> 0 | M100: =SUM(M101:M103) -> 0 | N100: =SUM(N101:N103) -> 0 | O100: =SUM(O101:O103) -> 0 | P100: =SUM(P101:P103) -> 0 | Q100: =SUM(Q101:Q103) -> 0 | S100: =SUM(S101:S103) -> 0 | T100: =SUM(T101:T103) -> 0 | U100: =SUM(U101:U103) -> 0 | W100: =SUM(W101:W103) -> 0 | Y100: =SUM(Y101:Y103) -> 0 | Z100: =SUM(Z101:Z103) -> 0 | AA100: =SUM(AA101:AA103) -> 0 | AB100: =SUM(AB101:AB103) -> 0 | AC100: =SUM(AC101:AC103) -> 0 | AD100: =SUM(AD101:AD103) -> 0 | AE100: =SUM(AE101:AE103) -> 0 | AF100: =SUM(S100:AD100) -> 0 | AG100: =SUM(AG101:AG103) -> 0 | AH100: =SUM(AH101:AH103) -> 0
E101: 31 | J101: 64222 | K101: prihod od zakupa poljoprivrednog zemljišta | P101: =Q101-O101 -> 0 | AF101: =SUM(S101:AD101) -> 0
E102: 31 | J102: 64224 | K102: prihod od najma stanova | P102: =Q102-O102 -> 0 | AF102: =SUM(S102:AD102) -> 0
E103: 31 | J103: 64225 | K103: prihod od zakupa poslovnih prostora | P103: =Q103-O103 -> 0 | AF103: =SUM(S103:AD103) -> 0
J104: 65 | K104: prih.od administrativnih pristojbi i po poseb propisima | L104: =SUM(L105) -> 0 | M104: =SUM(M105) -> 0 | N104: =SUM(N105) -> 0 | O104: =SUM(O105) -> 0 | P104: =SUM(P105) -> 0 | Q104: =SUM(Q105) -> 0 | S104: =SUM(S105) -> 300 | T104: =SUM(T105) -> 0 | U104: =SUM(U105) -> 540 | V104: =SUM(V105) -> 56000 | W104: =SUM(W105) -> 0 | X104: =SUM(X105) -> 0 | Y104: =SUM(Y105) -> 0 | Z104: =SUM(Z105) -> 0 | ... AE104: =SUM(AE105) -> 0 | AF104: =SUM(S104:AD104) -> 56840 | AG104: 59101 | AH104: 59773
E105: 31 | H105: 42 | I105: 71 | J105: 652 | K105: prihodi po posebnim propisima | L105: =SUM(L106) -> 0 | M105: =SUM(M106) -> 0 | N105: =SUM(N106) -> 0 | O105: =SUM(O106) -> 0 | P105: =SUM(P106) -> 0 | Q105: =SUM(Q106) -> 0 | S105: =SUM(S106) -> 300 | T105: =SUM(T106) -> 0 | U105: =SUM(U106) -> 540 | V105: =SUM(V106) -> 56000 | W105: =SUM(W106) -> 0 | X105: =SUM(X106) -> 0 | Y105: =SUM(Y106) -> 0 | Z105: =SUM(Z106) -> 0 | ... AE105: =SUM(AE106) -> 0 | AF105: =SUM(S105:AD105) -> 56840 | AG105: =SUM(AG106) -> 0 | AH105: =SUM(AH106) -> 0
E106: 31 | H106: 42 | I106: 71 | J106: 6526 | K106: ostali nespomenuti prihodi | L106: =SUM(L107+L110+L112+L115) -> 0 | M106: =SUM(M107+M110+M112+M115) -> 0 | N106: =SUM(N107+N110+N112+N115) -> 0 | O106: =SUM(O107+O110+O112+O115) -> 0 | P106: =SUM(P107+P110+P112+P115) -> 0 | Q106: =SUM(Q107+Q110+Q112+Q115) -> 0 | S106: =SUM(S107+S110+S112+S115) -> 300 | T106: =SUM(T107+T110+T112+T115) -> 0 | U106: =SUM(U107+U110+U112+U115) -> 540 | V106: =SUM(V107+V110+V112+V115) -> 56000 | W106: =SUM(W107+W110+W112+W115) -> 0 | X106: =SUM(X107+X110+X112+X115) -> 0 | Y106: =SUM(Y107+Y110+Y112+Y115) -> 0 | Z106: =SUM(Z107+Z110+Z112+Z115) -> 0 | ... AE106: =SUM(AE107+AE110+AE112+AE115) -> 0 | AF106: =SUM(S106:AD106) -> 56840 | AG106: =SUM(AG107+AG110+AG112+AG115) -> 0 | AH106: =SUM(AH107+AH110+AH112+AH115) -> 0
E107: 42 | J107: 65264 | K107: sufinanciranja i participacije | L107: =SUM(L108:L109) -> 0 | M107: =SUM(M108:M109) -> 0 | N107: =SUM(N108:N109) -> 0 | O107: =SUM(O108:O109) -> 0 | P107: =SUM(P108:P109) -> 0 | Q107: =SUM(Q108:Q109) -> 0 | S107: =SUM(S108:S109) -> 300 | T107: =SUM(T108:T109) -> 0 | U107: =SUM(U108:U109) -> 0 | V107: =SUM(V108:V109) -> 56000 | W107: =SUM(W108:W109) -> 0 | X107: =SUM(X108:X109) -> 0 | Y107: =SUM(Y108:Y109) -> 0 | Z107: =SUM(Z108:Z109) -> 0 | ... AE107: =SUM(AE108:AE109) -> 0 | AF107: =SUM(S107:AD107) -> 56300 | AG107: =SUM(AG108:AG109) -> 0 | AH107: =SUM(AH108:AH109) -> 0
E108: 42 | J108: 65264 | K108: sufinanciranje - | P108: =Q108-O108 -> 0 | S108: 300 | T108: 0 | V108: 56000 | AF108: =SUM(S108:AD108) -> 56300
...

Sheet RASHODI i DI
C1: Naziv škole: Osnovna škola Vladimira Nazora-Scuola elementare "Vladimir Nazor"
C2: Sjedište i adresa: ROVINJ-ROVIGNO, De Amicis 31 | H2: FINANCIJSKI PLAN ZA 2026., PROJEKCIJE ZA 2027.-2028.
C3: Telefon/fax: 052 814 176 | H3: RASHODI
C4: Žiro-račun škole: HR3423400091511359042
C5: OIB: 10372585831
E6: PLAN 2017. | F6: ukupno PLAN 2017. | H6: 110 -Opći prihodi i primic | I6: 111 - Opći prihodi i primici po decentralizaciji | J6: 311 - Vlastiti prihodi - uplate roditelja i osoblja ( nastavnika i dr ) | K6: 431-Prihodi posebne namjene-pr.korisnici | L6: 50111 -Pomoći iz drž.proračuna-pr.korisnici | M6: 5021 - Pomoći za min.standard dec.funkcija | N6: 5023 - Pomoći iz državnog proračuna - COP-pr.korisnici | O6: 5231 - Pomoći (ŽP,GR,OP)-pr.korisnici | P6: 5611 - Europski socijalni fond plus-pr.korisnici | Q6: 551 - Pomoći iz inozemstva | R6: 611 - Donacije | S6: 711 - Prih od prodaje ili zamjene nefinancijske imovine i naknade štete od osiguranja | T6: 811 - Namjenski primici od zaduživanja | U6: ukupno Grad i vlastitI | V6: 511 - OŠ - DIREKTNO MZO | W6: Sveukupno 2026. | X6: PROJEKCIJA 2027. | Y6: PROJEKCIJA 2028.
D7: 0 | E7: 0'1 | F7: 02 | H7: 1 | I7: 2 | J7: 4 | K7: 5 | L7: 6 | M7: 7 | N7: 16 | P7: 8 | Q7: 9 | R7: 10 | S7: 11 | T7: 12 | U7: 15 | V7: 17 | W7: 18 | X7: 19 | Y7: 20
F8: =SUM(H8:T8) -> 0
C9: razlika | H9: =H11-H10 -> -995791 | I9: =I11-I10 -> 79311.52 | J9: =J11-J10 -> -492500 | L9: =L11-L10 -> 63470 | M9: =M11-M10 -> -116331.52 | N9: =N11-N10 -> -3454564 | P9: =P11-P10 -> 102500 | Q9: =Q11-Q10 -> 0 | R9: =R11-R10 -> -20800 | S9: =S11-S10 -> 0 | T9: =T11-T10 -> 0 | U9: =SUM(#REF!+#REF!) -> #REF! | V9: =V11-V10 -> -5064564 | W9: =SUM(U9:U9) -> #REF!
C10: škola | H10: 1333591 | J10: =573200-40000 -> 533200 | L10: 24000 | M10: 139250 | N10: 5064564 | R10: 25000 | U10: =SUM(#REF!+#REF!) -> #REF! | V10: 5064564 | W10: =SUM(U10:U10) -> #REF!
C11: SVEUKUPNO KORISNIK (zbroj aktivnosti - A, T ili K ) | D11: =SUM(D135+D271+D351+D431+D512+D215+D617+D697+D777+D861+D1259+D112+D941+D1021+D12+D92) -> 0 | E11: =SUM(E135+E271+E351+E431+E512+E215+E617+E697+E777+E861+E1259+E112+E941+E1021+E12+E92) -> 0 | F11: =SUM(F135+F271+F351+F431+F512+F215+F617+F697+F777+F861+F1259+F112+F941+F1021+F12+F92) -> 2087200 | H11: =SUM(H12+H112+H135+H271+H351+H431+H512+H215+H617+H777+H941+H1188+H1259+H1418+H1454+H1511+H1543+H1566+H1613+H1621+H1640+H1646) -> 337800 | I11: =SUM(I12+I112+I135+I271+I351+I431+I512+I215+I617+I777+I941+I1188+I1259+I1418+I1454+I1511+I1543+I1566+I1613+I1621+I1640+I1646) -> 79311.52 | J11: =SUM(J12+J112+J135+J271+J351+J431+J512+J215+J617+J777+J941+J1188+J1259+J1418+J1454+J1511+J1543+J1566+J1613+J1621+J1640+J1646) -> 40700 | K11: =SUM(K12+K112+K135+K271+K351+K431+K512+K215+K617+K777+K941+K1188+K1259+K1418+K1454+K1511+K1543+K1566+K1613+K1621+K1640+K1646) -> 56000 | L11: =SUM(L12+L112+L135+L271+L351+L431+L512+L215+L617+L777+L941+L1188+L1259+L1418+L1454+L1511+L1543+L1566+L1613+L1621+L1640+L1646) -> 87470 | M11: =SUM(M12+M112+M135+M271+M351+M431+M512+M215+M617+M777+M941+M1188+M1259+M1418+M1454+M1511+M1543+M1566+M1613+M1621+M1640+M1646) -> 22918.48 | N11: =SUM(N12+N112+N135+N271+N351+N431+N512+N215+N617+N777+N941+N1188+N1259+N1418+N1454+N1511+N1543+N1566+N1613+N1621+N1640+N1646) -> 1610000 | O11: =SUM(O12+O112+O135+O271+O351+O431+O512+O215+O617+O777+O941+O1188+O1259+O1418+O1454+O1511+O1543+O1566+O1613+O1621+O1640+O1646) -> 4400 | ... V11: =SUM(V12+V112+V135+V271+V351+V431+V512+V215+V617+V777+V941+V1188+V1259+V1418+V1454+V1511+V1543+V1566+V1613+V1621+V1640+V1646) -> 0 | W11: =SUM(H11:R11) -> 2345300 | X11: =SUM(X12+X112+X135+X271+X351+X431+X512+X215+X617+X777+X941+X1188+X1259+X1418+X1454+X1511+X1543+X1566+X1613+X1621+X1640+X1646) -> 2397500 | Y11: =SUM(Y12+Y112+Y135+Y271+Y351+Y431+Y512+Y215+Y617+Y777+Y941+Y1188+Y1259+Y1418+Y1454+Y1511+Y1543+Y1566+Y1613+Y1621+Y1640+Y1646) -> 2421600
C12: Aktivnost: A103643 NATJ. UČ. - ŠKOL. ( 3+4= sveukupno troškovi i nabava ) | D12: =SUM(D13+D70) -> 0 | E12: =SUM(E13+E70) -> 0 | F12: =SUM(H12:T12) -> 1000 | H12: =SUM(H13+H70) -> 1000 | I12: =SUM(I13+I70) -> 0 | J12: =SUM(J13+J70) -> 0 | K12: =SUM(K13+K70) -> 0 | L12: =SUM(L13+L70) -> 0 | M12: =SUM(M13+M70) -> 0 | N12: =SUM(N13+N70) -> 0 | O12: =SUM(O13+O70) -> 0 | ... T12: =SUM(T13+T70) -> 0 | U12: =SUM(#REF!+#REF!) -> #REF! | V12: =SUM(V13+V70) -> 0 | W12: =SUM(H12:R12) -> 1000 | X12: =SUM(X13) -> 1040 | Y12: =SUM(Y13) -> 1050
B13: 3 | C13: ukupno troškovi | D13: =SUM(D14+D26+D59) -> 0 | E13: =SUM(E14+E26+E59) -> 0 | F13: =SUM(H13:T13) -> 1000 | H13: =SUM(H14+H26+H59) -> 1000 | I13: =SUM(I14+I26+I59) -> 0 | J13: =SUM(J14+J26+J59) -> 0 | K13: =SUM(K14+K26+K59) -> 0 | L13: =SUM(L14+L26+L59) -> 0 | M13: =SUM(M14+M26+M59) -> 0 | N13: =SUM(N14+N26+N59) -> 0 | O13: =SUM(O14+O26+O59) -> 0 | ... T13: =SUM(T14+T26+T59) -> 0 | U13: =SUM(#REF!+#REF!) -> #REF! | V13: =SUM(V14+V26+V59) -> 0 | W13: =SUM(H13:R13) -> 1000 | X13: =SUM(X26) -> 1040 | Y13: =SUM(Y26) -> 1050
B14: 31 | D14: =SUM(D15+D20+D22) -> 0 | E14: =SUM(E15+E20+E22) -> 0 | F14: =SUM(H14:T14) -> 0 | H14: =SUM(H15+H20+H22) -> 0 | I14: =SUM(I15+I20+I22) -> 0 | J14: =SUM(J15+J20+J22) -> 0 | K14: =SUM(K15+K20+K22) -> 0 | L14: =SUM(L15+L20+L22) -> 0 | M14: =SUM(M15+M20+M22) -> 0 | N14: =SUM(N15+N20+N22) -> 0 | O14: =SUM(O15+O20+O22) -> 0 | ... T14: =SUM(T15+T20+T22) -> 0 | U14: =SUM(#REF!+#REF!) -> #REF! | V14: =SUM(V15+V20+V22) -> 0 | W14: =SUM(H14:R14) -> 0
B15: 311 | D15: =SUM(D16+D17+D18+D19) -> 0 | E15: =SUM(E16+E17+E18+E19) -> 0 | F15: =SUM(H15:T15) -> 0 | H15: =SUM(H16+H17+H18+H19) -> 0 | I15: =SUM(I16+I17+I18+I19) -> 0 | J15: =SUM(J16+J17+J18+J19) -> 0 | K15: =SUM(K16+K17+K18+K19) -> 0 | L15: =SUM(L16+L17+L18+L19) -> 0 | M15: =SUM(M16+M17+M18+M19) -> 0 | N15: =SUM(N16+N17+N18+N19) -> 0 | O15: =SUM(O16+O17+O18+O19) -> 0 | ... T15: =SUM(T16+T17+T18+T19) -> 0 | U15: =SUM(#REF!+#REF!) -> #REF! | V15: =SUM(V16+V17+V18+V19) -> 0 | W15: =SUM(H15:R15) -> 0
B16: 3111 | C16: Plaće za redovan rad | F16: =SUM(H16:T16) -> 0 | U16: =SUM(#REF!+#REF!) -> #REF! | W16: =SUM(H16:R16) -> 0
B17: 3112 | C17: Plaće u naravi | F17: =SUM(H17:T17) -> 0 | U17: =SUM(#REF!+#REF!) -> #REF! | W17: =SUM(H17:R17) -> 0
B18: 3113 | C18: Plaće za prekovremeni rad | F18: =SUM(H18:T18) -> 0 | U18: =SUM(#REF!+#REF!) -> #REF! | W18: =SUM(H18:R18) -> 0
B19: 3114 | C19: Plaće za posebne uvjete rada | F19: =SUM(H19:T19) -> 0 | U19: =SUM(#REF!+#REF!) -> #REF! | W19: =SUM(H19:R19) -> 0
B20: 312 | D20: =SUM(D21) -> 0 | E20: =SUM(E21) -> 0 | F20: =SUM(H20:T20) -> 0 | H20: =SUM(H21) -> 0 | I20: =SUM(I21) -> 0 | J20: =SUM(J21) -> 0 | K20: =SUM(K21) -> 0 | L20: =SUM(L21) -> 0 | M20: =SUM(M21) -> 0 | N20: =SUM(N21) -> 0 | O20: =SUM(O21) -> 0 | ... T20: =SUM(T21) -> 0 | U20: =SUM(#REF!+#REF!) -> #REF! | V20: =SUM(V21) -> 0 | W20: =SUM(H20:R20) -> 0
B21: 3121 | C21: Ostali rashodi za zaposlene | F21: =SUM(H21:T21) -> 0 | U21: =SUM(#REF!+#REF!) -> #REF! | W21: =SUM(H21:R21) -> 0
B22: 313 | D22: =SUM(D23+D24+D25) -> 0 | E22: =SUM(E23+E24+E25) -> 0 | F22: =SUM(H22:T22) -> 0 | H22: =SUM(H23+H24+H25) -> 0 | I22: =SUM(I23+I24+I25) -> 0 | J22: =SUM(J23+J24+J25) -> 0 | K22: =SUM(K23+K24+K25) -> 0 | L22: =SUM(L23+L24+L25) -> 0 | M22: =SUM(M23+M24+M25) -> 0 | N22: =SUM(N23+N24+N25) -> 0 | O22: =SUM(O23+O24+O25) -> 0 | ... T22: =SUM(T23+T24+T25) -> 0 | U22: =SUM(#REF!+#REF!) -> #REF! | V22: =SUM(V23+V24+V25) -> 0 | W22: =SUM(H22:R22) -> 0
B23: 3131 | C23: Doprinosi za mirovinsko osiguranje | F23: =SUM(H23:T23) -> 0 | U23: =SUM(#REF!+#REF!) -> #REF! | W23: =SUM(H23:R23) -> 0
B24: 3132 | C24: Doprinosi za obvezno zdravstveno osiguranje | F24: =SUM(H24:T24) -> 0 | U24: =SUM(#REF!+#REF!) -> #REF! | W24: =SUM(H24:R24) -> 0
B25: 3133 | C25: Doprinosi za obvezno osiguranje u slučaju nezaposlenosti | F25: =SUM(H25:T25) -> 0 | U25: =SUM(#REF!+#REF!) -> #REF! | W25: =SUM(H25:R25) -> 0
B26: 32 | D26: =SUM(D27+D32+D39+D49+D51) -> 0 | E26: =SUM(E27+E32+E39+E49+E51) -> 0 | F26: =SUM(H26:T26) -> 1000 | H26: =SUM(H27+H32+H39+H49+H51) -> 1000 | I26: =SUM(I27+I32+I39+I49+I51) -> 0 | J26: =SUM(J27+J32+J39+J49+J51) -> 0 | K26: =SUM(K27+K32+K39+K49+K51) -> 0 | L26: =SUM(L27+L32+L39+L49+L51) -> 0 | M26: =SUM(M27+M32+M39+M49+M51) -> 0 | N26: =SUM(N27+N32+N39+N49+N51) -> 0 | O26: =SUM(O27+O32+O39+O49+O51) -> 0 | ... T26: =SUM(T27+T32+T39+T49+T51) -> 0 | U26: =SUM(#REF!+#REF!) -> #REF! | V26: =SUM(V27+V32+V39+V49+V51) -> 0 | W26: =SUM(H26:R26) -> 1000 | X26: 1040 | Y26: 1050
B27: 321 | D27: =SUM(D28+D29+D30+D31) -> 0 | E27: =SUM(E28+E29+E30+E31) -> 0 | F27: =SUM(H27:T27) -> 0 | H27: =SUM(H28+H29+H30+H31) -> 0 | I27: =SUM(I28+I29+I30+I31) -> 0 | J27: =SUM(J28+J29+J30+J31) -> 0 | K27: =SUM(K28+K29+K30+K31) -> 0 | L27: =SUM(L28+L29+L30+L31) -> 0 | M27: =SUM(M28+M29+M30+M31) -> 0 | N27: =SUM(N28+N29+N30+N31) -> 0 | O27: =SUM(O28+O29+O30+O31) -> 0 | ... T27: =SUM(T28+T29+T30+T31) -> 0 | U27: =SUM(#REF!+#REF!) -> #REF! | V27: =SUM(V28+V29+V30+V31) -> 0 | W27: =SUM(H27:R27) -> 0
B28: 3211 | C28: Službena putovanja | F28: =SUM(H28:T28) -> 0 | U28: =SUM(#REF!+#REF!) -> #REF! | W28: =SUM(H28:R28) -> 0
B29: 3212 | C29: Naknade za prijevoz, za rad na terenu i odvojeni život | F29: =SUM(H29:T29) -> 0 | U29: =SUM(#REF!+#REF!) -> #REF! | W29: =SUM(H29:R29) -> 0
B30: 3213 | C30: Stručno usavršavanje zaposlenika | F30: =SUM(H30:T30) -> 0 | U30: =SUM(#REF!+#REF!) -> #REF! | W30: =SUM(H30:R30) -> 0
B31: 3214 | C31: Ostale naknade troškova zaposlenima | F31: =SUM(H31:T31) -> 0 | U31: =SUM(#REF!+#REF!) -> #REF! | W31: =SUM(H31:R31) -> 0
B32: 322 | D32: =SUM(D33+D34+D35+D36+D37+D38) -> 0 | E32: =SUM(E33+E34+E35+E36+E37+E38) -> 0 | F32: =SUM(H32:T32) -> 0 | H32: =SUM(H33+H34+H35+H36+H37+H38) -> 0 | I32: =SUM(I33+I34+I35+I36+I37+I38) -> 0 | J32: =SUM(J33+J34+J35+J36+J37+J38) -> 0 | K32: =SUM(K33+K34+K35+K36+K37+K38) -> 0 | L32: =SUM(L33+L34+L35+L36+L37+L38) -> 0 | M32: =SUM(M33+M34+M35+M36+M37+M38) -> 0 | N32: =SUM(N33+N34+N35+N36+N37+N38) -> 0 | O32: =SUM(O33+O34+O35+O36+O37+O38) -> 0 | ... T32: =SUM(T33+T34+T35+T36+T37+T38) -> 0 | U32: =SUM(#REF!+#REF!) -> #REF! | V32: =SUM(V33+V34+V35+V36+V37+V38) -> 0 | W32: =SUM(H32:R32) -> 0
B33: 3221 | C33: Uredski materijal i ostali materijalni rashodi | F33: =SUM(H33:T33) -> 0 | U33: =SUM(#REF!+#REF!) -> #REF! | W33: =SUM(H33:R33) -> 0
B34: 3222 | C34: Materijal i sirovine | F34: =SUM(H34:T34) -> 0 | U34: =SUM(#REF!+#REF!) -> #REF! | W34: =SUM(H34:R34) -> 0
B35: 3223 | C35: Energija | F35: =SUM(H35:T35) -> 0 | U35: =SUM(#REF!+#REF!) -> #REF! | W35: =SUM(H35:R35) -> 0
B36: 3224 | C36: Materijal i dijelovi za tekuće i investicijsko održavanje | F36: =SUM(H36:T36) -> 0 | U36: =SUM(#REF!+#REF!) -> #REF! | W36: =SUM(H36:R36) -> 0
B37: 3225 | C37: Sitni inventar i auto gume | F37: =SUM(H37:T37) -> 0 | U37: =SUM(#REF!+#REF!) -> #REF! | W37: =SUM(H37:R37) -> 0
B38: 3227 | C38: Službena, radna i zaštitna odjeća i obuća | F38: =SUM(H38:T38) -> 0 | U38: =SUM(#REF!+#REF!) -> #REF! | W38: =SUM(H38:R38) -> 0
B39: 323 | D39: =SUM(D40+D41+D42+D43+D44+D45+D46+D47+D48) -> 0 | E39: =SUM(E40+E41+E42+E43+E44+E45+E46+E47+E48) -> 0 | F39: =SUM(H39:T39) -> 0 | H39: =SUM(H40+H41+H42+H43+H44+H45+H46+H47+H48) -> 0 | I39: =SUM(I40+I41+I42+I43+I44+I45+I46+I47+I48) -> 0 | J39: =SUM(J40+J41+J42+J43+J44+J45+J46+J47+J48) -> 0 | K39: =SUM(K40+K41+K42+K43+K44+K45+K46+K47+K48) -> 0 | L39: =SUM(L40+L41+L42+L43+L44+L45+L46+L47+L48) -> 0 | M39: =SUM(M40+M41+M42+M43+M44+M45+M46+M47+M48) -> 0 | N39: =SUM(N40+N41+N42+N43+N44+N45+N46+N47+N48) -> 0 | O39: =SUM(O40+O41+O42+O43+O44+O45+O46+O47+O48) -> 0 | ... T39: =SUM(T40+T41+T42+T43+T44+T45+T46+T47+T48) -> 0 | U39: =SUM(#REF!+#REF!) -> #REF! | V39: =SUM(V40+V41+V42+V43+V44+V45+V46+V47+V48) -> 0 | W39: =SUM(H39:R39) -> 0
B40: 3231 | C40: Usluge telefona, pošte i prijevoza | F40: =SUM(H40:T40) -> 0 | U40: =SUM(#REF!+#REF!) -> #REF! | W40: =SUM(H40:R40) -> 0
B41: 3232 | C41: Usluge tekućeg i investicijskog održavanja | F41: =SUM(H41:T41) -> 0 | U41: =SUM(#REF!+#REF!) -> #REF! | W41: =SUM(H41:R41) -> 0
B42: 3233 | C42: Usluge promidžbe i informiranja | F42: =SUM(H42:T42) -> 0 | U42: =SUM(#REF!+#REF!) -> #REF! | W42: =SUM(H42:R42) -> 0
B43: 3234 | C43: Komunalne usluge | F43: =SUM(H43:T43) -> 0 | U43: =SUM(#REF!+#REF!) -> #REF! | W43: =SUM(H43:R43) -> 0
B44: 3235 | C44: Zakupnine i najamnine | F44: =SUM(H44:T44) -> 0 | U44: =SUM(#REF!+#REF!) -> #REF! | W44: =SUM(H44:R44) -> 0
B45: 3236 | C45: Zdravstvene i veterinarske usluge | F45: =SUM(H45:T45) -> 0 | U45: =SUM(#REF!+#REF!) -> #REF! | W45: =SUM(H45:R45) -> 0
B46: 3237 | C46: Intelektualne i osobne usluge | F46: =SUM(H46:T46) -> 0 | U46: =SUM(#REF!+#REF!) -> #REF! | W46: =SUM(H46:R46) -> 0
B47: 3238 | C47: Računalne usluge | F47: =SUM(H47:T47) -> 0 | U47: =SUM(#REF!+#REF!) -> #REF! | W47: =SUM(H47:R47) -> 0
B48: 3239 | C48: Ostale usluge | F48: =SUM(H48:T48) -> 0 | U48: =SUM(#REF!+#REF!) -> #REF! | W48: =SUM(H48:R48) -> 0
B49: 324 | D49: =SUM(D50) -> 0 | E49: =SUM(E50) -> 0 | F49: =SUM(H49:T49) -> 0 | H49: =SUM(H50) -> 0 | I49: =SUM(I50) -> 0 | J49: =SUM(J50) -> 0 | K49: =SUM(K50) -> 0 | L49: =SUM(L50) -> 0 | M49: =SUM(M50) -> 0 | N49: =SUM(N50) -> 0 | O49: =SUM(O50) -> 0 | ... T49: =SUM(T50) -> 0 | U49: =SUM(#REF!+#REF!) -> #REF! | V49: =SUM(V50) -> 0 | W49: =SUM(H49:R49) -> 0
B50: 3241 | C50: Naknade troškova osobama izvan radnog odnosa | F50: =SUM(H50:T50) -> 0 | U50: =SUM(#REF!+#REF!) -> #REF! | W50: =SUM(H50:R50) -> 0
B51: 329 | D51: =SUM(D52+D53+D54+D55+D56+D57+D58) -> 0 | E51: =SUM(E52+E53+E54+E55+E56+E57+E58) -> 0 | F51: =SUM(H51:T51) -> 1000 | H51: =SUM(H52+H53+H54+H55+H56+H57+H58) -> 1000 | I51: =SUM(I52+I53+I54+I55+I56+I57+I58) -> 0 | J51: =SUM(J52+J53+J54+J55+J56+J57+J58) -> 0 | K51: =SUM(K52+K53+K54+K55+K56+K57+K58) -> 0 | L51: =SUM(L52+L53+L54+L55+L56+L57+L58) -> 0 | M51: =SUM(M52+M53+M54+M55+M56+M57+M58) -> 0 | N51: =SUM(N52+N53+N54+N55+N56+N57+N58) -> 0 | O51: =SUM(O52+O53+O54+O55+O56+O57+O58) -> 0 | ... T51: =SUM(T52+T53+T54+T55+T56+T57+T58) -> 0 | U51: =SUM(#REF!+#REF!) -> #REF! | V51: =SUM(V52+V53+V54+V55+V56+V57+V58) -> 0 | W51: =SUM(H51:R51) -> 1000
B52: 3291 | C52: Naknade za rad predstavničkih i izvršnih tijela, povjerenstava i slično | F52: =SUM(H52:T52) -> 0 | U52: =SUM(#REF!+#REF!) -> #REF! | W52: =SUM(H52:R52) -> 0
B53: 3292 | C53: Premije osiguranja | F53: =SUM(H53:T53) -> 0 | U53: =SUM(#REF!+#REF!) -> #REF! | W53: =SUM(H53:R53) -> 0
B54: 3293 | C54: Reprezentacija | F54: =SUM(H54:T54) -> 0 | U54: =SUM(#REF!+#REF!) -> #REF! | W54: =SUM(H54:R54) -> 0
B55: 3294 | C55: Članarine i norme | F55: =SUM(H55:T55) -> 0 | U55: =SUM(#REF!+#REF!) -> #REF! | W55: =SUM(H55:R55) -> 0
B56: 3295 | C56: Pristojbe i naknade | F56: =SUM(H56:T56) -> 0 | U56: =SUM(#REF!+#REF!) -> #REF! | W56: =SUM(H56:R56) -> 0
B57: 3296 | C57: Troškovi sudskih postupaka | F57: =SUM(H57:T57) -> 0 | U57: =SUM(#REF!+#REF!) -> #REF! | W57: =SUM(H57:R57) -> 0
B58: 3299 | C58: Ostali nespomenuti rashodi poslovanja | F58: =SUM(H58:T58) -> 1000 | H58: 1000 | I58: 0 | U58: =SUM(#REF!+#REF!) -> #REF! | W58: =SUM(H58:R58) -> 1000
B59: 34 | C59: Financijski rashodi | D59: =SUM(D60+D65) -> 0 | E59: =SUM(E60+E65) -> 0 | F59: =SUM(H59:T59) -> 0 | H59: =SUM(H60+H65) -> 0 | I59: =SUM(I60+I65) -> 0 | J59: =SUM(J60+J65) -> 0 | K59: =SUM(K60+K65) -> 0 | L59: =SUM(L60+L65) -> 0 | M59: =SUM(M60+M65) -> 0 | N59: =SUM(N60+N65) -> 0 | O59: =SUM(O60+O65) -> 0 | ... T59: =SUM(T60+T65) -> 0 | U59: =SUM(#REF!+#REF!) -> #REF! | V59: =SUM(V60+V65) -> 0 | W59: =SUM(H59:R59) -> 0
B60: 342 | C60: Kamate za primljene kredite i zajmove | D60: =SUM(D61+D62+D63+D64) -> 0 | E60: =SUM(E61+E62+E63+E64) -> 0 | F60: =SUM(H60:T60) -> 0 | H60: =SUM(H61+H62+H63+H64) -> 0 | I60: =SUM(I61+I62+I63+I64) -> 0 | J60: =SUM(J61+J62+J63+J64) -> 0 | K60: =SUM(K61+K62+K63+K64) -> 0 | L60: =SUM(L61+L62+L63+L64) -> 0 | M60: =SUM(M61+M62+M63+M64) -> 0 | N60: =SUM(N61+N62+N63+N64) -> 0 | O60: =SUM(O61+O62+O63+O64) -> 0 | ... T60: =SUM(T61+T62+T63+T64) -> 0 | U60: =SUM(#REF!+#REF!) -> #REF! | V60: =SUM(V61+V62+V63+V64) -> 0 | W60: =SUM(H60:R60) -> 0
B61: 3423 | C61: Kamate za primljene kredite i zajmove od kreditnih i ostalih financijskih institucija izvan javnog sektora | F61: =SUM(H61:T61) -> 0 | U61: =SUM(#REF!+#REF!) -> #REF! | W61: =SUM(H61:R61) -> 0
B62: 3426 | C62: Kamate za primljene zajmove od trgovačkih društava u javnom sektoru | F62: =SUM(H62:T62) -> 0 | U62: =SUM(#REF!+#REF!) -> #REF! | W62: =SUM(H62:R62) -> 0
B63: 3427 | C63: Kamate za primljene zajmove od trgovačkih društava i obrtnika izvan javnog sektora | F63: =SUM(H63:T63) -> 0 | U63: =SUM(#REF!+#REF!) -> #REF! | W63: =SUM(H63:R63) -> 0
B64: 3428 | C64: Kamate za primljene zajmove od drugih razina vlasti | F64: =SUM(H64:T64) -> 0 | U64: =SUM(#REF!+#REF!) -> #REF! | W64: =SUM(H64:R64) -> 0
B65: 343 | D65: =SUM(D66+D67+D68+D69) -> 0 | E65: =SUM(E66+E67+E68+E69) -> 0 | F65: =SUM(H65:T65) -> 0 | H65: =SUM(H66+H67+H68+H69) -> 0 | I65: =SUM(I66+I67+I68+I69) -> 0 | J65: =SUM(J66+J67+J68+J69) -> 0 | K65: =SUM(K66+K67+K68+K69) -> 0 | L65: =SUM(L66+L67+L68+L69) -> 0 | M65: =SUM(M66+M67+M68+M69) -> 0 | N65: =SUM(N66+N67+N68+N69) -> 0 | O65: =SUM(O66+O67+O68+O69) -> 0 | ... T65: =SUM(T66+T67+T68+T69) -> 0 | U65: =SUM(#REF!+#REF!) -> #REF! | V65: =SUM(V66+V67+V68+V69) -> 0 | W65: =SUM(H65:R65) -> 0
B66: 3431 | C66: Bankarske usluge i usluge platnog prometa | F66: =SUM(H66:T66) -> 0 | U66: =SUM(#REF!+#REF!) -> #REF! | W66: =SUM(H66:R66) -> 0
B67: 3432 | C67: Negativne tečajne razlike i razlike zbog primjene valutne klauzule | F67: =SUM(H67:T67) -> 0 | U67: =SUM(#REF!+#REF!) -> #REF! | W67: =SUM(H67:R67) -> 0
B68: 3433 | C68: Zatezne kamate | F68: =SUM(H68:T68) -> 0 | U68: =SUM(#REF!+#REF!) -> #REF! | W68: =SUM(H68:R68) -> 0
B69: 3434 | C69: Ostali nespomenuti financijski rashodi | F69: =SUM(H69:T69) -> 0 | U69: =SUM(#REF!+#REF!) -> #REF! | W69: =SUM(H69:R69) -> 0
B70: 4 | C70: ukupno nabava | D70: =SUM(D71) -> 0 | E70: =SUM(E71) -> 0 | F70: =SUM(H70:T70) -> 0 | H70: =SUM(H71) -> 0 | I70: =SUM(I71) -> 0 | J70: =SUM(J71) -> 0 | K70: =SUM(K71) -> 0 | L70: =SUM(L71) -> 0 | M70: =SUM(M71) -> 0 | N70: =SUM(N71) -> 0 | O70: =SUM(O71) -> 0 | ... T70: =SUM(T71) -> 0 | U70: =SUM(#REF!+#REF!) -> #REF! | V70: =SUM(V71) -> 0 | W70: =SUM(H70:R70) -> 0
B71: 42 | D71: =SUM(D72+D80+D83+D88) -> 0 | E71: =SUM(E72+E80+E83+E88) -> 0 | F71: =SUM(H71:T71) -> 0 | H71: =SUM(H72+H80+H83+H88) -> 0 | I71: =SUM(I72+I80+I83+I88) -> 0 | J71: =SUM(J72+J80+J83+J88) -> 0 | K71: =SUM(K72+K80+K83+K88) -> 0 | L71: =SUM(L72+L80+L83+L88) -> 0 | M71: =SUM(M72+M80+M83+M88) -> 0 | N71: =SUM(N72+N80+N83+N88) -> 0 | O71: =SUM(O72+O80+O83+O88) -> 0 | ... T71: =SUM(T72+T80+T83+T88) -> 0 | U71: =SUM(#REF!+#REF!) -> #REF! | V71: =SUM(V72+V80+V83+V88) -> 0 | W71: =SUM(H71:R71) -> 0
B72: 422 | D72: =SUM(D73+D74+D75+D76+D77+D78+D79) -> 0 | E72: =SUM(E73+E74+E75+E76+E77+E78+E79) -> 0 | F72: =SUM(H72:T72) -> 0 | H72: =SUM(H73+H74+H75+H76+H77+H78+H79) -> 0 | I72: =SUM(I73+I74+I75+I76+I77+I78+I79) -> 0 | J72: =SUM(J73+J74+J75+J76+J77+J78+J79) -> 0 | K72: =SUM(K73+K74+K75+K76+K77+K78+K79) -> 0 | L72: =SUM(L73+L74+L75+L76+L77+L78+L79) -> 0 | M72: =SUM(M73+M74+M75+M76+M77+M78+M79) -> 0 | N72: =SUM(N73+N74+N75+N76+N77+N78+N79) -> 0 | O72: =SUM(O73+O74+O75+O76+O77+O78+O79) -> 0 | ... T72: =SUM(T73+T74+T75+T76+T77+T78+T79) -> 0 | U72: =SUM(#REF!+#REF!) -> #REF! | V72: =SUM(V73+V74+V75+V76+V77+V78+V79) -> 0 | W72: =SUM(H72:R72) -> 0
B73: 4221 | C73: Uredska oprema i namještaj | F73: =SUM(H73:T73) -> 0 | U73: =SUM(#REF!+#REF!) -> #REF! | W73: =SUM(H73:R73) -> 0
B74: 4222 | C74: Komunikacijska oprema | F74: =SUM(H74:T74) -> 0 | U74: =SUM(#REF!+#REF!) -> #REF! | W74: =SUM(H74:R74) -> 0
B75: 4223 | C75: Oprema za održavanje i zaštitu | F75: =SUM(H75:T75) -> 0 | U75: =SUM(#REF!+#REF!) -> #REF! | W75: =SUM(H75:R75) -> 0
B76: 4224 | C76: Medicinska i laboratorijska oprema | F76: =SUM(H76:T76) -> 0 | U76: =SUM(#REF!+#REF!) -> #REF! | W76: =SUM(H76:R76) -> 0
B77: 4225 | C77: Instrumenti, uređaji i strojevi | F77: =SUM(H77:T77) -> 0 | U77: =SUM(#REF!+#REF!) -> #REF! | W77: =SUM(H77:R77) -> 0
B78: 4226 | C78: Sportska i glazbena oprema | F78: =SUM(H78:T78) -> 0 | U78: =SUM(#REF!+#REF!) -> #REF! | W78: =SUM(H78:R78) -> 0
B79: 4227 | C79: Uređaji, strojevi i oprema za ostale namjene | F79: =SUM(H79:T79) -> 0 | U79: =SUM(#REF!+#REF!) -> #REF! | W79: =SUM(H79:R79) -> 0
B80: 423 | D80: =SUM(D81+D82) -> 0 | E80: =SUM(E81+E82) -> 0 | F80: =SUM(H80:T80) -> 0 | H80: =SUM(H81+H82) -> 0 | I80: =SUM(I81+I82) -> 0 | J80: =SUM(J81+J82) -> 0 | K80: =SUM(K81+K82) -> 0 | L80: =SUM(L81+L82) -> 0 | M80: =SUM(M81+M82) -> 0 | N80: =SUM(N81+N82) -> 0 | O80: =SUM(O81+O82) -> 0 | ... T80: =SUM(T81+T82) -> 0 | U80: =SUM(#REF!+#REF!) -> #REF! | V80: =SUM(V81+V82) -> 0 | W80: =SUM(H80:R80) -> 0
B81: 4231 | C81: Prijevozna sredstva u cestovnom prometu | F81: =SUM(H81:T81) -> 0 | U81: =SUM(#REF!+#REF!) -> #REF! | W81: =SUM(H81:R81) -> 0
B82: 4233 | C82: Prijevozna sredstva u pomorskom i riječnom prometu | F82: =SUM(H82:T82) -> 0 | U82: =SUM(#REF!+#REF!) -> #REF! | W82: =SUM(H82:R82) -> 0
B83: 424 | D83: =SUM(D84+D85+D86+D87) -> 0 | E83: =SUM(E84+E85+E86+E87) -> 0 | F83: =SUM(H83:T83) -> 0 | H83: =SUM(H84+H85+H86+H87) -> 0 | I83: =SUM(I84+I85+I86+I87) -> 0 | J83: =SUM(J84+J85+J86+J87) -> 0 | K83: =SUM(K84+K85+K86+K87) -> 0 | L83: =SUM(L84+L85+L86+L87) -> 0 | M83: =SUM(M84+M85+M86+M87) -> 0 | N83: =SUM(N84+N85+N86+N87) -> 0 | O83: =SUM(O84+O85+O86+O87) -> 0 | ... T83: =SUM(T84+T85+T86+T87) -> 0 | U83: =SUM(#REF!+#REF!) -> #REF! | V83: =SUM(V84+V85+V86+V87) -> 0 | W83: =SUM(H83:R83) -> 0
B84: 4241 | C84: Knjige | F84: =SUM(H84:T84) -> 0 | U84: =SUM(#REF!+#REF!) -> #REF! | W84: =SUM(H84:R84) -> 0
B85: 4242 | C85: Umjetnička djela (izložena u galerijama, muzejima i slično) | F85: =SUM(H85:T85) -> 0 | U85: =SUM(#REF!+#REF!) -> #REF! | W85: =SUM(H85:R85) -> 0
B86: 4243 | C86: Muzejski izlošci i predmeti prirodnih rijetkosti | F86: =SUM(H86:T86) -> 0 | U86: =SUM(#REF!+#REF!) -> #REF! | W86: =SUM(H86:R86) -> 0
B87: 4244 | C87: Ostale nespomenute izložbene vrijednosti | F87: =SUM(H87:T87) -> 0 | U87: =SUM(#REF!+#REF!) -> #REF! | W87: =SUM(H87:R87) -> 0
B88: 426 | D88: =SUM(D89+D90) -> 0 | E88: =SUM(E89+E90) -> 0 | F88: =SUM(H88:T88) -> 0 | H88: =SUM(H89+H90) -> 0 | I88: =SUM(I89+I90) -> 0 | J88: =SUM(J89+J90) -> 0 | K88: =SUM(K89+K90) -> 0 | L88: =SUM(L89+L90) -> 0 | M88: =SUM(M89+M90) -> 0 | N88: =SUM(N89+N90) -> 0 | O88: =SUM(O89+O90) -> 0 | ... T88: =SUM(T89+T90) -> 0 | U88: =SUM(#REF!+#REF!) -> #REF! | V88: =SUM(V89+V90) -> 0 | W88: =SUM(H88:R88) -> 0
B89: 4262 | C89: Ulaganja u računalne programe | F89: =SUM(H89:T89) -> 0 | U89: =SUM(#REF!+#REF!) -> #REF! | W89: =SUM(H89:R89) -> 0
B90: 4263 | C90: Umjetnička, literarna i znanstvena djela | F90: =SUM(H90:T90) -> 0 | U90: =SUM(#REF!+#REF!) -> #REF! | W90: =SUM(H90:R90) -> 0
W91: =SUM(H91:R91) -> 0
C92: Aktivnost: A102609 POMOĆNICI UČ. - ŠKOL. ( 3+4= sveukupno troškovi i nabava ) | D92: =SUM(D93+D1145) -> 0 | E92: =SUM(E93+E1145) -> 0 | F92: =SUM(H92:T92) -> 0 | H92: =SUM(H93+H1145) -> 0 | I92: =SUM(I93+I1145) -> 0 | J92: =SUM(J93+J1145) -> 0 | K92: =SUM(K93+K1145) -> 0 | L92: =SUM(L93+L1145) -> 0 | M92: =SUM(M93+M1145) -> 0 | N92: =SUM(N93+N1145) -> 0 | O92: =SUM(O93+O1145) -> 0 | ... T92: =SUM(T93+T1145) -> 0 | U92: =SUM(#REF!+#REF!) -> #REF! | V92: =SUM(V93+V1145) -> 0 | W92: =SUM(H92:R92) -> 0 | X92: 0 | Y92: =SUM(Y93) -> 0 | Z92: =SUM(Z93+Z1145) -> 30000 | AA92: =Z92*74.58/100 -> 22374
B93: 3 | C93: ukupno troškovi | D93: =SUM(D94+D1101+D1134) -> 0 | E93: =SUM(E94+E1101+E1134) -> 0 | F93: =SUM(H93:T93) -> 0 | H93: =SUM(H94+H1101+H1134) -> 0 | I93: =SUM(I94+I108) -> 0 | J93: =SUM(J94+J1101+J1134) -> 0 | K93: =SUM(K94+K1101+K1134) -> 0 | L93: =SUM(L94+L1101+L1134) -> 0 | M93: =SUM(M94+M1101+M1134) -> 0 | N93: =SUM(N94+N1101+N1134) -> 0 | O93: =SUM(O94+O1101+O1134) -> 0 | P93: =SUM(P94+P1101+P1134) -> 0 | Q93: =SUM(Q94+Q1101+Q1134) -> 0 | ... T93: =SUM(T94+T1101+T1134) -> 0 | U93: =SUM(#REF!+#REF!) -> #REF! | V93: =SUM(V94+V1101+V1134) -> 0 | W93: =SUM(H93:R93) -> 0 | X93: 0 | Y93: =SUM(Y94+Y108) -> 0 | Z93: =SUM(Z94+Z1101+Z1134) -> 30000 | AA93: =Z93*74.58/100 -> 22374
B94: 31 | D94: =SUM(D95+D100+D104) -> 0 | E94: =SUM(E95+E100+E104) -> 0 | F94: =SUM(H94:T94) -> 0 | H94: =SUM(H95+H100+H104) -> 0 | I94: =SUM(I95+I102+I104) -> 0 | J94: =SUM(J95+J100+J104) -> 0 | K94: =SUM(K95+K100+K104) -> 0 | L94: =SUM(L95+L100+L104) -> 0 | M94: =SUM(M95+M100+M104) -> 0 | N94: =SUM(N95+N100+N104) -> 0 | O94: =SUM(O95+O100+O104) -> 0 | P94: =SUM(P95+P100+P104) -> 0 | Q94: =SUM(Q95+Q100+Q104) -> 0 | ... T94: =SUM(T95+T100+T104) -> 0 | U94: =SUM(#REF!+#REF!) -> #REF! | V94: =SUM(V95+V100+V104) -> 0 | W94: =SUM(H94:R94) -> 0 | X94: 0 | Y94: 0 | Z94: =SUM(Z95+Z100+Z104) -> 30000 | AA94: =Z94*74.58/100 -> 22374
B95: 311 | D95: =SUM(D96+D97+D98+D99) -> 0 | E95: =SUM(E96+E97+E98+E99) -> 0 | F95: =SUM(H95:T95) -> 0 | H95: =SUM(H96+H97+H98+H99) -> 0 | I95: =SUM(I96+I97+I98+I99) -> 0 | J95: =SUM(J96+J97+J98+J99) -> 0 | K95: =SUM(K96+K97+K98+K99) -> 0 | L95: =SUM(L96+L97+L98+L99) -> 0 | M95: =SUM(M96+M97+M98+M99) -> 0 | N95: =SUM(N96+N97+N98+N99) -> 0 | O95: =SUM(O96+O97+O98+O99) -> 0 | ... T95: =SUM(T96+T97+T98+T99) -> 0 | U95: =SUM(#REF!+#REF!) -> #REF! | V95: =SUM(V96+V97+V98+V99) -> 0 | W95: =SUM(H95:R95) -> 0 | Z95: =SUM(Z96+Z97+Z98+Z99) -> 25597 | AA95: =Z95*74.58/100 -> 19090.243
B96: 3111 | C96: Plaće za redovan rad | F96: =SUM(H96:T96) -> 0 | I96: 0 | U96: =SUM(#REF!+#REF!) -> #REF! | W96: =SUM(H96:R96) -> 0 | Z96: 25597 | AA96: =Z96*74.58/100 -> 19090.243
B97: 3112 | C97: Plaće u naravi | F97: =SUM(H97:T97) -> 0 | U97: =SUM(#REF!+#REF!) -> #REF! | W97: =SUM(H97:R97) -> 0 | AA97: =Z97*74.58/100 -> 0
B98: 3113 | C98: Plaće za prekovremeni rad | F98: =SUM(H98:T98) -> 0 | U98: =SUM(#REF!+#REF!) -> #REF! | W98: =SUM(H98:R98) -> 0 | AA98: =Z98*74.58/100 -> 0
B99: 3114 | C99: Plaće za posebne uvjete rada | F99: =SUM(H99:T99) -> 0 | U99: =SUM(#REF!+#REF!) -> #REF! | W99: =SUM(H99:R99) -> 0 | AA99: =Z99*74.58/100 -> 0
B100: 312 | D100: =SUM(D101) -> 0 | E100: =SUM(E101) -> 0 | F100: =SUM(H100:T100) -> 0 | H100: =SUM(H101) -> 0 | I100: =SUM(I101) -> 0 | J100: =SUM(J101) -> 0 | K100: =SUM(K101) -> 0 | L100: =SUM(L101) -> 0 | M100: =SUM(M101) -> 0 | N100: =SUM(N101) -> 0 | O100: =SUM(O101) -> 0 | ... T100: =SUM(T101) -> 0 | U100: =SUM(#REF!+#REF!) -> #REF! | V100: =SUM(V101) -> 0 | W100: =SUM(H100:R100) -> 0 | Z100: =SUM(Z101) -> 0 | AA100: =Z100*74.58/100 -> 0
...

Sheet PRIHODI IZVRŠENJE 2021
A1: OŠ V.NAZORA-SE V.NAZOR | C1: Plan prihoda
A2: E.De Amicis 31, 52210
A3: Rovinj (Rovigno)
A5: Razred/Skupina/Podskupina | B5: Izvor finaciranja | C5: Vrsta prihoda | D5: Izvršenje u 2020 | E5: Izvršenje od 01.01.2020 do 31.12.2020 | F5: Izvorni plan 2021 | G5: Tekući plan 2021 | H5: Preraspodjela 2021 | I5: Tekući plan+preraspodjela | J5: Izvršenje od 01.01.2021 do 31.12.2021 | K5: Razlika izvršenja | L5: Index izvršenja 2021/2020 | M5: Izvršenje/plan 2021 | N5: 11 - Opći prihodi i primici | O5: 11 - izvršenje | P5: 11 - izvršenje/plan | Q5: 41 - Prihodi za posebne namjene | R5: 41 - izvršenje | S5: 41 - izvršenje/plan | T5: 50 - Decentralizacija - pokriva RH | U5: 50 - izvršenje | V5: 50 - izvršenje/plan | W5: 52 - HZZ, FZOEU, TZ, CK i dr - za posebne i / ili ugovorene namje | X5: 52 - izvršenje | Y5: 52 - izvršenje/plan | Z5: 53 - Proračuni, drugi nivoi - za posebne i / ili ugovorene namjen | AA5: 53 - izvršenje | AB5: 53 - izvršenje/plan | AC5: 54 - Pomoći tijela i fondova EU | AD5: 54 - izvršenje | AE5: 54 - izvršenje/plan | AF5: 55 - Pomoći iz inozemstva | AG5: 55 - izvršenje | AH5: 55 - izvršenje/plan | AI5: 61 - Donacije | AJ5: 61 - izvršenje | AK5: 61 - izvršenje/plan | AL5: 71 - Prih od prodaje ili zamj nefin imov i nakn_osig | AM5: 71 - izvršenje | AN5: 71 - izvršenje/plan | AO5: 81 - Namjenski primici od zaduživanja | AP5: 81 - izvršenje | AQ5: 81 - izvršenje/plan | AR5: 82 - Preneseni viškovi iz ranijih godina | AS5: 82 - izvršenje | AT5: 82 - izvršenje/plan | AU5: 83 - Ostali povrem namj primici - prodaja udjela i sl | AV5: 83 - izvršenje | AW5: 83 - izvršenje/plan | AX5: 110 - Predfinanciranje Eu i ostalo | AY5: 110 - izvršenje | AZ5: 110 - izvršenje/plan | BA5: 111 - Redovna djelatnost - kod korisnika - iz Grada | BB5: 111 - izvršenje | BC5: 111 - izvršenje/plan | BD5: 112 - Posebni programi - zajednički dio - iz Grada | BE5: 112 - izvršenje | BF5: 112 - izvršenje/plan | BG5: 311 - Vlastiti prihodi - uplate roditelja i osoblja | BH5: 311 - izvršenje | BI5: 311 - izvršenje/plan | BJ5: 511 - OŠ - COP, Minist | BK5: 511 - izvršenje | BL5: 511 - izvršenje/plan | BM5: 521 - HZZ, FZOEU, TZ, CK i dr - za posebne i / ili ugovorene namj | BN5: 521 - izvršenje | BO5: 521 - izvršenje/plan | BP5: 531 - Proračuni, drugi nivoi - za posebne i / ili ugovorene namjen | BQ5: 531 - izvršenje | BR5: 531 - izvršenje/plan | BS5: 541 - Pomoći tijela i fondova EU | BT5: 541 - izvršenje | BU5: 541 - izvršenje/plan | BV5: 551 - Pomoći iz inozemstva | BW5: 551 - izvršenje | BX5: 551 - izvršenje/plan | BY5: 611 - Donacije | BZ5: 611 - izvršenje | CA5: 611 - izvršenje/plan | CB5: 711 - Prih od prodaje ili zamj nefin imov i nakn_osig | CC5: 711 - izvršenje | CD5: 711 - izvršenje/plan | CE5: 811 - Namjenski primici od zaduživanja | CF5: 811 - izvršenje | CG5: 811 - izvršenje/plan | CH5: 821 - Preneseni viškovi iz ranijih godina | CI5: 821 - izvršenje | CJ5: 821 - izvršenje/plan
A6: 1 | B6: 2 | C6: 3 | D6: 4 | E6: 5 | F6: 6 | G6: 7 | H6: 8 | I6: 9 = 8 + 7 | J6: 10 | K6: 11 = (10-9) | L6: 12 = (10/5) | M6: 13 = (10/9)
A7: 6 | B7: 111,112,311,511,531,541,611 | C7: Prihodi poslovanja | D7: 10951627 | E7: 10951627 | F7: 7917950 | G7: 10061862 | H7: 0 | I7: 10061862 | J7: 9477434 | K7: -584428 | L7: 86.54 | M7: 94.19 | N7: 0 | O7: 0 | P7: 0 | Q7: 0 | R7: 0 | S7: 0 | T7: 0 | U7: 0 | V7: 0 | W7: 0 | X7: 0 | Y7: 0 | Z7: 0 | AA7: 0 | AB7: 0 | AC7: 0 | AD7: 0 | AE7: 0 | AF7: 0 | AG7: 0 | AH7: 0 | AI7: 0 | AJ7: 0 | AK7: 0 | AL7: 0 | AM7: 0 | AN7: 0 | AO7: 0 | AP7: 0 | AQ7: 0 | AR7: 0 | AS7: 0 | AT7: 0 | AU7: 0 | AV7: 0 | AW7: 0 | AX7: 0 | AY7: 0 | AZ7: 0 | BA7: 1945442 | BB7: 1883469.8 | BC7: 0.96814493 | BD7: 45315 | BE7: 38353.42 | BF7: 0.84637361 | BG7: 528000 | BH7: 401004.3 | BI7: 0.75947784 | BJ7: 6997000 | BK7: 6778306.7 | BL7: 0.96874471 | BM7: 0 | BN7: 0 | BO7: 0 | BP7: 448905 | BQ7: 310586.32 | BR7: 0.69187539 | BS7: 67200 | BT7: 59095.41 | BU7: 0.87939598 | BV7: 0 | BW7: 0 | BX7: 0 | BY7: 30000 | BZ7: 6618 | CA7: 0.2206 | CB7: 0 | CC7: 0 | CD7: 0 | CE7: 0 | CF7: 0 | CG7: 0 | CH7: 0 | CI7: 0 | CJ7: 0 | CK7: =SUM(BB7+BE7+BH7+BK7+BQ7+BT7+BZ7) -> 9477434
A8: 63 | B8: 511,531,541 | C8: Pomoći iz inozem i od subjekata unutar općeg proračuna | D8: 6762041.5 | E8: 6762041.5 | F8: 7296550 | G8: 7511105 | H8: 0 | I8: 7511105 | J8: 7146738.5 | K8: -364366.53 | L8: 105.69 | M8: 95.15 | N8: 0 | O8: 0 | P8: 0 | Q8: 0 | R8: 0 | S8: 0 | T8: 0 | U8: 0 | V8: 0 | W8: 0 | X8: 0 | Y8: 0 | Z8: 0 | AA8: 0 | AB8: 0 | AC8: 0 | AD8: 0 | AE8: 0 | AF8: 0 | AG8: 0 | AH8: 0 | AI8: 0 | AJ8: 0 | AK8: 0 | AL8: 0 | AM8: 0 | AN8: 0 | AO8: 0 | AP8: 0 | AQ8: 0 | AR8: 0 | AS8: 0 | AT8: 0 | AU8: 0 | AV8: 0 | AW8: 0 | AX8: 0 | AY8: 0 | AZ8: 0 | BA8: 0 | BB8: 0 | BC8: 0 | BD8: 0 | BE8: 0 | BF8: 0 | BG8: 0 | BH8: 0 | BI8: 0 | BJ8: 6997000 | BK8: 6778306.7 | BL8: 0.96874471 | BM8: 0 | BN8: 0 | BO8: 0 | BP8: 446905 | BQ8: 309336.32 | BR8: 0.69217467 | BS8: 67200 | BT8: 59095.41 | BU8: 0.87939598 | BV8: 0 | BW8: 0 | BX8: 0 | BY8: 0 | BZ8: 0 | CA8: 0 | CB8: 0 | CC8: 0 | CD8: 0 | CE8: 0 | CF8: 0 | CG8: 0 | CH8: 0 | CI8: 0 | CJ8: 0 | CK8: =SUM(BB8+BE8+BH8+BK8+BQ8+BT8+BZ8) -> 7146738.5
A9: 636 | B9: 511,531 | C9: Pomoći proračunskim korisn iz proračuna - nenadlez | D9: 6762041.5 | E9: 6762041.5 | F9: 7296550 | G9: 7443905 | H9: 0 | I9: 7443905 | J9: 7087643.1 | K9: -356261.94 | L9: 104.82 | M9: 95.21 | N9: 0 | O9: 0 | P9: 0 | Q9: 0 | R9: 0 | S9: 0 | T9: 0 | U9: 0 | V9: 0 | W9: 0 | X9: 0 | Y9: 0 | Z9: 0 | AA9: 0 | AB9: 0 | AC9: 0 | AD9: 0 | AE9: 0 | AF9: 0 | AG9: 0 | AH9: 0 | AI9: 0 | AJ9: 0 | AK9: 0 | AL9: 0 | AM9: 0 | AN9: 0 | AO9: 0 | AP9: 0 | AQ9: 0 | AR9: 0 | AS9: 0 | AT9: 0 | AU9: 0 | AV9: 0 | AW9: 0 | AX9: 0 | AY9: 0 | AZ9: 0 | BA9: 0 | BB9: 0 | BC9: 0 | BD9: 0 | BE9: 0 | BF9: 0 | BG9: 0 | BH9: 0 | BI9: 0 | BJ9: 6997000 | BK9: 6778306.7 | BL9: 0.96874471 | BM9: 0 | BN9: 0 | BO9: 0 | BP9: 446905 | BQ9: 309336.32 | BR9: 0.69217467 | BS9: 0 | BT9: 0 | BU9: 0 | BV9: 0 | BW9: 0 | BX9: 0 | BY9: 0 | BZ9: 0 | CA9: 0 | CB9: 0 | CC9: 0 | CD9: 0 | CE9: 0 | CF9: 0 | CG9: 0 | CH9: 0 | CI9: 0 | CJ9: 0 | CK9: =SUM(BB9+BE9+BH9+BK9+BQ9+BT9+BZ9) -> 7087643.1
A10: 64 | B10: 311 | C10: Prihodi od imovine | D10: 1124.71 | E10: 1124.71 | F10: 1200 | G10: 1200 | H10: 0 | I10: 1200 | J10: 712.44 | K10: -487.56 | L10: 63.34 | M10: 59.37 | N10: 0 | O10: 0 | P10: 0 | Q10: 0 | R10: 0 | S10: 0 | T10: 0 | U10: 0 | V10: 0 | W10: 0 | X10: 0 | Y10: 0 | Z10: 0 | AA10: 0 | AB10: 0 | AC10: 0 | AD10: 0 | AE10: 0 | AF10: 0 | AG10: 0 | AH10: 0 | AI10: 0 | AJ10: 0 | AK10: 0 | AL10: 0 | AM10: 0 | AN10: 0 | AO10: 0 | AP10: 0 | AQ10: 0 | AR10: 0 | AS10: 0 | AT10: 0 | AU10: 0 | AV10: 0 | AW10: 0 | AX10: 0 | AY10: 0 | AZ10: 0 | BA10: 0 | BB10: 0 | BC10: 0 | BD10: 0 | BE10: 0 | BF10: 0 | BG10: 1200 | BH10: 712.44 | BI10: 0.5937 | BJ10: 0 | BK10: 0 | BL10: 0 | BM10: 0 | BN10: 0 | BO10: 0 | BP10: 0 | BQ10: 0 | BR10: 0 | BS10: 0 | BT10: 0 | BU10: 0 | BV10: 0 | BW10: 0 | BX10: 0 | BY10: 0 | BZ10: 0 | CA10: 0 | CB10: 0 | CC10: 0 | CD10: 0 | CE10: 0 | CF10: 0 | CG10: 0 | CH10: 0 | CI10: 0 | CJ10: 0 | CK10: =SUM(BB10+BE10+BH10+BK10+BQ10+BT10+BZ10) -> 712.44
A11: 641 | B11: 311 | C11: Prihodi od financijske imovine | D11: 1124.71 | E11: 1124.71 | F11: 1200 | G11: 1200 | H11: 0 | I11: 1200 | J11: 712.44 | K11: -487.56 | L11: 63.34 | M11: 59.37 | N11: 0 | O11: 0 | P11: 0 | Q11: 0 | R11: 0 | S11: 0 | T11: 0 | U11: 0 | V11: 0 | W11: 0 | X11: 0 | Y11: 0 | Z11: 0 | AA11: 0 | AB11: 0 | AC11: 0 | AD11: 0 | AE11: 0 | AF11: 0 | AG11: 0 | AH11: 0 | AI11: 0 | AJ11: 0 | AK11: 0 | AL11: 0 | AM11: 0 | AN11: 0 | AO11: 0 | AP11: 0 | AQ11: 0 | AR11: 0 | AS11: 0 | AT11: 0 | AU11: 0 | AV11: 0 | AW11: 0 | AX11: 0 | AY11: 0 | AZ11: 0 | BA11: 0 | BB11: 0 | BC11: 0 | BD11: 0 | BE11: 0 | BF11: 0 | BG11: 1200 | BH11: 712.44 | BI11: 0.5937 | BJ11: 0 | BK11: 0 | BL11: 0 | BM11: 0 | BN11: 0 | BO11: 0 | BP11: 0 | BQ11: 0 | BR11: 0 | BS11: 0 | BT11: 0 | BU11: 0 | BV11: 0 | BW11: 0 | BX11: 0 | BY11: 0 | BZ11: 0 | CA11: 0 | CB11: 0 | CC11: 0 | CD11: 0 | CE11: 0 | CF11: 0 | CG11: 0 | CH11: 0 | CI11: 0 | CJ11: 0 | CK11: =SUM(BB11+BE11+BH11+BK11+BQ11+BT11+BZ11) -> 712.44
A12: 65 | B12: 311,531 | C12: Prih od upravnih i administr pristojbi i po poseb propisima i naknada | D12: 848684.61 | E12: 848684.61 | F12: 588200 | G12: 526800 | H12: 0 | I12: 526800 | J12: 404531.86 | K12: -122268.14 | L12: 47.67 | M12: 76.79 | N12: 0 | O12: 0 | P12: 0 | Q12: 0 | R12: 0 | S12: 0 | T12: 0 | U12: 0 | V12: 0 | W12: 0 | X12: 0 | Y12: 0 | Z12: 0 | AA12: 0 | AB12: 0 | AC12: 0 | AD12: 0 | AE12: 0 | AF12: 0 | AG12: 0 | AH12: 0 | AI12: 0 | AJ12: 0 | AK12: 0 | AL12: 0 | AM12: 0 | AN12: 0 | AO12: 0 | AP12: 0 | AQ12: 0 | AR12: 0 | AS12: 0 | AT12: 0 | AU12: 0 | AV12: 0 | AW12: 0 | AX12: 0 | AY12: 0 | AZ12: 0 | BA12: 0 | BB12: 0 | BC12: 0 | BD12: 0 | BE12: 5040 | BF12: 0 | BG12: 524800 | BH12: 398691.86 | BI12: 0.75970248 | BJ12: 0 | BK12: 0 | BL12: 0 | BM12: 0 | BN12: 0 | BO12: 0 | BP12: 2000 | BQ12: 800 | BR12: 0.4 | BS12: 0 | BT12: 0 | BU12: 0 | BV12: 0 | BW12: 0 | BX12: 0 | BY12: 0 | BZ12: 0 | CA12: 0 | CB12: 0 | CC12: 0 | CD12: 0 | CE12: 0 | CF12: 0 | CG12: 0 | CH12: 0 | CI12: 0 | CJ12: 0 | CK12: =SUM(BB12+BE12+BH12+BK12+BQ12+BT12+BZ12) -> 404531.86
A13: 652 | B13: 311,531 | C13: Prihodi po posebnim propisima | D13: 848684.61 | E13: 848684.61 | F13: 588200 | G13: 526800 | H13: 0 | I13: 526800 | J13: 404531.86 | K13: -122268.14 | L13: 47.67 | M13: 76.79 | N13: 0 | O13: 0 | P13: 0 | Q13: 0 | R13: 0 | S13: 0 | T13: 0 | U13: 0 | V13: 0 | W13: 0 | X13: 0 | Y13: 0 | Z13: 0 | AA13: 0 | AB13: 0 | AC13: 0 | AD13: 0 | AE13: 0 | AF13: 0 | AG13: 0 | AH13: 0 | AI13: 0 | AJ13: 0 | AK13: 0 | AL13: 0 | AM13: 0 | AN13: 0 | AO13: 0 | AP13: 0 | AQ13: 0 | AR13: 0 | AS13: 0 | AT13: 0 | AU13: 0 | AV13: 0 | AW13: 0 | AX13: 0 | AY13: 0 | AZ13: 0 | BA13: 0 | BB13: 0 | BC13: 0 | BD13: 0 | BE13: 5040 | BF13: 0 | BG13: 524800 | BH13: 398691.86 | BI13: 0.75970248 | BJ13: 0 | BK13: 0 | BL13: 0 | BM13: 0 | BN13: 0 | BO13: 0 | BP13: 2000 | BQ13: 800 | BR13: 0.4 | BS13: 0 | BT13: 0 | BU13: 0 | BV13: 0 | BW13: 0 | BX13: 0 | BY13: 0 | BZ13: 0 | CA13: 0 | CB13: 0 | CC13: 0 | CD13: 0 | CE13: 0 | CF13: 0 | CG13: 0 | CH13: 0 | CI13: 0 | CJ13: 0 | CK13: =SUM(BB13+BE13+BH13+BK13+BQ13+BT13+BZ13) -> 404531.86
A14: 66 | B14: 311,611 | C14: Prih/ prod proizv i robe te pruž usl i prih od donacija | D14: 9592.23 | E14: 9592.23 | F14: 32000 | G14: 32000 | H14: 0 | I14: 32000 | J14: 8668 | K14: -23332 | L14: 90.36 | M14: 27.09 | N14: 0 | O14: 0 | P14: 0 | Q14: 0 | R14: 0 | S14: 0 | T14: 0 | U14: 0 | V14: 0 | W14: 0 | X14: 0 | Y14: 0 | Z14: 0 | AA14: 0 | AB14: 0 | AC14: 0 | AD14: 0 | AE14: 0 | AF14: 0 | AG14: 0 | AH14: 0 | AI14: 0 | AJ14: 0 | AK14: 0 | AL14: 0 | AM14: 0 | AN14: 0 | AO14: 0 | AP14: 0 | AQ14: 0 | AR14: 0 | AS14: 0 | AT14: 0 | AU14: 0 | AV14: 0 | AW14: 0 | AX14: 0 | AY14: 0 | AZ14: 0 | BA14: 0 | BB14: 0 | BC14: 0 | BD14: 0 | BE14: 0 | BF14: 0 | BG14: 2000 | BH14: 1600 | BI14: 0.8 | BJ14: 0 | BK14: 0 | BL14: 0 | BM14: 0 | BN14: 0 | BO14: 0 | BP14: 0 | BQ14: 450 | BR14: 0 | BS14: 0 | BT14: 0 | BU14: 0 | BV14: 0 | BW14: 0 | BX14: 0 | BY14: 30000 | BZ14: 6618 | CA14: 0.2206 | CB14: 0 | CC14: 0 | CD14: 0 | CE14: 0 | CF14: 0 | CG14: 0 | CH14: 0 | CI14: 0 | CJ14: 0 | CK14: =SUM(BB14+BE14+BH14+BK14+BQ14+BT14+BZ14) -> 8668
A15: 661 | B15: 311 | C15: Prihodi od prodaje proizv i robe te pruženih usluga | D15: 600 | E15: 600 | F15: 2000 | G15: 2000 | H15: 0 | I15: 2000 | J15: 300 | K15: -1700 | L15: 50 | M15: 15 | N15: 0 | O15: 0 | P15: 0 | Q15: 0 | R15: 0 | S15: 0 | T15: 0 | U15: 0 | V15: 0 | W15: 0 | X15: 0 | Y15: 0 | Z15: 0 | AA15: 0 | AB15: 0 | AC15: 0 | AD15: 0 | AE15: 0 | AF15: 0 | AG15: 0 | AH15: 0 | AI15: 0 | AJ15: 0 | AK15: 0 | AL15: 0 | AM15: 0 | AN15: 0 | AO15: 0 | AP15: 0 | AQ15: 0 | AR15: 0 | AS15: 0 | AT15: 0 | AU15: 0 | AV15: 0 | AW15: 0 | AX15: 0 | AY15: 0 | AZ15: 0 | BA15: 0 | BB15: 0 | BC15: 0 | BD15: 0 | BE15: 0 | BF15: 0 | BG15: 2000 | BH15: 300 | BI15: 0.15 | BJ15: 0 | BK15: 0 | BL15: 0 | BM15: 0 | BN15: 0 | BO15: 0 | BP15: 0 | BQ15: 0 | BR15: 0 | BS15: 0 | BT15: 0 | BU15: 0 | BV15: 0 | BW15: 0 | BX15: 0 | BY15: 0 | BZ15: 0 | CA15: 0 | CB15: 0 | CC15: 0 | CD15: 0 | CE15: 0 | CF15: 0 | CG15: 0 | CH15: 0 | CI15: 0 | CJ15: 0 | CK15: =SUM(BB15+BE15+BH15+BK15+BQ15+BT15+BZ15) -> 300
A16: 663 | B16: 611 | C16: Donacije od pravnih i fizičkih osoba izvan općeg proračuna | D16: 8992.23 | E16: 8992.23 | F16: 30000 | G16: 30000 | H16: 0 | I16: 30000 | J16: 8368 | K16: -21632 | L16: 93.06 | M16: 27.89 | N16: 0 | O16: 0 | P16: 0 | Q16: 0 | R16: 0 | S16: 0 | T16: 0 | U16: 0 | V16: 0 | W16: 0 | X16: 0 | Y16: 0 | Z16: 0 | AA16: 0 | AB16: 0 | AC16: 0 | AD16: 0 | AE16: 0 | AF16: 0 | AG16: 0 | AH16: 0 | AI16: 0 | AJ16: 0 | AK16: 0 | AL16: 0 | AM16: 0 | AN16: 0 | AO16: 0 | AP16: 0 | AQ16: 0 | AR16: 0 | AS16: 0 | AT16: 0 | AU16: 0 | AV16: 0 | AW16: 0 | AX16: 0 | AY16: 0 | AZ16: 0 | BA16: 0 | BB16: 0 | BC16: 0 | BD16: 0 | BE16: 0 | BF16: 0 | BG16: 0 | BH16: 1300 | BI16: 0 | BJ16: 0 | BK16: 0 | BL16: 0 | BM16: 0 | BN16: 0 | BO16: 0 | BP16: 0 | BQ16: 450 | BR16: 0 | BS16: 0 | BT16: 0 | BU16: 0 | BV16: 0 | BW16: 0 | BX16: 0 | BY16: 30000 | BZ16: 6618 | CA16: 0.2206 | CB16: 0 | CC16: 0 | CD16: 0 | CE16: 0 | CF16: 0 | CG16: 0 | CH16: 0 | CI16: 0 | CJ16: 0 | CK16: =SUM(BB16+BE16+BH16+BK16+BQ16+BT16+BZ16) -> 8368
A17: 67 | B17: 111,112 | C17: AAAA - Prih za financ rash poslov - nadlez prorac | D17: 3330183.9 | E17: 3330183.9 | F17: 0 | G17: 1990757 | H17: 0 | I17: 1990757 | J17: 1916783.2 | K17: -73973.77 | L17: 57.56 | M17: 96.28 | N17: 0 | O17: 0 | P17: 0 | Q17: 0 | R17: 0 | S17: 0 | T17: 0 | U17: 0 | V17: 0 | W17: 0 | X17: 0 | Y17: 0 | Z17: 0 | AA17: 0 | AB17: 0 | AC17: 0 | AD17: 0 | AE17: 0 | AF17: 0 | AG17: 0 | AH17: 0 | AI17: 0 | AJ17: 0 | AK17: 0 | AL17: 0 | AM17: 0 | AN17: 0 | AO17: 0 | AP17: 0 | AQ17: 0 | AR17: 0 | AS17: 0 | AT17: 0 | AU17: 0 | AV17: 0 | AW17: 0 | AX17: 0 | AY17: 0 | AZ17: 0 | BA17: 1945442 | BB17: 1883469.8 | BC17: 0.96814493 | BD17: 45315 | BE17: 33313.42 | BF17: 0.73515216 | BG17: 0 | BH17: 0 | BI17: 0 | BJ17: 0 | BK17: 0 | BL17: 0 | BM17: 0 | BN17: 0 | BO17: 0 | BP17: 0 | BQ17: 0 | BR17: 0 | BS17: 0 | BT17: 0 | BU17: 0 | BV17: 0 | BW17: 0 | BX17: 0 | BY17: 0 | BZ17: 0 | CA17: 0 | CB17: 0 | CC17: 0 | CD17: 0 | CE17: 0 | CF17: 0 | CG17: 0 | CH17: 0 | CI17: 0 | CJ17: 0 | CK17: =SUM(BB17+BE17+BH17+BK17+BQ17+BT17+BZ17) -> 1916783.2
A18: 671 | B18: 111,112 | C18: AAAA - Prih za financ rash poslov - nadlez prorac | D18: 3330183.9 | E18: 3330183.9 | F18: 0 | G18: 1990757 | H18: 0 | I18: 1990757 | J18: 1916783.2 | K18: -73973.77 | L18: 57.56 | M18: 96.28 | N18: 0 | O18: 0 | P18: 0 | Q18: 0 | R18: 0 | S18: 0 | T18: 0 | U18: 0 | V18: 0 | W18: 0 | X18: 0 | Y18: 0 | Z18: 0 | AA18: 0 | AB18: 0 | AC18: 0 | AD18: 0 | AE18: 0 | AF18: 0 | AG18: 0 | AH18: 0 | AI18: 0 | AJ18: 0 | AK18: 0 | AL18: 0 | AM18: 0 | AN18: 0 | AO18: 0 | AP18: 0 | AQ18: 0 | AR18: 0 | AS18: 0 | AT18: 0 | AU18: 0 | AV18: 0 | AW18: 0 | AX18: 0 | AY18: 0 | AZ18: 0 | BA18: 1945442 | BB18: 1883469.8 | BC18: 0.96814493 | BD18: 45315 | BE18: 33313.42 | BF18: 0.73515216 | BG18: 0 | BH18: 0 | BI18: 0 | BJ18: 0 | BK18: 0 | BL18: 0 | BM18: 0 | BN18: 0 | BO18: 0 | BP18: 0 | BQ18: 0 | BR18: 0 | BS18: 0 | BT18: 0 | BU18: 0 | BV18: 0 | BW18: 0 | BX18: 0 | BY18: 0 | BZ18: 0 | CA18: 0 | CB18: 0 | CC18: 0 | CD18: 0 | CE18: 0 | CF18: 0 | CG18: 0 | CH18: 0 | CI18: 0 | CJ18: 0 | CK18: =SUM(BB18+BE18+BH18+BK18+BQ18+BT18+BZ18) -> 1916783.2

Sheet RASHODI IZVRŠENJE 2021
A1: Pozicija za G.K. | B1: Pozicija | C1: Izvori finaciranja | D1: Razdjel | E1: Glava | F1: Program | G1: Funkcija | H1: Korisnik | I1: Aktivnost / projekt | J1: Konto | K1: Naziv | L1: Izvorni plan 2021 | M1: Tekući plan 2021 | N1: Preraspodjela 2021 | O1: Tekući plan+preraspodjela | P1: Izvršenje od 01.01.2021 do 31.12.2021 | Q1: Razlika izvršenja | R1: Izvršenje/plan 2021 | S1: 11 - Opći prihodi i primici | T1: 11 - izvršenje | U1: 11 - izvršenje/plan | V1: 41 - Prihodi za posebne namjene | W1: 41 - izvršenje | X1: 41 - izvršenje/plan | Y1: 50 - Decentralizacija - pokriva RH | Z1: 50 - izvršenje | AA1: 50 - izvršenje/plan | AB1: 52 - HZZ, FZOEU, TZ, CK i dr - za posebne i / ili ugovorene namje | AC1: 52 - izvršenje | AD1: 52 - izvršenje/plan | AE1: 53 - Proračuni, drugi nivoi - za posebne i / ili ugovorene namjen | AF1: 53 - izvršenje | AG1: 53 - izvršenje/plan | AH1: 54 - Pomoći tijela i fondova EU | AI1: 54 - izvršenje | AJ1: 54 - izvršenje/plan | AK1: 55 - Pomoći iz inozemstva | AL1: 55 - izvršenje | AM1: 55 - izvršenje/plan | AN1: 61 - Donacije | AO1: 61 - izvršenje | AP1: 61 - izvršenje/plan | AQ1: 71 - Prih od prodaje ili zamj nefin imov i nakn_osig | AR1: 71 - izvršenje | AS1: 71 - izvršenje/plan | AT1: 81 - Namjenski primici od zaduživanja | AU1: 81 - izvršenje | AV1: 81 - izvršenje/plan | AW1: 82 - Preneseni viškovi iz ranijih godina | AX1: 82 - izvršenje | AY1: 82 - izvršenje/plan | AZ1: 83 - Ostali povrem namj primici - prodaja udjela i sl | BA1: 83 - izvršenje | BB1: 83 - izvršenje/plan | BC1: 110 - Predfinanciranje Eu i ostalo | BD1: 110 - izvršenje | BE1: 110 - izvršenje/plan | BF1: 111 - Redovna djelatnost - kod korisnika - iz Grada | BG1: 111 - izvršenje | BH1: 111 - izvršenje/plan | BI1: 112 - Posebni programi - zajednički dio - iz Grada | BJ1: 112 - izvršenje | BK1: 112 - izvršenje/plan | BL1: 311 - Vlastiti prihodi - uplate roditelja i osoblja | BM1: 311 - izvršenje | BN1: 311 - izvršenje/plan | BO1: 511 - OŠ - COP, Minist | BP1: 511 - izvršenje | BQ1: 511 - izvršenje/plan | BR1: 521 - HZZ, FZOEU, TZ, CK i dr - za posebne i / ili ugovorene namj | BS1: 521 - izvršenje | BT1: 521 - izvršenje/plan | BU1: 531 - Proračuni, drugi nivoi - za posebne i / ili ugovorene namjen | BV1: 531 - izvršenje | BW1: 531 - izvršenje/plan | BX1: 541 - Pomoći tijela i fondova EU | BY1: 541 - izvršenje | BZ1: 541 - izvršenje/plan | CA1: 551 - Pomoći iz inozemstva | CB1: 551 - izvršenje | CC1: 551 - izvršenje/plan | CD1: 611 - Donacije | CE1: 611 - izvršenje | CF1: 611 - izvršenje/plan | CG1: 711 - Prih od prodaje ili zamj nefin imov i nakn_osig | CH1: 711 - izvršenje | CI1: 711 - izvršenje/plan | CJ1: 811 - Namjenski primici od zaduživanja | CK1: 811 - izvršenje | CL1: 811 - izvršenje/plan | CM1: 821 - Preneseni viškovi iz ranijih godina | CN1: 821 - izvršenje | CO1: 821 - izvršenje/plan
A5: 1 | B5: 2 | C5: 3 | D5: 4 | E5: 5 | F5: 6 | G5: 7 | H5: 8 | I5: 9 | J5: 10 | K5: 11 | L5: 12 | M5: 13 | N5: 14 | O5: 15 | P5: 16 | Q5: 17 | R5: 18 | S5: 19 | V5: 20 | Y5: 21 | AB5: 22 | AE5: 23 | AH5: 24 | AK5: 25 | AN5: 26 | AQ5: 27 | AT5: 28 | AW5: 29 | AZ5: 30 | BC5: 31 | BF5: 32 | BI5: 33 | BL5: 34 | BO5: 35 | BR5: 36 | BU5: 37 | BX5: 38 | CA5: 39 | CD5: 40 | CG5: 41 | CJ5: 42 | CM5: 43
A7: 70000 | D7: 7 | K7: UPRAVNI ODJEL ZA DRUŠTVENE DJELATNOSTI | L7: 10157925 | M7: 10319787 | N7: 0 | O7: 10319787 | P7: 9487085.4 | Q7: -832701.62 | R7: 0.92 | S7: 0 | T7: 0 | U7: 0 | V7: 0 | W7: 0 | X7: 0 | Y7: 0 | Z7: 0 | AA7: 0 | AB7: 0 | AC7: 0 | AD7: 0 | AE7: 0 | AF7: 0 | AG7: 0 | AH7: 0 | AI7: 0 | AJ7: 0 | AK7: 0 | AL7: 0 | AM7: 0 | AN7: 0 | AO7: 0 | AP7: 0 | AQ7: 0 | AR7: 0 | AS7: 0 | AT7: 0 | AU7: 0 | AV7: 0 | AW7: 0 | AX7: 0 | AY7: 0 | AZ7: 0 | BA7: 0 | BB7: 0 | BC7: 0 | BD7: 0 | BE7: 0 | BF7: 1945442 | BG7: 1883469.8 | BH7: 0.97 | BI7: 45315 | BJ7: 38353.42 | BK7: 0.85 | BL7: 528000 | BM7: 306941.92 | BN7: 0.58 | BO7: 6997000 | BP7: 6778306.7 | BQ7: 0.97 | BR7: 0 | BS7: 0 | BT7: 0 | BU7: 448905 | BV7: 307444.4 | BW7: 0.68 | BX7: 67200 | BY7: 59095.41 | BZ7: 0.88 | CA7: 0 | CB7: 0 | CC7: 0 | CD7: 30000 | CE7: 3118 | CF7: 0.1 | CG7: 0 | CH7: 0 | CI7: 0 | CJ7: 0 | CK7: 0 | CL7: 0 | CM7: 257925 | CN7: 110355.68 | CO7: 0.43
A8: 70005 | D8: 7 | E8: 1 | K8: UPRAVNI ODJEL ZA DRUŠTVENE DJELATNOSTI | L8: 58880 | M8: 45315 | N8: 0 | O8: 45315 | P8: 38353.42 | Q8: -6961.58 | R8: 0.85 | S8: 0 | T8: 0 | U8: 0 | V8: 0 | W8: 0 | X8: 0 | Y8: 0 | Z8: 0 | AA8: 0 | AB8: 0 | AC8: 0 | AD8: 0 | AE8: 0 | AF8: 0 | AG8: 0 | AH8: 0 | AI8: 0 | AJ8: 0 | AK8: 0 | AL8: 0 | AM8: 0 | AN8: 0 | AO8: 0 | AP8: 0 | AQ8: 0 | AR8: 0 | AS8: 0 | AT8: 0 | AU8: 0 | AV8: 0 | AW8: 0 | AX8: 0 | AY8: 0 | AZ8: 0 | BA8: 0 | BB8: 0 | BC8: 0 | BD8: 0 | BE8: 0 | BF8: 0 | BG8: 0 | BH8: 0 | BI8: 45315 | BJ8: 38353.42 | BK8: 0.85 | BL8: 0 | BM8: 0 | BN8: 0 | BO8: 0 | BP8: 0 | BQ8: 0 | BR8: 0 | BS8: 0 | BT8: 0 | BU8: 0 | BV8: 0 | BW8: 0 | BX8: 0 | BY8: 0 | BZ8: 0 | CA8: 0 | CB8: 0 | CC8: 0 | CD8: 0 | CE8: 0 | CF8: 0 | CG8: 0 | CH8: 0 | CI8: 0 | CJ8: 0 | CK8: 0 | CL8: 0 | CM8: 0 | CN8: 0 | CO8: 0
A9: 70005 | D9: 7 | E9: 1 | J9: 112 | K9: Posebni programi - zajednički dio - iz Grada | L9: 0 | M9: 45315 | N9: 0 | O9: 45315 | P9: 38353.42 | Q9: -6961.58 | R9: 0.85 | S9: 0 | T9: 0 | U9: 0 | V9: 0 | W9: 0 | X9: 0 | Y9: 0 | Z9: 0 | AA9: 0 | AB9: 0 | AC9: 0 | AD9: 0 | AE9: 0 | AF9: 0 | AG9: 0 | AH9: 0 | AI9: 0 | AJ9: 0 | AK9: 0 | AL9: 0 | AM9: 0 | AN9: 0 | AO9: 0 | AP9: 0 | AQ9: 0 | AR9: 0 | AS9: 0 | AT9: 0 | AU9: 0 | AV9: 0 | AW9: 0 | AX9: 0 | AY9: 0 | AZ9: 0 | BA9: 0 | BB9: 0 | BC9: 0 | BD9: 0 | BE9: 0 | BF9: 0 | BG9: 0 | BH9: 0 | BI9: 0 | BJ9: 0 | BK9: 0 | BL9: 0 | BM9: 0 | BN9: 0 | BO9: 0 | BP9: 0 | BQ9: 0 | BR9: 0 | BS9: 0 | BT9: 0 | BU9: 0 | BV9: 0 | BW9: 0 | BX9: 0 | BY9: 0 | BZ9: 0 | CA9: 0 | CB9: 0 | CC9: 0 | CD9: 0 | CE9: 0 | CF9: 0 | CG9: 0 | CH9: 0 | CI9: 0 | CJ9: 0 | CK9: 0 | CL9: 0 | CM9: 0 | CN9: 0 | CO9: 0
A10: 70115 | D10: 7 | E10: 1 | F10: P1026 | K10: Program: OPĆE JAVNE POTREBE U ŠKOLSTVU | L10: 34880 | M10: 33315 | N10: 0 | O10: 33315 | P10: 33313.42 | Q10: -1.58 | R10: 1 | S10: 0 | T10: 0 | U10: 0 | V10: 0 | W10: 0 | X10: 0 | Y10: 0 | Z10: 0 | AA10: 0 | AB10: 0 | AC10: 0 | AD10: 0 | AE10: 0 | AF10: 0 | AG10: 0 | AH10: 0 | AI10: 0 | AJ10: 0 | AK10: 0 | AL10: 0 | AM10: 0 | AN10: 0 | AO10: 0 | AP10: 0 | AQ10: 0 | AR10: 0 | AS10: 0 | AT10: 0 | AU10: 0 | AV10: 0 | AW10: 0 | AX10: 0 | AY10: 0 | AZ10: 0 | BA10: 0 | BB10: 0 | BC10: 0 | BD10: 0 | BE10: 0 | BF10: 0 | BG10: 0 | BH10: 0 | BI10: 33315 | BJ10: 33313.42 | BK10: 1 | BL10: 0 | BM10: 0 | BN10: 0 | BO10: 0 | BP10: 0 | BQ10: 0 | BR10: 0 | BS10: 0 | BT10: 0 | BU10: 0 | BV10: 0 | BW10: 0 | BX10: 0 | BY10: 0 | BZ10: 0 | CA10: 0 | CB10: 0 | CC10: 0 | CD10: 0 | CE10: 0 | CF10: 0 | CG10: 0 | CH10: 0 | CI10: 0 | CJ10: 0 | CK10: 0 | CL10: 0 | CM10: 0 | CN10: 0 | CO10: 0
A11: 70120 | D11: 7 | E11: 1 | F11: P1026 | G11: 912 | K11: Funkcijska klasifikacija: 09 - Obrazovanje | L11: 34880 | M11: 33315 | N11: 0 | O11: 33315 | P11: 33313.42 | Q11: -1.58 | R11: 1 | S11: 0 | T11: 0 | U11: 0 | V11: 0 | W11: 0 | X11: 0 | Y11: 0 | Z11: 0 | AA11: 0 | AB11: 0 | AC11: 0 | AD11: 0 | AE11: 0 | AF11: 0 | AG11: 0 | AH11: 0 | AI11: 0 | AJ11: 0 | AK11: 0 | AL11: 0 | AM11: 0 | AN11: 0 | AO11: 0 | AP11: 0 | AQ11: 0 | AR11: 0 | AS11: 0 | AT11: 0 | AU11: 0 | AV11: 0 | AW11: 0 | AX11: 0 | AY11: 0 | AZ11: 0 | BA11: 0 | BB11: 0 | BC11: 0 | BD11: 0 | BE11: 0 | BF11: 0 | BG11: 0 | BH11: 0 | BI11: 33315 | BJ11: 33313.42 | BK11: 1 | BL11: 0 | BM11: 0 | BN11: 0 | BO11: 0 | BP11: 0 | BQ11: 0 | BR11: 0 | BS11: 0 | BT11: 0 | BU11: 0 | BV11: 0 | BW11: 0 | BX11: 0 | BY11: 0 | BZ11: 0 | CA11: 0 | CB11: 0 | CC11: 0 | CD11: 0 | CE11: 0 | CF11: 0 | CG11: 0 | CH11: 0 | CI11: 0 | CJ11: 0 | CK11: 0 | CL11: 0 | CM11: 0 | CN11: 0 | CO11: 0
A12: 70320 | B12: 7-009 | C12: 112 | D12: 7 | E12: 1 | F12: P1026 | G12: 912 | I12: A102607 | K12: Aktivnost: NATJECANJA UČENIKA | L12: 6300 | M12: 4200 | N12: 0 | O12: 4200 | P12: 4200 | Q12: 0 | R12: 1 | S12: 0 | T12: 0 | U12: 0 | V12: 0 | W12: 0 | X12: 0 | Y12: 0 | Z12: 0 | AA12: 0 | AB12: 0 | AC12: 0 | AD12: 0 | AE12: 0 | AF12: 0 | AG12: 0 | AH12: 0 | AI12: 0 | AJ12: 0 | AK12: 0 | AL12: 0 | AM12: 0 | AN12: 0 | AO12: 0 | AP12: 0 | AQ12: 0 | AR12: 0 | AS12: 0 | AT12: 0 | AU12: 0 | AV12: 0 | AW12: 0 | AX12: 0 | AY12: 0 | AZ12: 0 | BA12: 0 | BB12: 0 | BC12: 0 | BD12: 0 | BE12: 0 | BF12: 0 | BG12: 0 | BH12: 0 | BI12: 4200 | BJ12: 4200 | BK12: 1 | BL12: 0 | BM12: 0 | BN12: 0 | BO12: 0 | BP12: 0 | BQ12: 0 | BR12: 0 | BS12: 0 | BT12: 0 | BU12: 0 | BV12: 0 | BW12: 0 | BX12: 0 | BY12: 0 | BZ12: 0 | CA12: 0 | CB12: 0 | CC12: 0 | CD12: 0 | CE12: 0 | CF12: 0 | CG12: 0 | CH12: 0 | CI12: 0 | CJ12: 0 | CK12: 0 | CL12: 0 | CM12: 0 | CN12: 0 | CO12: 0
A13: 70325 | B13: 7-009 | C13: 112 | D13: 7 | E13: 1 | F13: P1026 | G13: 912 | I13: A102607 | J13: 3 | K13: Rashodi poslovanja | L13: 6300 | M13: 4200 | N13: 0 | O13: 4200 | P13: 4200 | Q13: 0 | R13: 1 | S13: 0 | T13: 0 | U13: 0 | V13: 0 | W13: 0 | X13: 0 | Y13: 0 | Z13: 0 | AA13: 0 | AB13: 0 | AC13: 0 | AD13: 0 | AE13: 0 | AF13: 0 | AG13: 0 | AH13: 0 | AI13: 0 | AJ13: 0 | AK13: 0 | AL13: 0 | AM13: 0 | AN13: 0 | AO13: 0 | AP13: 0 | AQ13: 0 | AR13: 0 | AS13: 0 | AT13: 0 | AU13: 0 | AV13: 0 | AW13: 0 | AX13: 0 | AY13: 0 | AZ13: 0 | BA13: 0 | BB13: 0 | BC13: 0 | BD13: 0 | BE13: 0 | BF13: 0 | BG13: 0 | BH13: 0 | BI13: 4200 | BJ13: 4200 | BK13: 1 | BL13: 0 | BM13: 0 | BN13: 0 | BO13: 0 | BP13: 0 | BQ13: 0 | BR13: 0 | BS13: 0 | BT13: 0 | BU13: 0 | BV13: 0 | BW13: 0 | BX13: 0 | BY13: 0 | BZ13: 0 | CA13: 0 | CB13: 0 | CC13: 0 | CD13: 0 | CE13: 0 | CF13: 0 | CG13: 0 | CH13: 0 | CI13: 0 | CJ13: 0 | CK13: 0 | CL13: 0 | CM13: 0 | CN13: 0 | CO13: 0
A14: 70330 | B14: 7-009 | C14: 112 | D14: 7 | E14: 1 | F14: P1026 | G14: 912 | I14: A102607 | J14: 32 | K14: Materijalni rashodi | L14: 6300 | M14: 4200 | N14: 0 | O14: 4200 | P14: 4200 | Q14: 0 | R14: 1 | S14: 0 | T14: 0 | U14: 0 | V14: 0 | W14: 0 | X14: 0 | Y14: 0 | Z14: 0 | AA14: 0 | AB14: 0 | AC14: 0 | AD14: 0 | AE14: 0 | AF14: 0 | AG14: 0 | AH14: 0 | AI14: 0 | AJ14: 0 | AK14: 0 | AL14: 0 | AM14: 0 | AN14: 0 | AO14: 0 | AP14: 0 | AQ14: 0 | AR14: 0 | AS14: 0 | AT14: 0 | AU14: 0 | AV14: 0 | AW14: 0 | AX14: 0 | AY14: 0 | AZ14: 0 | BA14: 0 | BB14: 0 | BC14: 0 | BD14: 0 | BE14: 0 | BF14: 0 | BG14: 0 | BH14: 0 | BI14: 4200 | BJ14: 4200 | BK14: 1 | BL14: 0 | BM14: 0 | BN14: 0 | BO14: 0 | BP14: 0 | BQ14: 0 | BR14: 0 | BS14: 0 | BT14: 0 | BU14: 0 | BV14: 0 | BW14: 0 | BX14: 0 | BY14: 0 | BZ14: 0 | CA14: 0 | CB14: 0 | CC14: 0 | CD14: 0 | CE14: 0 | CF14: 0 | CG14: 0 | CH14: 0 | CI14: 0 | CJ14: 0 | CK14: 0 | CL14: 0 | CM14: 0 | CN14: 0 | CO14: 0
A15: 70335 | B15: 7-009 | C15: 112 | D15: 7 | E15: 1 | F15: P1026 | G15: 912 | I15: A102607 | J15: 329 | K15: Ostali nespomenuti rashodi poslovanja | L15: 6300 | M15: 4200 | N15: 0 | O15: 4200 | P15: 4200 | Q15: 0 | R15: 1 | S15: 0 | T15: 0 | U15: 0 | V15: 0 | W15: 0 | X15: 0 | Y15: 0 | Z15: 0 | AA15: 0 | AB15: 0 | AC15: 0 | AD15: 0 | AE15: 0 | AF15: 0 | AG15: 0 | AH15: 0 | AI15: 0 | AJ15: 0 | AK15: 0 | AL15: 0 | AM15: 0 | AN15: 0 | AO15: 0 | AP15: 0 | AQ15: 0 | AR15: 0 | AS15: 0 | AT15: 0 | AU15: 0 | AV15: 0 | AW15: 0 | AX15: 0 | AY15: 0 | AZ15: 0 | BA15: 0 | BB15: 0 | BC15: 0 | BD15: 0 | BE15: 0 | BF15: 0 | BG15: 0 | BH15: 0 | BI15: 4200 | BJ15: 4200 | BK15: 1 | BL15: 0 | BM15: 0 | BN15: 0 | BO15: 0 | BP15: 0 | BQ15: 0 | BR15: 0 | BS15: 0 | BT15: 0 | BU15: 0 | BV15: 0 | BW15: 0 | BX15: 0 | BY15: 0 | BZ15: 0 | CA15: 0 | CB15: 0 | CC15: 0 | CD15: 0 | CE15: 0 | CF15: 0 | CG15: 0 | CH15: 0 | CI15: 0 | CJ15: 0 | CK15: 0 | CL15: 0 | CM15: 0 | CN15: 0 | CO15: 0
A16: 70385 | B16: 7-011 | C16: 112 | D16: 7 | E16: 1 | F16: P1026 | G16: 912 | I16: A102609 | K16: Aktivnost: POMOĆNICI UČENICIMA S TEŠKOĆAMA U RAZVOJU | L16: 28580 | M16: 29115 | N16: 0 | O16: 29115 | P16: 29113.42 | Q16: -1.58 | R16: 1 | S16: 0 | T16: 0 | U16: 0 | V16: 0 | W16: 0 | X16: 0 | Y16: 0 | Z16: 0 | AA16: 0 | AB16: 0 | AC16: 0 | AD16: 0 | AE16: 0 | AF16: 0 | AG16: 0 | AH16: 0 | AI16: 0 | AJ16: 0 | AK16: 0 | AL16: 0 | AM16: 0 | AN16: 0 | AO16: 0 | AP16: 0 | AQ16: 0 | AR16: 0 | AS16: 0 | AT16: 0 | AU16: 0 | AV16: 0 | AW16: 0 | AX16: 0 | AY16: 0 | AZ16: 0 | BA16: 0 | BB16: 0 | BC16: 0 | BD16: 0 | BE16: 0 | BF16: 0 | BG16: 0 | BH16: 0 | BI16: 29115 | BJ16: 29113.42 | BK16: 1 | BL16: 0 | BM16: 0 | BN16: 0 | BO16: 0 | BP16: 0 | BQ16: 0 | BR16: 0 | BS16: 0 | BT16: 0 | BU16: 0 | BV16: 0 | BW16: 0 | BX16: 0 | BY16: 0 | BZ16: 0 | CA16: 0 | CB16: 0 | CC16: 0 | CD16: 0 | CE16: 0 | CF16: 0 | CG16: 0 | CH16: 0 | CI16: 0 | CJ16: 0 | CK16: 0 | CL16: 0 | CM16: 0 | CN16: 0 | CO16: 0
A17: 70390 | B17: 7-011 | C17: 112 | D17: 7 | E17: 1 | F17: P1026 | G17: 912 | I17: A102609 | J17: 3 | K17: Rashodi poslovanja | L17: 28580 | M17: 29115 | N17: 0 | O17: 29115 | P17: 29113.42 | Q17: -1.58 | R17: 1 | S17: 0 | T17: 0 | U17: 0 | V17: 0 | W17: 0 | X17: 0 | Y17: 0 | Z17: 0 | AA17: 0 | AB17: 0 | AC17: 0 | AD17: 0 | AE17: 0 | AF17: 0 | AG17: 0 | AH17: 0 | AI17: 0 | AJ17: 0 | AK17: 0 | AL17: 0 | AM17: 0 | AN17: 0 | AO17: 0 | AP17: 0 | AQ17: 0 | AR17: 0 | AS17: 0 | AT17: 0 | AU17: 0 | AV17: 0 | AW17: 0 | AX17: 0 | AY17: 0 | AZ17: 0 | BA17: 0 | BB17: 0 | BC17: 0 | BD17: 0 | BE17: 0 | BF17: 0 | BG17: 0 | BH17: 0 | BI17: 29115 | BJ17: 29113.42 | BK17: 1 | BL17: 0 | BM17: 0 | BN17: 0 | BO17: 0 | BP17: 0 | BQ17: 0 | BR17: 0 | BS17: 0 | BT17: 0 | BU17: 0 | BV17: 0 | BW17: 0 | BX17: 0 | BY17: 0 | BZ17: 0 | CA17: 0 | CB17: 0 | CC17: 0 | CD17: 0 | CE17: 0 | CF17: 0 | CG17: 0 | CH17: 0 | CI17: 0 | CJ17: 0 | CK17: 0 | CL17: 0 | CM17: 0 | CN17: 0 | CO17: 0
A18: 70395 | B18: 7-011 | C18: 112 | D18: 7 | E18: 1 | F18: P1026 | G18: 912 | I18: A102609 | J18: 31 | K18: Rashodi za zaposlene | L18: 28580 | M18: 29115 | N18: 0 | O18: 29115 | P18: 29113.42 | Q18: -1.58 | R18: 1 | S18: 0 | T18: 0 | U18: 0 | V18: 0 | W18: 0 | X18: 0 | Y18: 0 | Z18: 0 | AA18: 0 | AB18: 0 | AC18: 0 | AD18: 0 | AE18: 0 | AF18: 0 | AG18: 0 | AH18: 0 | AI18: 0 | AJ18: 0 | AK18: 0 | AL18: 0 | AM18: 0 | AN18: 0 | AO18: 0 | AP18: 0 | AQ18: 0 | AR18: 0 | AS18: 0 | AT18: 0 | AU18: 0 | AV18: 0 | AW18: 0 | AX18: 0 | AY18: 0 | AZ18: 0 | BA18: 0 | BB18: 0 | BC18: 0 | BD18: 0 | BE18: 0 | BF18: 0 | BG18: 0 | BH18: 0 | BI18: 29115 | BJ18: 29113.42 | BK18: 1 | BL18: 0 | BM18: 0 | BN18: 0 | BO18: 0 | BP18: 0 | BQ18: 0 | BR18: 0 | BS18: 0 | BT18: 0 | BU18: 0 | BV18: 0 | BW18: 0 | BX18: 0 | BY18: 0 | BZ18: 0 | CA18: 0 | CB18: 0 | CC18: 0 | CD18: 0 | CE18: 0 | CF18: 0 | CG18: 0 | CH18: 0 | CI18: 0 | CJ18: 0 | CK18: 0 | CL18: 0 | CM18: 0 | CN18: 0 | CO18: 0
A19: 70400 | B19: 7-011 | C19: 112 | D19: 7 | E19: 1 | F19: P1026 | G19: 912 | I19: A102609 | J19: 311 | K19: Plaće (Bruto) | L19: 23307 | M19: 23703 | N19: 0 | O19: 23703 | P19: 23702.51 | Q19: -0.49 | R19: 1 | S19: 0 | T19: 0 | U19: 0 | V19: 0 | W19: 0 | X19: 0 | Y19: 0 | Z19: 0 | AA19: 0 | AB19: 0 | AC19: 0 | AD19: 0 | AE19: 0 | AF19: 0 | AG19: 0 | AH19: 0 | AI19: 0 | AJ19: 0 | AK19: 0 | AL19: 0 | AM19: 0 | AN19: 0 | AO19: 0 | AP19: 0 | AQ19: 0 | AR19: 0 | AS19: 0 | AT19: 0 | AU19: 0 | AV19: 0 | AW19: 0 | AX19: 0 | AY19: 0 | AZ19: 0 | BA19: 0 | BB19: 0 | BC19: 0 | BD19: 0 | BE19: 0 | BF19: 0 | BG19: 0 | BH19: 0 | BI19: 23703 | BJ19: 23702.51 | BK19: 1 | BL19: 0 | BM19: 0 | BN19: 0 | BO19: 0 | BP19: 0 | BQ19: 0 | BR19: 0 | BS19: 0 | BT19: 0 | BU19: 0 | BV19: 0 | BW19: 0 | BX19: 0 | BY19: 0 | BZ19: 0 | CA19: 0 | CB19: 0 | CC19: 0 | CD19: 0 | CE19: 0 | CF19: 0 | CG19: 0 | CH19: 0 | CI19: 0 | CJ19: 0 | CK19: 0 | CL19: 0 | CM19: 0 | CN19: 0 | CO19: 0
A20: 70410 | B20: 7-011 | C20: 112 | D20: 7 | E20: 1 | F20: P1026 | G20: 912 | I20: A102609 | J20: 312 | K20: Ostali rashodi za zaposlene | L20: 1500 | M20: 1500 | N20: 0 | O20: 1500 | P20: 1500 | Q20: 0 | R20: 1 | S20: 0 | T20: 0 | U20: 0 | V20: 0 | W20: 0 | X20: 0 | Y20: 0 | Z20: 0 | AA20: 0 | AB20: 0 | AC20: 0 | AD20: 0 | AE20: 0 | AF20: 0 | AG20: 0 | AH20: 0 | AI20: 0 | AJ20: 0 | AK20: 0 | AL20: 0 | AM20: 0 | AN20: 0 | AO20: 0 | AP20: 0 | AQ20: 0 | AR20: 0 | AS20: 0 | AT20: 0 | AU20: 0 | AV20: 0 | AW20: 0 | AX20: 0 | AY20: 0 | AZ20: 0 | BA20: 0 | BB20: 0 | BC20: 0 | BD20: 0 | BE20: 0 | BF20: 0 | BG20: 0 | BH20: 0 | BI20: 1500 | BJ20: 1500 | BK20: 1 | BL20: 0 | BM20: 0 | BN20: 0 | BO20: 0 | BP20: 0 | BQ20: 0 | BR20: 0 | BS20: 0 | BT20: 0 | BU20: 0 | BV20: 0 | BW20: 0 | BX20: 0 | BY20: 0 | BZ20: 0 | CA20: 0 | CB20: 0 | CC20: 0 | CD20: 0 | CE20: 0 | CF20: 0 | CG20: 0 | CH20: 0 | CI20: 0 | CJ20: 0 | CK20: 0 | CL20: 0 | CM20: 0 | CN20: 0 | CO20: 0
A21: 70420 | B21: 7-011 | C21: 112 | D21: 7 | E21: 1 | F21: P1026 | G21: 912 | I21: A102609 | J21: 313 | K21: Doprinosi na plaće | L21: 3773 | M21: 3912 | N21: 0 | O21: 3912 | P21: 3910.91 | Q21: -1.09 | R21: 1 | S21: 0 | T21: 0 | U21: 0 | V21: 0 | W21: 0 | X21: 0 | Y21: 0 | Z21: 0 | AA21: 0 | AB21: 0 | AC21: 0 | AD21: 0 | AE21: 0 | AF21: 0 | AG21: 0 | AH21: 0 | AI21: 0 | AJ21: 0 | AK21: 0 | AL21: 0 | AM21: 0 | AN21: 0 | AO21: 0 | AP21: 0 | AQ21: 0 | AR21: 0 | AS21: 0 | AT21: 0 | AU21: 0 | AV21: 0 | AW21: 0 | AX21: 0 | AY21: 0 | AZ21: 0 | BA21: 0 | BB21: 0 | BC21: 0 | BD21: 0 | BE21: 0 | BF21: 0 | BG21: 0 | BH21: 0 | BI21: 3912 | BJ21: 3910.91 | BK21: 1 | BL21: 0 | BM21: 0 | BN21: 0 | BO21: 0 | BP21: 0 | BQ21: 0 | BR21: 0 | BS21: 0 | BT21: 0 | BU21: 0 | BV21: 0 | BW21: 0 | BX21: 0 | BY21: 0 | BZ21: 0 | CA21: 0 | CB21: 0 | CC21: 0 | CD21: 0 | CE21: 0 | CF21: 0 | CG21: 0 | CH21: 0 | CI21: 0 | CJ21: 0 | CK21: 0 | CL21: 0 | CM21: 0 | CN21: 0 | CO21: 0
A22: 71670 | D22: 7 | E22: 1 | F22: P1032 | K22: Program: SOCIJALNA SKRB | L22: 24000 | M22: 12000 | N22: 0 | O22: 12000 | P22: 5040 | Q22: -6960 | R22: 0.42 | S22: 0 | T22: 0 | U22: 0 | V22: 0 | W22: 0 | X22: 0 | Y22: 0 | Z22: 0 | AA22: 0 | AB22: 0 | AC22: 0 | AD22: 0 | AE22: 0 | AF22: 0 | AG22: 0 | AH22: 0 | AI22: 0 | AJ22: 0 | AK22: 0 | AL22: 0 | AM22: 0 | AN22: 0 | AO22: 0 | AP22: 0 | AQ22: 0 | AR22: 0 | AS22: 0 | AT22: 0 | AU22: 0 | AV22: 0 | AW22: 0 | AX22: 0 | AY22: 0 | AZ22: 0 | BA22: 0 | BB22: 0 | BC22: 0 | BD22: 0 | BE22: 0 | BF22: 0 | BG22: 0 | BH22: 0 | BI22: 12000 | BJ22: 5040 | BK22: 0.42 | BL22: 0 | BM22: 0 | BN22: 0 | BO22: 0 | BP22: 0 | BQ22: 0 | BR22: 0 | BS22: 0 | BT22: 0 | BU22: 0 | BV22: 0 | BW22: 0 | BX22: 0 | BY22: 0 | BZ22: 0 | CA22: 0 | CB22: 0 | CC22: 0 | CD22: 0 | CE22: 0 | CF22: 0 | CG22: 0 | CH22: 0 | CI22: 0 | CJ22: 0 | CK22: 0 | CL22: 0 | CM22: 0 | CN22: 0 | CO22: 0
A23: 71675 | D23: 7 | E23: 1 | F23: P1032 | G23: 1070 | K23: Funkcijska klasifikacija: 10 - Socijalna zaštita | L23: 24000 | M23: 12000 | N23: 0 | O23: 12000 | P23: 5040 | Q23: -6960 | R23: 0.42 | S23: 0 | T23: 0 | U23: 0 | V23: 0 | W23: 0 | X23: 0 | Y23: 0 | Z23: 0 | AA23: 0 | AB23: 0 | AC23: 0 | AD23: 0 | AE23: 0 | AF23: 0 | AG23: 0 | AH23: 0 | AI23: 0 | AJ23: 0 | AK23: 0 | AL23: 0 | AM23: 0 | AN23: 0 | AO23: 0 | AP23: 0 | AQ23: 0 | AR23: 0 | AS23: 0 | AT23: 0 | AU23: 0 | AV23: 0 | AW23: 0 | AX23: 0 | AY23: 0 | AZ23: 0 | BA23: 0 | BB23: 0 | BC23: 0 | BD23: 0 | BE23: 0 | BF23: 0 | BG23: 0 | BH23: 0 | BI23: 12000 | BJ23: 5040 | BK23: 0.42 | BL23: 0 | BM23: 0 | BN23: 0 | BO23: 0 | BP23: 0 | BQ23: 0 | BR23: 0 | BS23: 0 | BT23: 0 | BU23: 0 | BV23: 0 | BW23: 0 | BX23: 0 | BY23: 0 | BZ23: 0 | CA23: 0 | CB23: 0 | CC23: 0 | CD23: 0 | CE23: 0 | CF23: 0 | CG23: 0 | CH23: 0 | CI23: 0 | CJ23: 0 | CK23: 0 | CL23: 0 | CM23: 0 | CN23: 0 | CO23: 0
A24: 71950 | B24: 7-059 | C24: 112 | D24: 7 | E24: 1 | F24: P1032 | G24: 1070 | I24: A103212 | K24: Aktivnost: NAKNADA RAZLIKE U CIJENI TOPLOG OBROKA | L24: 24000 | M24: 12000 | N24: 0 | O24: 12000 | P24: 5040 | Q24: -6960 | R24: 0.42 | S24: 0 | T24: 0 | U24: 0 | V24: 0 | W24: 0 | X24: 0 | Y24: 0 | Z24: 0 | AA24: 0 | AB24: 0 | AC24: 0 | AD24: 0 | AE24: 0 | AF24: 0 | AG24: 0 | AH24: 0 | AI24: 0 | AJ24: 0 | AK24: 0 | AL24: 0 | AM24: 0 | AN24: 0 | AO24: 0 | AP24: 0 | AQ24: 0 | AR24: 0 | AS24: 0 | AT24: 0 | AU24: 0 | AV24: 0 | AW24: 0 | AX24: 0 | AY24: 0 | AZ24: 0 | BA24: 0 | BB24: 0 | BC24: 0 | BD24: 0 | BE24: 0 | BF24: 0 | BG24: 0 | BH24: 0 | BI24: 12000 | BJ24: 5040 | BK24: 0.42 | BL24: 0 | BM24: 0 | BN24: 0 | BO24: 0 | BP24: 0 | BQ24: 0 | BR24: 0 | BS24: 0 | BT24: 0 | BU24: 0 | BV24: 0 | BW24: 0 | BX24: 0 | BY24: 0 | BZ24: 0 | CA24: 0 | CB24: 0 | CC24: 0 | CD24: 0 | CE24: 0 | CF24: 0 | CG24: 0 | CH24: 0 | CI24: 0 | CJ24: 0 | CK24: 0 | CL24: 0 | CM24: 0 | CN24: 0 | CO24: 0
A25: 71955 | B25: 7-059 | C25: 112 | D25: 7 | E25: 1 | F25: P1032 | G25: 1070 | I25: A103212 | J25: 3 | K25: Rashodi poslovanja | L25: 24000 | M25: 12000 | N25: 0 | O25: 12000 | P25: 5040 | Q25: -6960 | R25: 0.42 | S25: 0 | T25: 0 | U25: 0 | V25: 0 | W25: 0 | X25: 0 | Y25: 0 | Z25: 0 | AA25: 0 | AB25: 0 | AC25: 0 | AD25: 0 | AE25: 0 | AF25: 0 | AG25: 0 | AH25: 0 | AI25: 0 | AJ25: 0 | AK25: 0 | AL25: 0 | AM25: 0 | AN25: 0 | AO25: 0 | AP25: 0 | AQ25: 0 | AR25: 0 | AS25: 0 | AT25: 0 | AU25: 0 | AV25: 0 | AW25: 0 | AX25: 0 | AY25: 0 | AZ25: 0 | BA25: 0 | BB25: 0 | BC25: 0 | BD25: 0 | BE25: 0 | BF25: 0 | BG25: 0 | BH25: 0 | BI25: 12000 | BJ25: 5040 | BK25: 0.42 | BL25: 0 | BM25: 0 | BN25: 0 | BO25: 0 | BP25: 0 | BQ25: 0 | BR25: 0 | BS25: 0 | BT25: 0 | BU25: 0 | BV25: 0 | BW25: 0 | BX25: 0 | BY25: 0 | BZ25: 0 | CA25: 0 | CB25: 0 | CC25: 0 | CD25: 0 | CE25: 0 | CF25: 0 | CG25: 0 | CH25: 0 | CI25: 0 | CJ25: 0 | CK25: 0 | CL25: 0 | CM25: 0 | CN25: 0 | CO25: 0
A26: 71960 | B26: 7-059 | C26: 112 | D26: 7 | E26: 1 | F26: P1032 | G26: 1070 | I26: A103212 | J26: 32 | K26: Materijalni rashodi | L26: 24000 | M26: 12000 | N26: 0 | O26: 12000 | P26: 5040 | Q26: -6960 | R26: 0.42 | S26: 0 | T26: 0 | U26: 0 | V26: 0 | W26: 0 | X26: 0 | Y26: 0 | Z26: 0 | AA26: 0 | AB26: 0 | AC26: 0 | AD26: 0 | AE26: 0 | AF26: 0 | AG26: 0 | AH26: 0 | AI26: 0 | AJ26: 0 | AK26: 0 | AL26: 0 | AM26: 0 | AN26: 0 | AO26: 0 | AP26: 0 | AQ26: 0 | AR26: 0 | AS26: 0 | AT26: 0 | AU26: 0 | AV26: 0 | AW26: 0 | AX26: 0 | AY26: 0 | AZ26: 0 | BA26: 0 | BB26: 0 | BC26: 0 | BD26: 0 | BE26: 0 | BF26: 0 | BG26: 0 | BH26: 0 | BI26: 12000 | BJ26: 5040 | BK26: 0.42 | BL26: 0 | BM26: 0 | BN26: 0 | BO26: 0 | BP26: 0 | BQ26: 0 | BR26: 0 | BS26: 0 | BT26: 0 | BU26: 0 | BV26: 0 | BW26: 0 | BX26: 0 | BY26: 0 | BZ26: 0 | CA26: 0 | CB26: 0 | CC26: 0 | CD26: 0 | CE26: 0 | CF26: 0 | CG26: 0 | CH26: 0 | CI26: 0 | CJ26: 0 | CK26: 0 | CL26: 0 | CM26: 0 | CN26: 0 | CO26: 0
A27: 71965 | B27: 7-059 | C27: 112 | D27: 7 | E27: 1 | F27: P1032 | G27: 1070 | I27: A103212 | J27: 322 | K27: Rashodi za materijal i energiju | L27: 24000 | M27: 12000 | N27: 0 | O27: 12000 | P27: 5040 | Q27: -6960 | R27: 0.42 | S27: 0 | T27: 0 | U27: 0 | V27: 0 | W27: 0 | X27: 0 | Y27: 0 | Z27: 0 | AA27: 0 | AB27: 0 | AC27: 0 | AD27: 0 | AE27: 0 | AF27: 0 | AG27: 0 | AH27: 0 | AI27: 0 | AJ27: 0 | AK27: 0 | AL27: 0 | AM27: 0 | AN27: 0 | AO27: 0 | AP27: 0 | AQ27: 0 | AR27: 0 | AS27: 0 | AT27: 0 | AU27: 0 | AV27: 0 | AW27: 0 | AX27: 0 | AY27: 0 | AZ27: 0 | BA27: 0 | BB27: 0 | BC27: 0 | BD27: 0 | BE27: 0 | BF27: 0 | BG27: 0 | BH27: 0 | BI27: 12000 | BJ27: 5040 | BK27: 0.42 | BL27: 0 | BM27: 0 | BN27: 0 | BO27: 0 | BP27: 0 | BQ27: 0 | BR27: 0 | BS27: 0 | BT27: 0 | BU27: 0 | BV27: 0 | BW27: 0 | BX27: 0 | BY27: 0 | BZ27: 0 | CA27: 0 | CB27: 0 | CC27: 0 | CD27: 0 | CE27: 0 | CF27: 0 | CG27: 0 | CH27: 0 | CI27: 0 | CJ27: 0 | CK27: 0 | CL27: 0 | CM27: 0 | CN27: 0 | CO27: 0
A28: 74770 | D28: 7 | E28: 3 | F28: P1036 | G28: 912 | H28: 11461 | K28: Proračunski korisnik 11461: OŠ-SE VLADIMIRA NAZORA ROVINJ-ROVIGNO | L28: 10099045 | M28: 10274472 | N28: 0 | O28: 10274472 | P28: 9448732 | Q28: -825740.04 | R28: 0.92 | S28: 0 | T28: 0 | U28: 0 | V28: 0 | W28: 0 | X28: 0 | Y28: 0 | Z28: 0 | AA28: 0 | AB28: 0 | AC28: 0 | AD28: 0 | AE28: 0 | AF28: 0 | AG28: 0 | AH28: 0 | AI28: 0 | AJ28: 0 | AK28: 0 | AL28: 0 | AM28: 0 | AN28: 0 | AO28: 0 | AP28: 0 | AQ28: 0 | AR28: 0 | AS28: 0 | AT28: 0 | AU28: 0 | AV28: 0 | AW28: 0 | AX28: 0 | AY28: 0 | AZ28: 0 | BA28: 0 | BB28: 0 | BC28: 0 | BD28: 0 | BE28: 0 | BF28: 1945442 | BG28: 1883469.8 | BH28: 0.97 | BI28: 0 | BJ28: 0 | BK28: 0 | BL28: 528000 | BM28: 306941.92 | BN28: 0.58 | BO28: 6997000 | BP28: 6778306.7 | BQ28: 0.97 | BR28: 0 | BS28: 0 | BT28: 0 | BU28: 448905 | BV28: 307444.4 | BW28: 0.68 | BX28: 67200 | BY28: 59095.41 | BZ28: 0.88 | CA28: 0 | CB28: 0 | CC28: 0 | CD28: 30000 | CE28: 3118 | CF28: 0.1 | CG28: 0 | CH28: 0 | CI28: 0 | CJ28: 0 | CK28: 0 | CL28: 0 | CM28: 257925 | CN28: 110355.68 | CO28: 0.43
A29: 74775 | B29: 7-123 | C29: 111,511,531 | D29: 7 | E29: 3 | F29: P1036 | G29: 912 | H29: 11461 | I29: A103606 | K29: Aktivnost: DECENTRALIZIRANE FUNKCIJE | L29: 7507495 | M29: 7676989 | N29: 0 | O29: 7676989 | P29: 7326351.6 | Q29: -350637.4 | R29: 0.95 | S29: 0 | T29: 0 | U29: 0 | V29: 0 | W29: 0 | X29: 0 | Y29: 0 | Z29: 0 | AA29: 0 | AB29: 0 | AC29: 0 | AD29: 0 | AE29: 0 | AF29: 0 | AG29: 0 | AH29: 0 | AI29: 0 | AJ29: 0 | AK29: 0 | AL29: 0 | AM29: 0 | AN29: 0 | AO29: 0 | AP29: 0 | AQ29: 0 | AR29: 0 | AS29: 0 | AT29: 0 | AU29: 0 | AV29: 0 | AW29: 0 | AX29: 0 | AY29: 0 | AZ29: 0 | BA29: 0 | BB29: 0 | BC29: 0 | BD29: 0 | BE29: 0 | BF29: 469989 | BG29: 468940.75 | BH29: 1 | BI29: 0 | BJ29: 0 | BK29: 0 | BL29: 0 | BM29: 0 | BN29: 0 | BO29: 6997000 | BP29: 6778306.7 | BQ29: 0.97 | BR29: 0 | BS29: 0 | BT29: 0 | BU29: 210000 | BV29: 79104.11 | BW29: 0.38 | BX29: 0 | BY29: 0 | BZ29: 0 | CA29: 0 | CB29: 0 | CC29: 0 | CD29: 0 | CE29: 0 | CF29: 0 | CG29: 0 | CH29: 0 | CI29: 0 | CJ29: 0 | CK29: 0 | CL29: 0 | CM29: 0 | CN29: 0 | CO29: 0
A30: 74780 | B30: 7-123 | C30: 111,511,531 | D30: 7 | E30: 3 | F30: P1036 | G30: 912 | H30: 11461 | I30: A103606 | J30: 3 | K30: Rashodi poslovanja | L30: 7507495 | M30: 7676989 | N30: 0 | O30: 7676989 | P30: 7326351.6 | Q30: -350637.4 | R30: 0.95 | S30: 0 | T30: 0 | U30: 0 | V30: 0 | W30: 0 | X30: 0 | Y30: 0 | Z30: 0 | AA30: 0 | AB30: 0 | AC30: 0 | AD30: 0 | AE30: 0 | AF30: 0 | AG30: 0 | AH30: 0 | AI30: 0 | AJ30: 0 | AK30: 0 | AL30: 0 | AM30: 0 | AN30: 0 | AO30: 0 | AP30: 0 | AQ30: 0 | AR30: 0 | AS30: 0 | AT30: 0 | AU30: 0 | AV30: 0 | AW30: 0 | AX30: 0 | AY30: 0 | AZ30: 0 | BA30: 0 | BB30: 0 | BC30: 0 | BD30: 0 | BE30: 0 | BF30: 469989 | BG30: 468940.75 | BH30: 1 | BI30: 0 | BJ30: 0 | BK30: 0 | BL30: 0 | BM30: 0 | BN30: 0 | BO30: 6997000 | BP30: 6778306.7 | BQ30: 0.97 | BR30: 0 | BS30: 0 | BT30: 0 | BU30: 210000 | BV30: 79104.11 | BW30: 0.38 | BX30: 0 | BY30: 0 | BZ30: 0 | CA30: 0 | CB30: 0 | CC30: 0 | CD30: 0 | CE30: 0 | CF30: 0 | CG30: 0 | CH30: 0 | CI30: 0 | CJ30: 0 | CK30: 0 | CL30: 0 | CM30: 0 | CN30: 0 | CO30: 0
A31: 74785 | B31: 7-123 | C31: 511,531 | D31: 7 | E31: 3 | F31: P1036 | G31: 912 | H31: 11461 | I31: A103606 | J31: 31 | K31: Rashodi za zaposlene | L31: 6754600 | M31: 6905800 | N31: 0 | O31: 6905800 | P31: 6637694.1 | Q31: -268105.88 | R31: 0.96 | S31: 0 | T31: 0 | U31: 0 | V31: 0 | W31: 0 | X31: 0 | Y31: 0 | Z31: 0 | AA31: 0 | AB31: 0 | AC31: 0 | AD31: 0 | AE31: 0 | AF31: 0 | AG31: 0 | AH31: 0 | AI31: 0 | AJ31: 0 | AK31: 0 | AL31: 0 | AM31: 0 | AN31: 0 | AO31: 0 | AP31: 0 | AQ31: 0 | AR31: 0 | AS31: 0 | AT31: 0 | AU31: 0 | AV31: 0 | AW31: 0 | AX31: 0 | AY31: 0 | AZ31: 0 | BA31: 0 | BB31: 0 | BC31: 0 | BD31: 0 | BE31: 0 | BF31: 0 | BG31: 0 | BH31: 0 | BI31: 0 | BJ31: 0 | BK31: 0 | BL31: 0 | BM31: 0 | BN31: 0 | BO31: 6794000 | BP31: 6595945 | BQ31: 0.97 | BR31: 0 | BS31: 0 | BT31: 0 | BU31: 111800 | BV31: 41749.17 | BW31: 0.37 | BX31: 0 | BY31: 0 | BZ31: 0 | CA31: 0 | CB31: 0 | CC31: 0 | CD31: 0 | CE31: 0 | CF31: 0 | CG31: 0 | CH31: 0 | CI31: 0 | CJ31: 0 | CK31: 0 | CL31: 0 | CM31: 0 | CN31: 0 | CO31: 0
A32: 74790 | B32: 7-123 | C32: 511,531 | D32: 7 | E32: 3 | F32: P1036 | G32: 912 | H32: 11461 | I32: A103606 | J32: 311 | K32: Plaće (Bruto) | L32: 5602200 | M32: 5695200 | N32: 0 | O32: 5695200 | P32: 5479675.1 | Q32: -215524.9 | R32: 0.96 | S32: 0 | T32: 0 | U32: 0 | V32: 0 | W32: 0 | X32: 0 | Y32: 0 | Z32: 0 | AA32: 0 | AB32: 0 | AC32: 0 | AD32: 0 | AE32: 0 | AF32: 0 | AG32: 0 | AH32: 0 | AI32: 0 | AJ32: 0 | AK32: 0 | AL32: 0 | AM32: 0 | AN32: 0 | AO32: 0 | AP32: 0 | AQ32: 0 | AR32: 0 | AS32: 0 | AT32: 0 | AU32: 0 | AV32: 0 | AW32: 0 | AX32: 0 | AY32: 0 | AZ32: 0 | BA32: 0 | BB32: 0 | BC32: 0 | BD32: 0 | BE32: 0 | BF32: 0 | BG32: 0 | BH32: 0 | BI32: 0 | BJ32: 0 | BK32: 0 | BL32: 0 | BM32: 0 | BN32: 0 | BO32: 5600000 | BP32: 5444046.3 | BQ32: 0.97 | BR32: 0 | BS32: 0 | BT32: 0 | BU32: 95200 | BV32: 35628.76 | BW32: 0.37 | BX32: 0 | BY32: 0 | BZ32: 0 | CA32: 0 | CB32: 0 | CC32: 0 | CD32: 0 | CE32: 0 | CF32: 0 | CG32: 0 | CH32: 0 | CI32: 0 | CJ32: 0 | CK32: 0 | CL32: 0 | CM32: 0 | CN32: 0 | CO32: 0
A33: 74805 | B33: 7-123 | C33: 511 | D33: 7 | E33: 3 | F33: P1036 | G33: 912 | H33: 11461 | I33: A103606 | J33: 312 | K33: Ostali rashodi za zaposlene | L33: 228000 | M33: 270000 | N33: 0 | O33: 270000 | P33: 253631.04 | Q33: -16368.96 | R33: 0.94 | S33: 0 | T33: 0 | U33: 0 | V33: 0 | W33: 0 | X33: 0 | Y33: 0 | Z33: 0 | AA33: 0 | AB33: 0 | AC33: 0 | AD33: 0 | AE33: 0 | AF33: 0 | AG33: 0 | AH33: 0 | AI33: 0 | AJ33: 0 | AK33: 0 | AL33: 0 | AM33: 0 | AN33: 0 | AO33: 0 | AP33: 0 | AQ33: 0 | AR33: 0 | AS33: 0 | AT33: 0 | AU33: 0 | AV33: 0 | AW33: 0 | AX33: 0 | AY33: 0 | AZ33: 0 | BA33: 0 | BB33: 0 | BC33: 0 | BD33: 0 | BE33: 0 | BF33: 0 | BG33: 0 | BH33: 0 | BI33: 0 | BJ33: 0 | BK33: 0 | BL33: 0 | BM33: 0 | BN33: 0 | BO33: 270000 | BP33: 253631.04 | BQ33: 0.94 | BR33: 0 | BS33: 0 | BT33: 0 | BU33: 0 | BV33: 0 | BW33: 0 | BX33: 0 | BY33: 0 | BZ33: 0 | CA33: 0 | CB33: 0 | CC33: 0 | CD33: 0 | CE33: 0 | CF33: 0 | CG33: 0 | CH33: 0 | CI33: 0 | CJ33: 0 | CK33: 0 | CL33: 0 | CM33: 0 | CN33: 0 | CO33: 0
A34: 74815 | B34: 7-123 | C34: 511,531 | D34: 7 | E34: 3 | F34: P1036 | G34: 912 | H34: 11461 | I34: A103606 | J34: 313 | K34: Doprinosi na plaće | L34: 924400 | M34: 940600 | N34: 0 | O34: 940600 | P34: 904387.98 | Q34: -36212.02 | R34: 0.96 | S34: 0 | T34: 0 | U34: 0 | V34: 0 | W34: 0 | X34: 0 | Y34: 0 | Z34: 0 | AA34: 0 | AB34: 0 | AC34: 0 | AD34: 0 | AE34: 0 | AF34: 0 | AG34: 0 | AH34: 0 | AI34: 0 | AJ34: 0 | AK34: 0 | AL34: 0 | AM34: 0 | AN34: 0 | AO34: 0 | AP34: 0 | AQ34: 0 | AR34: 0 | AS34: 0 | AT34: 0 | AU34: 0 | AV34: 0 | AW34: 0 | AX34: 0 | AY34: 0 | AZ34: 0 | BA34: 0 | BB34: 0 | BC34: 0 | BD34: 0 | BE34: 0 | BF34: 0 | BG34: 0 | BH34: 0 | BI34: 0 | BJ34: 0 | BK34: 0 | BL34: 0 | BM34: 0 | BN34: 0 | BO34: 924000 | BP34: 898267.57 | BQ34: 0.97 | BR34: 0 | BS34: 0 | BT34: 0 | BU34: 16600 | BV34: 6120.41 | BW34: 0.37 | BX34: 0 | BY34: 0 | BZ34: 0 | CA34: 0 | CB34: 0 | CC34: 0 | CD34: 0 | CE34: 0 | CF34: 0 | CG34: 0 | CH34: 0 | CI34: 0 | CJ34: 0 | CK34: 0 | CL34: 0 | CM34: 0 | CN34: 0 | CO34: 0
A35: 74830 | B35: 7-123 | C35: 111,511,531 | D35: 7 | E35: 3 | F35: P1036 | G35: 912 | H35: 11461 | I35: A103606 | J35: 32 | K35: Materijalni rashodi | L35: 747895 | M35: 731989 | N35: 0 | O35: 731989 | P35: 671247.9 | Q35: -60741.1 | R35: 0.92 | S35: 0 | T35: 0 | U35: 0 | V35: 0 | W35: 0 | X35: 0 | Y35: 0 | Z35: 0 | AA35: 0 | AB35: 0 | AC35: 0 | AD35: 0 | AE35: 0 | AF35: 0 | AG35: 0 | AH35: 0 | AI35: 0 | AJ35: 0 | AK35: 0 | AL35: 0 | AM35: 0 | AN35: 0 | AO35: 0 | AP35: 0 | AQ35: 0 | AR35: 0 | AS35: 0 | AT35: 0 | AU35: 0 | AV35: 0 | AW35: 0 | AX35: 0 | AY35: 0 | AZ35: 0 | BA35: 0 | BB35: 0 | BC35: 0 | BD35: 0 | BE35: 0 | BF35: 464989 | BG35: 464186.11 | BH35: 1 | BI35: 0 | BJ35: 0 | BK35: 0 | BL35: 0 | BM35: 0 | BN35: 0 | BO35: 203000 | BP35: 182361.79 | BQ35: 0.9 | BR35: 0 | BS35: 0 | BT35: 0 | BU35: 64000 | BV35: 24700 | BW35: 0.39 | BX35: 0 | BY35: 0 | BZ35: 0 | CA35: 0 | CB35: 0 | CC35: 0 | CD35: 0 | CE35: 0 | CF35: 0 | CG35: 0 | CH35: 0 | CI35: 0 | CJ35: 0 | CK35: 0 | CL35: 0 | CM35: 0 | CN35: 0 | CO35: 0
A36: 74835 | B36: 7-123 | C36: 111,511,531 | D36: 7 | E36: 3 | F36: P1036 | G36: 912 | H36: 11461 | I36: A103606 | J36: 321 | K36: Naknade troškova zaposlenima | L36: 254000 | M36: 207000 | N36: 0 | O36: 207000 | P36: 185036.79 | Q36: -21963.21 | R36: 0.89 | S36: 0 | T36: 0 | U36: 0 | V36: 0 | W36: 0 | X36: 0 | Y36: 0 | Z36: 0 | AA36: 0 | AB36: 0 | AC36: 0 | AD36: 0 | AE36: 0 | AF36: 0 | AG36: 0 | AH36: 0 | AI36: 0 | AJ36: 0 | AK36: 0 | AL36: 0 | AM36: 0 | AN36: 0 | AO36: 0 | AP36: 0 | AQ36: 0 | AR36: 0 | AS36: 0 | AT36: 0 | AU36: 0 | AV36: 0 | AW36: 0 | AX36: 0 | AY36: 0 | AZ36: 0 | BA36: 0 | BB36: 0 | BC36: 0 | BD36: 0 | BE36: 0 | BF36: 23000 | BG36: 23000 | BH36: 1 | BI36: 0 | BJ36: 0 | BK36: 0 | BL36: 0 | BM36: 0 | BN36: 0 | BO36: 182000 | BP36: 162036.79 | BQ36: 0.89 | BR36: 0 | BS36: 0 | BT36: 0 | BU36: 2000 | BV36: 0 | BW36: 0 | BX36: 0 | BY36: 0 | BZ36: 0 | CA36: 0 | CB36: 0 | CC36: 0 | CD36: 0 | CE36: 0 | CF36: 0 | CG36: 0 | CH36: 0 | CI36: 0 | CJ36: 0 | CK36: 0 | CL36: 0 | CM36: 0 | CN36: 0 | CO36: 0
A37: 74855 | B37: 7-123 | C37: 111,531 | D37: 7 | E37: 3 | F37: P1036 | G37: 912 | H37: 11461 | I37: A103606 | J37: 322 | K37: Rashodi za materijal i energiju | L37: 249800 | M37: 236494 | N37: 0 | O37: 236494 | P37: 233492.04 | Q37: -3001.96 | R37: 0.99 | S37: 0 | T37: 0 | U37: 0 | V37: 0 | W37: 0 | X37: 0 | Y37: 0 | Z37: 0 | AA37: 0 | AB37: 0 | AC37: 0 | AD37: 0 | AE37: 0 | AF37: 0 | AG37: 0 | AH37: 0 | AI37: 0 | AJ37: 0 | AK37: 0 | AL37: 0 | AM37: 0 | AN37: 0 | AO37: 0 | AP37: 0 | AQ37: 0 | AR37: 0 | AS37: 0 | AT37: 0 | AU37: 0 | AV37: 0 | AW37: 0 | AX37: 0 | AY37: 0 | AZ37: 0 | BA37: 0 | BB37: 0 | BC37: 0 | BD37: 0 | BE37: 0 | BF37: 233494 | BG37: 233492.04 | BH37: 1 | BI37: 0 | BJ37: 0 | BK37: 0 | BL37: 0 | BM37: 0 | BN37: 0 | BO37: 0 | BP37: 0 | BQ37: 0 | BR37: 0 | BS37: 0 | BT37: 0 | BU37: 3000 | BV37: 0 | BW37: 0 | BX37: 0 | BY37: 0 | BZ37: 0 | CA37: 0 | CB37: 0 | CC37: 0 | CD37: 0 | CE37: 0 | CF37: 0 | CG37: 0 | CH37: 0 | CI37: 0 | CJ37: 0 | CK37: 0 | CL37: 0 | CM37: 0 | CN37: 0 | CO37: 0
A38: 74880 | B38: 7-123 | C38: 111,531 | D38: 7 | E38: 3 | F38: P1036 | G38: 912 | H38: 11461 | I38: A103606 | J38: 323 | K38: Rashodi za usluge | L38: 192095 | M38: 186195 | N38: 0 | O38: 186195 | P38: 183195 | Q38: -3000 | R38: 0.98 | S38: 0 | T38: 0 | U38: 0 | V38: 0 | W38: 0 | X38: 0 | Y38: 0 | Z38: 0 | AA38: 0 | AB38: 0 | AC38: 0 | AD38: 0 | AE38: 0 | AF38: 0 | AG38: 0 | AH38: 0 | AI38: 0 | AJ38: 0 | AK38: 0 | AL38: 0 | AM38: 0 | AN38: 0 | AO38: 0 | AP38: 0 | AQ38: 0 | AR38: 0 | AS38: 0 | AT38: 0 | AU38: 0 | AV38: 0 | AW38: 0 | AX38: 0 | AY38: 0 | AZ38: 0 | BA38: 0 | BB38: 0 | BC38: 0 | BD38: 0 | BE38: 0 | BF38: 183195 | BG38: 183195 | BH38: 1 | BI38: 0 | BJ38: 0 | BK38: 0 | BL38: 0 | BM38: 0 | BN38: 0 | BO38: 0 | BP38: 0 | BQ38: 0 | BR38: 0 | BS38: 0 | BT38: 0 | BU38: 3000 | BV38: 0 | BW38: 0 | BX38: 0 | BY38: 0 | BZ38: 0 | CA38: 0 | CB38: 0 | CC38: 0 | CD38: 0 | CE38: 0 | CF38: 0 | CG38: 0 | CH38: 0 | CI38: 0 | CJ38: 0 | CK38: 0 | CL38: 0 | CM38: 0 | CN38: 0 | CO38: 0
A39: 74925 | B39: 7-123 | C39: 111,511,531 | D39: 7 | E39: 3 | F39: P1036 | G39: 912 | H39: 11461 | I39: A103606 | J39: 329 | K39: Ostali nespomenuti rashodi poslovanja | L39: 52000 | M39: 102300 | N39: 0 | O39: 102300 | P39: 69524.07 | Q39: -32775.93 | R39: 0.68 | S39: 0 | T39: 0 | U39: 0 | V39: 0 | W39: 0 | X39: 0 | Y39: 0 | Z39: 0 | AA39: 0 | AB39: 0 | AC39: 0 | AD39: 0 | AE39: 0 | AF39: 0 | AG39: 0 | AH39: 0 | AI39: 0 | AJ39: 0 | AK39: 0 | AL39: 0 | AM39: 0 | AN39: 0 | AO39: 0 | AP39: 0 | AQ39: 0 | AR39: 0 | AS39: 0 | AT39: 0 | AU39: 0 | AV39: 0 | AW39: 0 | AX39: 0 | AY39: 0 | AZ39: 0 | BA39: 0 | BB39: 0 | BC39: 0 | BD39: 0 | BE39: 0 | BF39: 25300 | BG39: 24499.07 | BH39: 0.97 | BI39: 0 | BJ39: 0 | BK39: 0 | BL39: 0 | BM39: 0 | BN39: 0 | BO39: 21000 | BP39: 20325 | BQ39: 0.97 | BR39: 0 | BS39: 0 | BT39: 0 | BU39: 56000 | BV39: 24700 | BW39: 0.44 | BX39: 0 | BY39: 0 | BZ39: 0 | CA39: 0 | CB39: 0 | CC39: 0 | CD39: 0 | CE39: 0 | CF39: 0 | CG39: 0 | CH39: 0 | CI39: 0 | CJ39: 0 | CK39: 0 | CL39: 0 | CM39: 0 | CN39: 0 | CO39: 0
A40: 74950 | B40: 7-123 | C40: 111,531 | D40: 7 | E40: 3 | F40: P1036 | G40: 912 | H40: 11461 | I40: A103606 | J40: 34 | K40: Financijski rashodi | L40: 5000 | M40: 39200 | N40: 0 | O40: 39200 | P40: 17409.58 | Q40: -21790.42 | R40: 0.44 | S40: 0 | T40: 0 | U40: 0 | V40: 0 | W40: 0 | X40: 0 | Y40: 0 | Z40: 0 | AA40: 0 | AB40: 0 | AC40: 0 | AD40: 0 | AE40: 0 | AF40: 0 | AG40: 0 | AH40: 0 | AI40: 0 | AJ40: 0 | AK40: 0 | AL40: 0 | AM40: 0 | AN40: 0 | AO40: 0 | AP40: 0 | AQ40: 0 | AR40: 0 | AS40: 0 | AT40: 0 | AU40: 0 | AV40: 0 | AW40: 0 | AX40: 0 | AY40: 0 | AZ40: 0 | BA40: 0 | BB40: 0 | BC40: 0 | BD40: 0 | BE40: 0 | BF40: 5000 | BG40: 4754.64 | BH40: 0.95 | BI40: 0 | BJ40: 0 | BK40: 0 | BL40: 0 | BM40: 0 | BN40: 0 | BO40: 0 | BP40: 0 | BQ40: 0 | BR40: 0 | BS40: 0 | BT40: 0 | BU40: 34200 | BV40: 12654.94 | BW40: 0.37 | BX40: 0 | BY40: 0 | BZ40: 0 | CA40: 0 | CB40: 0 | CC40: 0 | CD40: 0 | CE40: 0 | CF40: 0 | CG40: 0 | CH40: 0 | CI40: 0 | CJ40: 0 | CK40: 0 | CL40: 0 | CM40: 0 | CN40: 0 | CO40: 0
A41: 74955 | B41: 7-123 | C41: 111,531 | D41: 7 | E41: 3 | F41: P1036 | G41: 912 | H41: 11461 | I41: A103606 | J41: 343 | K41: Ostali financijski rashodi | L41: 5000 | M41: 39200 | N41: 0 | O41: 39200 | P41: 17409.58 | Q41: -21790.42 | R41: 0.44 | S41: 0 | T41: 0 | U41: 0 | V41: 0 | W41: 0 | X41: 0 | Y41: 0 | Z41: 0 | AA41: 0 | AB41: 0 | AC41: 0 | AD41: 0 | AE41: 0 | AF41: 0 | AG41: 0 | AH41: 0 | AI41: 0 | AJ41: 0 | AK41: 0 | AL41: 0 | AM41: 0 | AN41: 0 | AO41: 0 | AP41: 0 | AQ41: 0 | AR41: 0 | AS41: 0 | AT41: 0 | AU41: 0 | AV41: 0 | AW41: 0 | AX41: 0 | AY41: 0 | AZ41: 0 | BA41: 0 | BB41: 0 | BC41: 0 | BD41: 0 | BE41: 0 | BF41: 5000 | BG41: 4754.64 | BH41: 0.95 | BI41: 0 | BJ41: 0 | BK41: 0 | BL41: 0 | BM41: 0 | BN41: 0 | BO41: 0 | BP41: 0 | BQ41: 0 | BR41: 0 | BS41: 0 | BT41: 0 | BU41: 34200 | BV41: 12654.94 | BW41: 0.37 | BX41: 0 | BY41: 0 | BZ41: 0 | CA41: 0 | CB41: 0 | CC41: 0 | CD41: 0 | CE41: 0 | CF41: 0 | CG41: 0 | CH41: 0 | CI41: 0 | CJ41: 0 | CK41: 0 | CL41: 0 | CM41: 0 | CN41: 0 | CO41: 0
A42: 74965 | B42: 7-124 | C42: 111 | D42: 7 | E42: 3 | F42: P1036 | G42: 912 | H42: 11461 | I42: A103607 | K42: Aktivnost: NASTAVA TJELESNE I ZDRAVSTVENE KULTURE | L42: 153000 | M42: 153000 | N42: 0 | O42: 153000 | P42: 151973.08 | Q42: -1026.92 | R42: 0.99 | S42: 0 | T42: 0 | U42: 0 | V42: 0 | W42: 0 | X42: 0 | Y42: 0 | Z42: 0 | AA42: 0 | AB42: 0 | AC42: 0 | AD42: 0 | AE42: 0 | AF42: 0 | AG42: 0 | AH42: 0 | AI42: 0 | AJ42: 0 | AK42: 0 | AL42: 0 | AM42: 0 | AN42: 0 | AO42: 0 | AP42: 0 | AQ42: 0 | AR42: 0 | AS42: 0 | AT42: 0 | AU42: 0 | AV42: 0 | AW42: 0 | AX42: 0 | AY42: 0 | AZ42: 0 | BA42: 0 | BB42: 0 | BC42: 0 | BD42: 0 | BE42: 0 | BF42: 153000 | BG42: 151973.08 | BH42: 0.99 | BI42: 0 | BJ42: 0 | BK42: 0 | BL42: 0 | BM42: 0 | BN42: 0 | BO42: 0 | BP42: 0 | BQ42: 0 | BR42: 0 | BS42: 0 | BT42: 0 | BU42: 0 | BV42: 0 | BW42: 0 | BX42: 0 | BY42: 0 | BZ42: 0 | CA42: 0 | CB42: 0 | CC42: 0 | CD42: 0 | CE42: 0 | CF42: 0 | CG42: 0 | CH42: 0 | CI42: 0 | CJ42: 0 | CK42: 0 | CL42: 0 | CM42: 0 | CN42: 0 | CO42: 0
A43: 74970 | B43: 7-124 | C43: 111 | D43: 7 | E43: 3 | F43: P1036 | G43: 912 | H43: 11461 | I43: A103607 | J43: 3 | K43: Rashodi poslovanja | L43: 153000 | M43: 153000 | N43: 0 | O43: 153000 | P43: 151973.08 | Q43: -1026.92 | R43: 0.99 | S43: 0 | T43: 0 | U43: 0 | V43: 0 | W43: 0 | X43: 0 | Y43: 0 | Z43: 0 | AA43: 0 | AB43: 0 | AC43: 0 | AD43: 0 | AE43: 0 | AF43: 0 | AG43: 0 | AH43: 0 | AI43: 0 | AJ43: 0 | AK43: 0 | AL43: 0 | AM43: 0 | AN43: 0 | AO43: 0 | AP43: 0 | AQ43: 0 | AR43: 0 | AS43: 0 | AT43: 0 | AU43: 0 | AV43: 0 | AW43: 0 | AX43: 0 | AY43: 0 | AZ43: 0 | BA43: 0 | BB43: 0 | BC43: 0 | BD43: 0 | BE43: 0 | BF43: 153000 | BG43: 151973.08 | BH43: 0.99 | BI43: 0 | BJ43: 0 | BK43: 0 | BL43: 0 | BM43: 0 | BN43: 0 | BO43: 0 | BP43: 0 | BQ43: 0 | BR43: 0 | BS43: 0 | BT43: 0 | BU43: 0 | BV43: 0 | BW43: 0 | BX43: 0 | BY43: 0 | BZ43: 0 | CA43: 0 | CB43: 0 | CC43: 0 | CD43: 0 | CE43: 0 | CF43: 0 | CG43: 0 | CH43: 0 | CI43: 0 | CJ43: 0 | CK43: 0 | CL43: 0 | CM43: 0 | CN43: 0 | CO43: 0
A44: 74975 | B44: 7-124 | C44: 111 | D44: 7 | E44: 3 | F44: P1036 | G44: 912 | H44: 11461 | I44: A103607 | J44: 31 | K44: Rashodi za zaposlene | L44: 153000 | M44: 153000 | N44: 0 | O44: 153000 | P44: 151973.08 | Q44: -1026.92 | R44: 0.99 | S44: 0 | T44: 0 | U44: 0 | V44: 0 | W44: 0 | X44: 0 | Y44: 0 | Z44: 0 | AA44: 0 | AB44: 0 | AC44: 0 | AD44: 0 | AE44: 0 | AF44: 0 | AG44: 0 | AH44: 0 | AI44: 0 | AJ44: 0 | AK44: 0 | AL44: 0 | AM44: 0 | AN44: 0 | AO44: 0 | AP44: 0 | AQ44: 0 | AR44: 0 | AS44: 0 | AT44: 0 | AU44: 0 | AV44: 0 | AW44: 0 | AX44: 0 | AY44: 0 | AZ44: 0 | BA44: 0 | BB44: 0 | BC44: 0 | BD44: 0 | BE44: 0 | BF44: 153000 | BG44: 151973.08 | BH44: 0.99 | BI44: 0 | BJ44: 0 | BK44: 0 | BL44: 0 | BM44: 0 | BN44: 0 | BO44: 0 | BP44: 0 | BQ44: 0 | BR44: 0 | BS44: 0 | BT44: 0 | BU44: 0 | BV44: 0 | BW44: 0 | BX44: 0 | BY44: 0 | BZ44: 0 | CA44: 0 | CB44: 0 | CC44: 0 | CD44: 0 | CE44: 0 | CF44: 0 | CG44: 0 | CH44: 0 | CI44: 0 | CJ44: 0 | CK44: 0 | CL44: 0 | CM44: 0 | CN44: 0 | CO44: 0
A45: 74980 | B45: 7-124 | C45: 111 | D45: 7 | E45: 3 | F45: P1036 | G45: 912 | H45: 11461 | I45: A103607 | J45: 311 | K45: Plaće (Bruto) | L45: 128800 | M45: 128800 | N45: 0 | O45: 128800 | P45: 127873.89 | Q45: -926.11 | R45: 0.99 | S45: 0 | T45: 0 | U45: 0 | V45: 0 | W45: 0 | X45: 0 | Y45: 0 | Z45: 0 | AA45: 0 | AB45: 0 | AC45: 0 | AD45: 0 | AE45: 0 | AF45: 0 | AG45: 0 | AH45: 0 | AI45: 0 | AJ45: 0 | AK45: 0 | AL45: 0 | AM45: 0 | AN45: 0 | AO45: 0 | AP45: 0 | AQ45: 0 | AR45: 0 | AS45: 0 | AT45: 0 | AU45: 0 | AV45: 0 | AW45: 0 | AX45: 0 | AY45: 0 | AZ45: 0 | BA45: 0 | BB45: 0 | BC45: 0 | BD45: 0 | BE45: 0 | BF45: 128800 | BG45: 127873.89 | BH45: 0.99 | BI45: 0 | BJ45: 0 | BK45: 0 | BL45: 0 | BM45: 0 | BN45: 0 | BO45: 0 | BP45: 0 | BQ45: 0 | BR45: 0 | BS45: 0 | BT45: 0 | BU45: 0 | BV45: 0 | BW45: 0 | BX45: 0 | BY45: 0 | BZ45: 0 | CA45: 0 | CB45: 0 | CC45: 0 | CD45: 0 | CE45: 0 | CF45: 0 | CG45: 0 | CH45: 0 | CI45: 0 | CJ45: 0 | CK45: 0 | CL45: 0 | CM45: 0 | CN45: 0 | CO45: 0
A46: 74990 | B46: 7-124 | C46: 111 | D46: 7 | E46: 3 | F46: P1036 | G46: 912 | H46: 11461 | I46: A103607 | J46: 312 | K46: Ostali rashodi za zaposlene | L46: 3000 | M46: 3000 | N46: 0 | O46: 3000 | P46: 3000 | Q46: 0 | R46: 1 | S46: 0 | T46: 0 | U46: 0 | V46: 0 | W46: 0 | X46: 0 | Y46: 0 | Z46: 0 | AA46: 0 | AB46: 0 | AC46: 0 | AD46: 0 | AE46: 0 | AF46: 0 | AG46: 0 | AH46: 0 | AI46: 0 | AJ46: 0 | AK46: 0 | AL46: 0 | AM46: 0 | AN46: 0 | AO46: 0 | AP46: 0 | AQ46: 0 | AR46: 0 | AS46: 0 | AT46: 0 | AU46: 0 | AV46: 0 | AW46: 0 | AX46: 0 | AY46: 0 | AZ46: 0 | BA46: 0 | BB46: 0 | BC46: 0 | BD46: 0 | BE46: 0 | BF46: 3000 | BG46: 3000 | BH46: 1 | BI46: 0 | BJ46: 0 | BK46: 0 | BL46: 0 | BM46: 0 | BN46: 0 | BO46: 0 | BP46: 0 | BQ46: 0 | BR46: 0 | BS46: 0 | BT46: 0 | BU46: 0 | BV46: 0 | BW46: 0 | BX46: 0 | BY46: 0 | BZ46: 0 | CA46: 0 | CB46: 0 | CC46: 0 | CD46: 0 | CE46: 0 | CF46: 0 | CG46: 0 | CH46: 0 | CI46: 0 | CJ46: 0 | CK46: 0 | CL46: 0 | CM46: 0 | CN46: 0 | CO46: 0
A47: 75000 | B47: 7-124 | C47: 111 | D47: 7 | E47: 3 | F47: P1036 | G47: 912 | H47: 11461 | I47: A103607 | J47: 313 | K47: Doprinosi na plaće | L47: 21200 | M47: 21200 | N47: 0 | O47: 21200 | P47: 21099.19 | Q47: -100.81 | R47: 1 | S47: 0 | T47: 0 | U47: 0 | V47: 0 | W47: 0 | X47: 0 | Y47: 0 | Z47: 0 | AA47: 0 | AB47: 0 | AC47: 0 | AD47: 0 | AE47: 0 | AF47: 0 | AG47: 0 | AH47: 0 | AI47: 0 | AJ47: 0 | AK47: 0 | AL47: 0 | AM47: 0 | AN47: 0 | AO47: 0 | AP47: 0 | AQ47: 0 | AR47: 0 | AS47: 0 | AT47: 0 | AU47: 0 | AV47: 0 | AW47: 0 | AX47: 0 | AY47: 0 | AZ47: 0 | BA47: 0 | BB47: 0 | BC47: 0 | BD47: 0 | BE47: 0 | BF47: 21200 | BG47: 21099.19 | BH47: 1 | BI47: 0 | BJ47: 0 | BK47: 0 | BL47: 0 | BM47: 0 | BN47: 0 | BO47: 0 | BP47: 0 | BQ47: 0 | BR47: 0 | BS47: 0 | BT47: 0 | BU47: 0 | BV47: 0 | BW47: 0 | BX47: 0 | BY47: 0 | BZ47: 0 | CA47: 0 | CB47: 0 | CC47: 0 | CD47: 0 | CE47: 0 | CF47: 0 | CG47: 0 | CH47: 0 | CI47: 0 | CJ47: 0 | CK47: 0 | CL47: 0 | CM47: 0 | CN47: 0 | CO47: 0
A48: 75015 | B48: 7-125 | C48: 111 | D48: 7 | E48: 3 | F48: P1036 | G48: 912 | H48: 11461 | I48: A103608 | K48: Aktivnost: PRODUŽENI BORAVAK DJECE U ŠKOLI | L48: 563500 | M48: 563500 | N48: 0 | O48: 563500 | P48: 546584.23 | Q48: -16915.77 | R48: 0.97 | S48: 0 | T48: 0 | U48: 0 | V48: 0 | W48: 0 | X48: 0 | Y48: 0 | Z48: 0 | AA48: 0 | AB48: 0 | AC48: 0 | AD48: 0 | AE48: 0 | AF48: 0 | AG48: 0 | AH48: 0 | AI48: 0 | AJ48: 0 | AK48: 0 | AL48: 0 | AM48: 0 | AN48: 0 | AO48: 0 | AP48: 0 | AQ48: 0 | AR48: 0 | AS48: 0 | AT48: 0 | AU48: 0 | AV48: 0 | AW48: 0 | AX48: 0 | AY48: 0 | AZ48: 0 | BA48: 0 | BB48: 0 | BC48: 0 | BD48: 0 | BE48: 0 | BF48: 563500 | BG48: 546584.23 | BH48: 0.97 | BI48: 0 | BJ48: 0 | BK48: 0 | BL48: 0 | BM48: 0 | BN48: 0 | BO48: 0 | BP48: 0 | BQ48: 0 | BR48: 0 | BS48: 0 | BT48: 0 | BU48: 0 | BV48: 0 | BW48: 0 | BX48: 0 | BY48: 0 | BZ48: 0 | CA48: 0 | CB48: 0 | CC48: 0 | CD48: 0 | CE48: 0 | CF48: 0 | CG48: 0 | CH48: 0 | CI48: 0 | CJ48: 0 | CK48: 0 | CL48: 0 | CM48: 0 | CN48: 0 | CO48: 0
A49: 75020 | B49: 7-125 | C49: 111 | D49: 7 | E49: 3 | F49: P1036 | G49: 912 | H49: 11461 | I49: A103608 | J49: 3 | K49: Rashodi poslovanja | L49: 563500 | M49: 563500 | N49: 0 | O49: 563500 | P49: 546584.23 | Q49: -16915.77 | R49: 0.97 | S49: 0 | T49: 0 | U49: 0 | V49: 0 | W49: 0 | X49: 0 | Y49: 0 | Z49: 0 | AA49: 0 | AB49: 0 | AC49: 0 | AD49: 0 | AE49: 0 | AF49: 0 | AG49: 0 | AH49: 0 | AI49: 0 | AJ49: 0 | AK49: 0 | AL49: 0 | AM49: 0 | AN49: 0 | AO49: 0 | AP49: 0 | AQ49: 0 | AR49: 0 | AS49: 0 | AT49: 0 | AU49: 0 | AV49: 0 | AW49: 0 | AX49: 0 | AY49: 0 | AZ49: 0 | BA49: 0 | BB49: 0 | BC49: 0 | BD49: 0 | BE49: 0 | BF49: 563500 | BG49: 546584.23 | BH49: 0.97 | BI49: 0 | BJ49: 0 | BK49: 0 | BL49: 0 | BM49: 0 | BN49: 0 | BO49: 0 | BP49: 0 | BQ49: 0 | BR49: 0 | BS49: 0 | BT49: 0 | BU49: 0 | BV49: 0 | BW49: 0 | BX49: 0 | BY49: 0 | BZ49: 0 | CA49: 0 | CB49: 0 | CC49: 0 | CD49: 0 | CE49: 0 | CF49: 0 | CG49: 0 | CH49: 0 | CI49: 0 | CJ49: 0 | CK49: 0 | CL49: 0 | CM49: 0 | CN49: 0 | CO49: 0
A50: 75025 | B50: 7-125 | C50: 111 | D50: 7 | E50: 3 | F50: P1036 | G50: 912 | H50: 11461 | I50: A103608 | J50: 31 | K50: Rashodi za zaposlene | L50: 563500 | M50: 554750 | N50: 0 | O50: 554750 | P50: 538493.39 | Q50: -16256.61 | R50: 0.97 | S50: 0 | T50: 0 | U50: 0 | V50: 0 | W50: 0 | X50: 0 | Y50: 0 | Z50: 0 | AA50: 0 | AB50: 0 | AC50: 0 | AD50: 0 | AE50: 0 | AF50: 0 | AG50: 0 | AH50: 0 | AI50: 0 | AJ50: 0 | AK50: 0 | AL50: 0 | AM50: 0 | AN50: 0 | AO50: 0 | AP50: 0 | AQ50: 0 | AR50: 0 | AS50: 0 | AT50: 0 | AU50: 0 | AV50: 0 | AW50: 0 | AX50: 0 | AY50: 0 | AZ50: 0 | BA50: 0 | BB50: 0 | BC50: 0 | BD50: 0 | BE50: 0 | BF50: 554750 | BG50: 538493.39 | BH50: 0.97 | BI50: 0 | BJ50: 0 | BK50: 0 | BL50: 0 | BM50: 0 | BN50: 0 | BO50: 0 | BP50: 0 | BQ50: 0 | BR50: 0 | BS50: 0 | BT50: 0 | BU50: 0 | BV50: 0 | BW50: 0 | BX50: 0 | BY50: 0 | BZ50: 0 | CA50: 0 | CB50: 0 | CC50: 0 | CD50: 0 | CE50: 0 | CF50: 0 | CG50: 0 | CH50: 0 | CI50: 0 | CJ50: 0 | CK50: 0 | CL50: 0 | CM50: 0 | CN50: 0 | CO50: 0
A51: 75030 | B51: 7-125 | C51: 111 | D51: 7 | E51: 3 | F51: P1036 | G51: 912 | H51: 11461 | I51: A103608 | J51: 311 | K51: Plaće (Bruto) | L51: 470000 | M51: 460000 | N51: 0 | O51: 460000 | P51: 445117.81 | Q51: -14882.19 | R51: 0.97 | S51: 0 | T51: 0 | U51: 0 | V51: 0 | W51: 0 | X51: 0 | Y51: 0 | Z51: 0 | AA51: 0 | AB51: 0 | AC51: 0 | AD51: 0 | AE51: 0 | AF51: 0 | AG51: 0 | AH51: 0 | AI51: 0 | AJ51: 0 | AK51: 0 | AL51: 0 | AM51: 0 | AN51: 0 | AO51: 0 | AP51: 0 | AQ51: 0 | AR51: 0 | AS51: 0 | AT51: 0 | AU51: 0 | AV51: 0 | AW51: 0 | AX51: 0 | AY51: 0 | AZ51: 0 | BA51: 0 | BB51: 0 | BC51: 0 | BD51: 0 | BE51: 0 | BF51: 460000 | BG51: 445117.81 | BH51: 0.97 | BI51: 0 | BJ51: 0 | BK51: 0 | BL51: 0 | BM51: 0 | BN51: 0 | BO51: 0 | BP51: 0 | BQ51: 0 | BR51: 0 | BS51: 0 | BT51: 0 | BU51: 0 | BV51: 0 | BW51: 0 | BX51: 0 | BY51: 0 | BZ51: 0 | CA51: 0 | CB51: 0 | CC51: 0 | CD51: 0 | CE51: 0 | CF51: 0 | CG51: 0 | CH51: 0 | CI51: 0 | CJ51: 0 | CK51: 0 | CL51: 0 | CM51: 0 | CN51: 0 | CO51: 0
A52: 75040 | B52: 7-125 | C52: 111 | D52: 7 | E52: 3 | F52: P1036 | G52: 912 | H52: 11461 | I52: A103608 | J52: 312 | K52: Ostali rashodi za zaposlene | L52: 16200 | M52: 18600 | N52: 0 | O52: 18600 | P52: 18600 | Q52: 0 | R52: 1 | S52: 0 | T52: 0 | U52: 0 | V52: 0 | W52: 0 | X52: 0 | Y52: 0 | Z52: 0 | AA52: 0 | AB52: 0 | AC52: 0 | AD52: 0 | AE52: 0 | AF52: 0 | AG52: 0 | AH52: 0 | AI52: 0 | AJ52: 0 | AK52: 0 | AL52: 0 | AM52: 0 | AN52: 0 | AO52: 0 | AP52: 0 | AQ52: 0 | AR52: 0 | AS52: 0 | AT52: 0 | AU52: 0 | AV52: 0 | AW52: 0 | AX52: 0 | AY52: 0 | AZ52: 0 | BA52: 0 | BB52: 0 | BC52: 0 | BD52: 0 | BE52: 0 | BF52: 18600 | BG52: 18600 | BH52: 1 | BI52: 0 | BJ52: 0 | BK52: 0 | BL52: 0 | BM52: 0 | BN52: 0 | BO52: 0 | BP52: 0 | BQ52: 0 | BR52: 0 | BS52: 0 | BT52: 0 | BU52: 0 | BV52: 0 | BW52: 0 | BX52: 0 | BY52: 0 | BZ52: 0 | CA52: 0 | CB52: 0 | CC52: 0 | CD52: 0 | CE52: 0 | CF52: 0 | CG52: 0 | CH52: 0 | CI52: 0 | CJ52: 0 | CK52: 0 | CL52: 0 | CM52: 0 | CN52: 0 | CO52: 0
A53: 75050 | B53: 7-125 | C53: 111 | D53: 7 | E53: 3 | F53: P1036 | G53: 912 | H53: 11461 | I53: A103608 | J53: 313 | K53: Doprinosi na plaće | L53: 77300 | M53: 76150 | N53: 0 | O53: 76150 | P53: 74775.58 | Q53: -1374.42 | R53: 0.98 | S53: 0 | T53: 0 | U53: 0 | V53: 0 | W53: 0 | X53: 0 | Y53: 0 | Z53: 0 | AA53: 0 | AB53: 0 | AC53: 0 | AD53: 0 | AE53: 0 | AF53: 0 | AG53: 0 | AH53: 0 | AI53: 0 | AJ53: 0 | AK53: 0 | AL53: 0 | AM53: 0 | AN53: 0 | AO53: 0 | AP53: 0 | AQ53: 0 | AR53: 0 | AS53: 0 | AT53: 0 | AU53: 0 | AV53: 0 | AW53: 0 | AX53: 0 | AY53: 0 | AZ53: 0 | BA53: 0 | BB53: 0 | BC53: 0 | BD53: 0 | BE53: 0 | BF53: 76150 | BG53: 74775.58 | BH53: 0.98 | BI53: 0 | BJ53: 0 | BK53: 0 | BL53: 0 | BM53: 0 | BN53: 0 | BO53: 0 | BP53: 0 | BQ53: 0 | BR53: 0 | BS53: 0 | BT53: 0 | BU53: 0 | BV53: 0 | BW53: 0 | BX53: 0 | BY53: 0 | BZ53: 0 | CA53: 0 | CB53: 0 | CC53: 0 | CD53: 0 | CE53: 0 | CF53: 0 | CG53: 0 | CH53: 0 | CI53: 0 | CJ53: 0 | CK53: 0 | CL53: 0 | CM53: 0 | CN53: 0 | CO53: 0
A54: 75061 | B54: 7-125 | C54: 111 | D54: 7 | E54: 3 | F54: P1036 | G54: 912 | H54: 11461 | I54: A103608 | J54: 32 | K54: Materijalni rashodi | L54: 0 | M54: 5250 | N54: 0 | O54: 5250 | P54: 4750 | Q54: -500 | R54: 0.9 | S54: 0 | T54: 0 | U54: 0 | V54: 0 | W54: 0 | X54: 0 | Y54: 0 | Z54: 0 | AA54: 0 | AB54: 0 | AC54: 0 | AD54: 0 | AE54: 0 | AF54: 0 | AG54: 0 | AH54: 0 | AI54: 0 | AJ54: 0 | AK54: 0 | AL54: 0 | AM54: 0 | AN54: 0 | AO54: 0 | AP54: 0 | AQ54: 0 | AR54: 0 | AS54: 0 | AT54: 0 | AU54: 0 | AV54: 0 | AW54: 0 | AX54: 0 | AY54: 0 | AZ54: 0 | BA54: 0 | BB54: 0 | BC54: 0 | BD54: 0 | BE54: 0 | BF54: 5250 | BG54: 4750 | BH54: 0.9 | BI54: 0 | BJ54: 0 | BK54: 0 | BL54: 0 | BM54: 0 | BN54: 0 | BO54: 0 | BP54: 0 | BQ54: 0 | BR54: 0 | BS54: 0 | BT54: 0 | BU54: 0 | BV54: 0 | BW54: 0 | BX54: 0 | BY54: 0 | BZ54: 0 | CA54: 0 | CB54: 0 | CC54: 0 | CD54: 0 | CE54: 0 | CF54: 0 | CG54: 0 | CH54: 0 | CI54: 0 | CJ54: 0 | CK54: 0 | CL54: 0 | CM54: 0 | CN54: 0 | CO54: 0
A55: 75062 | B55: 7-125 | C55: 111 | D55: 7 | E55: 3 | F55: P1036 | G55: 912 | H55: 11461 | I55: A103608 | J55: 329 | K55: Ostali nespomenuti rashodi poslovanja | L55: 0 | M55: 5250 | N55: 0 | O55: 5250 | P55: 4750 | Q55: -500 | R55: 0.9 | S55: 0 | T55: 0 | U55: 0 | V55: 0 | W55: 0 | X55: 0 | Y55: 0 | Z55: 0 | AA55: 0 | AB55: 0 | AC55: 0 | AD55: 0 | AE55: 0 | AF55: 0 | AG55: 0 | AH55: 0 | AI55: 0 | AJ55: 0 | AK55: 0 | AL55: 0 | AM55: 0 | AN55: 0 | AO55: 0 | AP55: 0 | AQ55: 0 | AR55: 0 | AS55: 0 | AT55: 0 | AU55: 0 | AV55: 0 | AW55: 0 | AX55: 0 | AY55: 0 | AZ55: 0 | BA55: 0 | BB55: 0 | BC55: 0 | BD55: 0 | BE55: 0 | BF55: 5250 | BG55: 4750 | BH55: 0.9 | BI55: 0 | BJ55: 0 | BK55: 0 | BL55: 0 | BM55: 0 | BN55: 0 | BO55: 0 | BP55: 0 | BQ55: 0 | BR55: 0 | BS55: 0 | BT55: 0 | BU55: 0 | BV55: 0 | BW55: 0 | BX55: 0 | BY55: 0 | BZ55: 0 | CA55: 0 | CB55: 0 | CC55: 0 | CD55: 0 | CE55: 0 | CF55: 0 | CG55: 0 | CH55: 0 | CI55: 0 | CJ55: 0 | CK55: 0 | CL55: 0 | CM55: 0 | CN55: 0 | CO55: 0
A56: 750641 | B56: 7-125 | C56: 111 | D56: 7 | E56: 3 | F56: P1036 | G56: 912 | H56: 11461 | I56: A103608 | J56: 34 | K56: Financijski rashodi | L56: 0 | M56: 3500 | N56: 0 | O56: 3500 | P56: 3340.84 | Q56: -159.16 | R56: 0.95 | S56: 0 | T56: 0 | U56: 0 | V56: 0 | W56: 0 | X56: 0 | Y56: 0 | Z56: 0 | AA56: 0 | AB56: 0 | AC56: 0 | AD56: 0 | AE56: 0 | AF56: 0 | AG56: 0 | AH56: 0 | AI56: 0 | AJ56: 0 | AK56: 0 | AL56: 0 | AM56: 0 | AN56: 0 | AO56: 0 | AP56: 0 | AQ56: 0 | AR56: 0 | AS56: 0 | AT56: 0 | AU56: 0 | AV56: 0 | AW56: 0 | AX56: 0 | AY56: 0 | AZ56: 0 | BA56: 0 | BB56: 0 | BC56: 0 | BD56: 0 | BE56: 0 | BF56: 3500 | BG56: 3340.84 | BH56: 0.95 | BI56: 0 | BJ56: 0 | BK56: 0 | BL56: 0 | BM56: 0 | BN56: 0 | BO56: 0 | BP56: 0 | BQ56: 0 | BR56: 0 | BS56: 0 | BT56: 0 | BU56: 0 | BV56: 0 | BW56: 0 | BX56: 0 | BY56: 0 | BZ56: 0 | CA56: 0 | CB56: 0 | CC56: 0 | CD56: 0 | CE56: 0 | CF56: 0 | CG56: 0 | CH56: 0 | CI56: 0 | CJ56: 0 | CK56: 0 | CL56: 0 | CM56: 0 | CN56: 0 | CO56: 0
A57: 750642 | B57: 7-125 | C57: 111 | D57: 7 | E57: 3 | F57: P1036 | G57: 912 | H57: 11461 | I57: A103608 | J57: 343 | K57: Ostali financijski rashodi | L57: 0 | M57: 3500 | N57: 0 | O57: 3500 | P57: 3340.84 | Q57: -159.16 | R57: 0.95 | S57: 0 | T57: 0 | U57: 0 | V57: 0 | W57: 0 | X57: 0 | Y57: 0 | Z57: 0 | AA57: 0 | AB57: 0 | AC57: 0 | AD57: 0 | AE57: 0 | AF57: 0 | AG57: 0 | AH57: 0 | AI57: 0 | AJ57: 0 | AK57: 0 | AL57: 0 | AM57: 0 | AN57: 0 | AO57: 0 | AP57: 0 | AQ57: 0 | AR57: 0 | AS57: 0 | AT57: 0 | AU57: 0 | AV57: 0 | AW57: 0 | AX57: 0 | AY57: 0 | AZ57: 0 | BA57: 0 | BB57: 0 | BC57: 0 | BD57: 0 | BE57: 0 | BF57: 3500 | BG57: 3340.84 | BH57: 0.95 | BI57: 0 | BJ57: 0 | BK57: 0 | BL57: 0 | BM57: 0 | BN57: 0 | BO57: 0 | BP57: 0 | BQ57: 0 | BR57: 0 | BS57: 0 | BT57: 0 | BU57: 0 | BV57: 0 | BW57: 0 | BX57: 0 | BY57: 0 | BZ57: 0 | CA57: 0 | CB57: 0 | CC57: 0 | CD57: 0 | CE57: 0 | CF57: 0 | CG57: 0 | CH57: 0 | CI57: 0 | CJ57: 0 | CK57: 0 | CL57: 0 | CM57: 0 | CN57: 0 | CO57: 0
A58: 75065 | B58: 7-126 | C58: 111 | D58: 7 | E58: 3 | F58: P1036 | G58: 912 | H58: 11461 | I58: A103609 | K58: Aktivnost: ŠKOLSKI PSIHOLOG | L58: 169700 | M58: 169700 | N58: 0 | O58: 169700 | P58: 165464.65 | Q58: -4235.35 | R58: 0.98 | S58: 0 | T58: 0 | U58: 0 | V58: 0 | W58: 0 | X58: 0 | Y58: 0 | Z58: 0 | AA58: 0 | AB58: 0 | AC58: 0 | AD58: 0 | AE58: 0 | AF58: 0 | AG58: 0 | AH58: 0 | AI58: 0 | AJ58: 0 | AK58: 0 | AL58: 0 | AM58: 0 | AN58: 0 | AO58: 0 | AP58: 0 | AQ58: 0 | AR58: 0 | AS58: 0 | AT58: 0 | AU58: 0 | AV58: 0 | AW58: 0 | AX58: 0 | AY58: 0 | AZ58: 0 | BA58: 0 | BB58: 0 | BC58: 0 | BD58: 0 | BE58: 0 | BF58: 169700 | BG58: 165464.65 | BH58: 0.98 | BI58: 0 | BJ58: 0 | BK58: 0 | BL58: 0 | BM58: 0 | BN58: 0 | BO58: 0 | BP58: 0 | BQ58: 0 | BR58: 0 | BS58: 0 | BT58: 0 | BU58: 0 | BV58: 0 | BW58: 0 | BX58: 0 | BY58: 0 | BZ58: 0 | CA58: 0 | CB58: 0 | CC58: 0 | CD58: 0 | CE58: 0 | CF58: 0 | CG58: 0 | CH58: 0 | CI58: 0 | CJ58: 0 | CK58: 0 | CL58: 0 | CM58: 0 | CN58: 0 | CO58: 0
A59: 75070 | B59: 7-126 | C59: 111 | D59: 7 | E59: 3 | F59: P1036 | G59: 912 | H59: 11461 | I59: A103609 | J59: 3 | K59: Rashodi poslovanja | L59: 169700 | M59: 169700 | N59: 0 | O59: 169700 | P59: 165464.65 | Q59: -4235.35 | R59: 0.98 | S59: 0 | T59: 0 | U59: 0 | V59: 0 | W59: 0 | X59: 0 | Y59: 0 | Z59: 0 | AA59: 0 | AB59: 0 | AC59: 0 | AD59: 0 | AE59: 0 | AF59: 0 | AG59: 0 | AH59: 0 | AI59: 0 | AJ59: 0 | AK59: 0 | AL59: 0 | AM59: 0 | AN59: 0 | AO59: 0 | AP59: 0 | AQ59: 0 | AR59: 0 | AS59: 0 | AT59: 0 | AU59: 0 | AV59: 0 | AW59: 0 | AX59: 0 | AY59: 0 | AZ59: 0 | BA59: 0 | BB59: 0 | BC59: 0 | BD59: 0 | BE59: 0 | BF59: 169700 | BG59: 165464.65 | BH59: 0.98 | BI59: 0 | BJ59: 0 | BK59: 0 | BL59: 0 | BM59: 0 | BN59: 0 | BO59: 0 | BP59: 0 | BQ59: 0 | BR59: 0 | BS59: 0 | BT59: 0 | BU59: 0 | BV59: 0 | BW59: 0 | BX59: 0 | BY59: 0 | BZ59: 0 | CA59: 0 | CB59: 0 | CC59: 0 | CD59: 0 | CE59: 0 | CF59: 0 | CG59: 0 | CH59: 0 | CI59: 0 | CJ59: 0 | CK59: 0 | CL59: 0 | CM59: 0 | CN59: 0 | CO59: 0
A60: 75075 | B60: 7-126 | C60: 111 | D60: 7 | E60: 3 | F60: P1036 | G60: 912 | H60: 11461 | I60: A103609 | J60: 31 | K60: Rashodi za zaposlene | L60: 169700 | M60: 169700 | N60: 0 | O60: 169700 | P60: 165464.65 | Q60: -4235.35 | R60: 0.98 | S60: 0 | T60: 0 | U60: 0 | V60: 0 | W60: 0 | X60: 0 | Y60: 0 | Z60: 0 | AA60: 0 | AB60: 0 | AC60: 0 | AD60: 0 | AE60: 0 | AF60: 0 | AG60: 0 | AH60: 0 | AI60: 0 | AJ60: 0 | AK60: 0 | AL60: 0 | AM60: 0 | AN60: 0 | AO60: 0 | AP60: 0 | AQ60: 0 | AR60: 0 | AS60: 0 | AT60: 0 | AU60: 0 | AV60: 0 | AW60: 0 | AX60: 0 | AY60: 0 | AZ60: 0 | BA60: 0 | BB60: 0 | BC60: 0 | BD60: 0 | BE60: 0 | BF60: 169700 | BG60: 165464.65 | BH60: 0.98 | BI60: 0 | BJ60: 0 | BK60: 0 | BL60: 0 | BM60: 0 | BN60: 0 | BO60: 0 | BP60: 0 | BQ60: 0 | BR60: 0 | BS60: 0 | BT60: 0 | BU60: 0 | BV60: 0 | BW60: 0 | BX60: 0 | BY60: 0 | BZ60: 0 | CA60: 0 | CB60: 0 | CC60: 0 | CD60: 0 | CE60: 0 | CF60: 0 | CG60: 0 | CH60: 0 | CI60: 0 | CJ60: 0 | CK60: 0 | CL60: 0 | CM60: 0 | CN60: 0 | CO60: 0
A61: 75080 | B61: 7-126 | C61: 111 | D61: 7 | E61: 3 | F61: P1036 | G61: 912 | H61: 11461 | I61: A103609 | J61: 311 | K61: Plaće (Bruto) | L61: 142000 | M61: 142000 | N61: 0 | O61: 142000 | P61: 138424.59 | Q61: -3575.41 | R61: 0.97 | S61: 0 | T61: 0 | U61: 0 | V61: 0 | W61: 0 | X61: 0 | Y61: 0 | Z61: 0 | AA61: 0 | AB61: 0 | AC61: 0 | AD61: 0 | AE61: 0 | AF61: 0 | AG61: 0 | AH61: 0 | AI61: 0 | AJ61: 0 | AK61: 0 | AL61: 0 | AM61: 0 | AN61: 0 | AO61: 0 | AP61: 0 | AQ61: 0 | AR61: 0 | AS61: 0 | AT61: 0 | AU61: 0 | AV61: 0 | AW61: 0 | AX61: 0 | AY61: 0 | AZ61: 0 | BA61: 0 | BB61: 0 | BC61: 0 | BD61: 0 | BE61: 0 | BF61: 142000 | BG61: 138424.59 | BH61: 0.97 | BI61: 0 | BJ61: 0 | BK61: 0 | BL61: 0 | BM61: 0 | BN61: 0 | BO61: 0 | BP61: 0 | BQ61: 0 | BR61: 0 | BS61: 0 | BT61: 0 | BU61: 0 | BV61: 0 | BW61: 0 | BX61: 0 | BY61: 0 | BZ61: 0 | CA61: 0 | CB61: 0 | CC61: 0 | CD61: 0 | CE61: 0 | CF61: 0 | CG61: 0 | CH61: 0 | CI61: 0 | CJ61: 0 | CK61: 0 | CL61: 0 | CM61: 0 | CN61: 0 | CO61: 0
A62: 75090 | B62: 7-126 | C62: 111 | D62: 7 | E62: 3 | F62: P1036 | G62: 912 | H62: 11461 | I62: A103609 | J62: 312 | K62: Ostali rashodi za zaposlene | L62: 4200 | M62: 4200 | N62: 0 | O62: 4200 | P62: 4200 | Q62: 0 | R62: 1 | S62: 0 | T62: 0 | U62: 0 | V62: 0 | W62: 0 | X62: 0 | Y62: 0 | Z62: 0 | AA62: 0 | AB62: 0 | AC62: 0 | AD62: 0 | AE62: 0 | AF62: 0 | AG62: 0 | AH62: 0 | AI62: 0 | AJ62: 0 | AK62: 0 | AL62: 0 | AM62: 0 | AN62: 0 | AO62: 0 | AP62: 0 | AQ62: 0 | AR62: 0 | AS62: 0 | AT62: 0 | AU62: 0 | AV62: 0 | AW62: 0 | AX62: 0 | AY62: 0 | AZ62: 0 | BA62: 0 | BB62: 0 | BC62: 0 | BD62: 0 | BE62: 0 | BF62: 4200 | BG62: 4200 | BH62: 1 | BI62: 0 | BJ62: 0 | BK62: 0 | BL62: 0 | BM62: 0 | BN62: 0 | BO62: 0 | BP62: 0 | BQ62: 0 | BR62: 0 | BS62: 0 | BT62: 0 | BU62: 0 | BV62: 0 | BW62: 0 | BX62: 0 | BY62: 0 | BZ62: 0 | CA62: 0 | CB62: 0 | CC62: 0 | CD62: 0 | CE62: 0 | CF62: 0 | CG62: 0 | CH62: 0 | CI62: 0 | CJ62: 0 | CK62: 0 | CL62: 0 | CM62: 0 | CN62: 0 | CO62: 0
A63: 75100 | B63: 7-126 | C63: 111 | D63: 7 | E63: 3 | F63: P1036 | G63: 912 | H63: 11461 | I63: A103609 | J63: 313 | K63: Doprinosi na plaće | L63: 23500 | M63: 23500 | N63: 0 | O63: 23500 | P63: 22840.06 | Q63: -659.94 | R63: 0.97 | S63: 0 | T63: 0 | U63: 0 | V63: 0 | W63: 0 | X63: 0 | Y63: 0 | Z63: 0 | AA63: 0 | AB63: 0 | AC63: 0 | AD63: 0 | AE63: 0 | AF63: 0 | AG63: 0 | AH63: 0 | AI63: 0 | AJ63: 0 | AK63: 0 | AL63: 0 | AM63: 0 | AN63: 0 | AO63: 0 | AP63: 0 | AQ63: 0 | AR63: 0 | AS63: 0 | AT63: 0 | AU63: 0 | AV63: 0 | AW63: 0 | AX63: 0 | AY63: 0 | AZ63: 0 | BA63: 0 | BB63: 0 | BC63: 0 | BD63: 0 | BE63: 0 | BF63: 23500 | BG63: 22840.06 | BH63: 0.97 | BI63: 0 | BJ63: 0 | BK63: 0 | BL63: 0 | BM63: 0 | BN63: 0 | BO63: 0 | BP63: 0 | BQ63: 0 | BR63: 0 | BS63: 0 | BT63: 0 | BU63: 0 | BV63: 0 | BW63: 0 | BX63: 0 | BY63: 0 | BZ63: 0 | CA63: 0 | CB63: 0 | CC63: 0 | CD63: 0 | CE63: 0 | CF63: 0 | CG63: 0 | CH63: 0 | CI63: 0 | CJ63: 0 | CK63: 0 | CL63: 0 | CM63: 0 | CN63: 0 | CO63: 0
A64: 75115 | B64: 7-127 | C64: 111 | D64: 7 | E64: 3 | F64: P1036 | G64: 912 | H64: 11461 | I64: A103610 | K64: Aktivnost: ŠKOLSKI LOGOPED | L64: 159000 | M64: 146000 | N64: 0 | O64: 146000 | P64: 141384.34 | Q64: -4615.66 | R64: 0.97 | S64: 0 | T64: 0 | U64: 0 | V64: 0 | W64: 0 | X64: 0 | Y64: 0 | Z64: 0 | AA64: 0 | AB64: 0 | AC64: 0 | AD64: 0 | AE64: 0 | AF64: 0 | AG64: 0 | AH64: 0 | AI64: 0 | AJ64: 0 | AK64: 0 | AL64: 0 | AM64: 0 | AN64: 0 | AO64: 0 | AP64: 0 | AQ64: 0 | AR64: 0 | AS64: 0 | AT64: 0 | AU64: 0 | AV64: 0 | AW64: 0 | AX64: 0 | AY64: 0 | AZ64: 0 | BA64: 0 | BB64: 0 | BC64: 0 | BD64: 0 | BE64: 0 | BF64: 146000 | BG64: 141384.34 | BH64: 0.97 | BI64: 0 | BJ64: 0 | BK64: 0 | BL64: 0 | BM64: 0 | BN64: 0 | BO64: 0 | BP64: 0 | BQ64: 0 | BR64: 0 | BS64: 0 | BT64: 0 | BU64: 0 | BV64: 0 | BW64: 0 | BX64: 0 | BY64: 0 | BZ64: 0 | CA64: 0 | CB64: 0 | CC64: 0 | CD64: 0 | CE64: 0 | CF64: 0 | CG64: 0 | CH64: 0 | CI64: 0 | CJ64: 0 | CK64: 0 | CL64: 0 | CM64: 0 | CN64: 0 | CO64: 0
A65: 75120 | B65: 7-127 | C65: 111 | D65: 7 | E65: 3 | F65: P1036 | G65: 912 | H65: 11461 | I65: A103610 | J65: 3 | K65: Rashodi poslovanja | L65: 159000 | M65: 146000 | N65: 0 | O65: 146000 | P65: 141384.34 | Q65: -4615.66 | R65: 0.97 | S65: 0 | T65: 0 | U65: 0 | V65: 0 | W65: 0 | X65: 0 | Y65: 0 | Z65: 0 | AA65: 0 | AB65: 0 | AC65: 0 | AD65: 0 | AE65: 0 | AF65: 0 | AG65: 0 | AH65: 0 | AI65: 0 | AJ65: 0 | AK65: 0 | AL65: 0 | AM65: 0 | AN65: 0 | AO65: 0 | AP65: 0 | AQ65: 0 | AR65: 0 | AS65: 0 | AT65: 0 | AU65: 0 | AV65: 0 | AW65: 0 | AX65: 0 | AY65: 0 | AZ65: 0 | BA65: 0 | BB65: 0 | BC65: 0 | BD65: 0 | BE65: 0 | BF65: 146000 | BG65: 141384.34 | BH65: 0.97 | BI65: 0 | BJ65: 0 | BK65: 0 | BL65: 0 | BM65: 0 | BN65: 0 | BO65: 0 | BP65: 0 | BQ65: 0 | BR65: 0 | BS65: 0 | BT65: 0 | BU65: 0 | BV65: 0 | BW65: 0 | BX65: 0 | BY65: 0 | BZ65: 0 | CA65: 0 | CB65: 0 | CC65: 0 | CD65: 0 | CE65: 0 | CF65: 0 | CG65: 0 | CH65: 0 | CI65: 0 | CJ65: 0 | CK65: 0 | CL65: 0 | CM65: 0 | CN65: 0 | CO65: 0
A66: 75125 | B66: 7-127 | C66: 111 | D66: 7 | E66: 3 | F66: P1036 | G66: 912 | H66: 11461 | I66: A103610 | J66: 31 | K66: Rashodi za zaposlene | L66: 159000 | M66: 146000 | N66: 0 | O66: 146000 | P66: 141384.34 | Q66: -4615.66 | R66: 0.97 | S66: 0 | T66: 0 | U66: 0 | V66: 0 | W66: 0 | X66: 0 | Y66: 0 | Z66: 0 | AA66: 0 | AB66: 0 | AC66: 0 | AD66: 0 | AE66: 0 | AF66: 0 | AG66: 0 | AH66: 0 | AI66: 0 | AJ66: 0 | AK66: 0 | AL66: 0 | AM66: 0 | AN66: 0 | AO66: 0 | AP66: 0 | AQ66: 0 | AR66: 0 | AS66: 0 | AT66: 0 | AU66: 0 | AV66: 0 | AW66: 0 | AX66: 0 | AY66: 0 | AZ66: 0 | BA66: 0 | BB66: 0 | BC66: 0 | BD66: 0 | BE66: 0 | BF66: 146000 | BG66: 141384.34 | BH66: 0.97 | BI66: 0 | BJ66: 0 | BK66: 0 | BL66: 0 | BM66: 0 | BN66: 0 | BO66: 0 | BP66: 0 | BQ66: 0 | BR66: 0 | BS66: 0 | BT66: 0 | BU66: 0 | BV66: 0 | BW66: 0 | BX66: 0 | BY66: 0 | BZ66: 0 | CA66: 0 | CB66: 0 | CC66: 0 | CD66: 0 | CE66: 0 | CF66: 0 | CG66: 0 | CH66: 0 | CI66: 0 | CJ66: 0 | CK66: 0 | CL66: 0 | CM66: 0 | CN66: 0 | CO66: 0
A67: 75130 | B67: 7-127 | C67: 111 | D67: 7 | E67: 3 | F67: P1036 | G67: 912 | H67: 11461 | I67: A103610 | J67: 311 | K67: Plaće (Bruto) | L67: 134000 | M67: 122000 | N67: 0 | O67: 122000 | P67: 118784.85 | Q67: -3215.15 | R67: 0.97 | S67: 0 | T67: 0 | U67: 0 | V67: 0 | W67: 0 | X67: 0 | Y67: 0 | Z67: 0 | AA67: 0 | AB67: 0 | AC67: 0 | AD67: 0 | AE67: 0 | AF67: 0 | AG67: 0 | AH67: 0 | AI67: 0 | AJ67: 0 | AK67: 0 | AL67: 0 | AM67: 0 | AN67: 0 | AO67: 0 | AP67: 0 | AQ67: 0 | AR67: 0 | AS67: 0 | AT67: 0 | AU67: 0 | AV67: 0 | AW67: 0 | AX67: 0 | AY67: 0 | AZ67: 0 | BA67: 0 | BB67: 0 | BC67: 0 | BD67: 0 | BE67: 0 | BF67: 122000 | BG67: 118784.85 | BH67: 0.97 | BI67: 0 | BJ67: 0 | BK67: 0 | BL67: 0 | BM67: 0 | BN67: 0 | BO67: 0 | BP67: 0 | BQ67: 0 | BR67: 0 | BS67: 0 | BT67: 0 | BU67: 0 | BV67: 0 | BW67: 0 | BX67: 0 | BY67: 0 | BZ67: 0 | CA67: 0 | CB67: 0 | CC67: 0 | CD67: 0 | CE67: 0 | CF67: 0 | CG67: 0 | CH67: 0 | CI67: 0 | CJ67: 0 | CK67: 0 | CL67: 0 | CM67: 0 | CN67: 0 | CO67: 0
A68: 75140 | B68: 7-127 | C68: 111 | D68: 7 | E68: 3 | F68: P1036 | G68: 912 | H68: 11461 | I68: A103610 | J68: 312 | K68: Ostali rashodi za zaposlene | L68: 3000 | M68: 3000 | N68: 0 | O68: 3000 | P68: 3000 | Q68: 0 | R68: 1 | S68: 0 | T68: 0 | U68: 0 | V68: 0 | W68: 0 | X68: 0 | Y68: 0 | Z68: 0 | AA68: 0 | AB68: 0 | AC68: 0 | AD68: 0 | AE68: 0 | AF68: 0 | AG68: 0 | AH68: 0 | AI68: 0 | AJ68: 0 | AK68: 0 | AL68: 0 | AM68: 0 | AN68: 0 | AO68: 0 | AP68: 0 | AQ68: 0 | AR68: 0 | AS68: 0 | AT68: 0 | AU68: 0 | AV68: 0 | AW68: 0 | AX68: 0 | AY68: 0 | AZ68: 0 | BA68: 0 | BB68: 0 | BC68: 0 | BD68: 0 | BE68: 0 | BF68: 3000 | BG68: 3000 | BH68: 1 | BI68: 0 | BJ68: 0 | BK68: 0 | BL68: 0 | BM68: 0 | BN68: 0 | BO68: 0 | BP68: 0 | BQ68: 0 | BR68: 0 | BS68: 0 | BT68: 0 | BU68: 0 | BV68: 0 | BW68: 0 | BX68: 0 | BY68: 0 | BZ68: 0 | CA68: 0 | CB68: 0 | CC68: 0 | CD68: 0 | CE68: 0 | CF68: 0 | CG68: 0 | CH68: 0 | CI68: 0 | CJ68: 0 | CK68: 0 | CL68: 0 | CM68: 0 | CN68: 0 | CO68: 0
A69: 75150 | B69: 7-127 | C69: 111 | D69: 7 | E69: 3 | F69: P1036 | G69: 912 | H69: 11461 | I69: A103610 | J69: 313 | K69: Doprinosi na plaće | L69: 22000 | M69: 21000 | N69: 0 | O69: 21000 | P69: 19599.49 | Q69: -1400.51 | R69: 0.93 | S69: 0 | T69: 0 | U69: 0 | V69: 0 | W69: 0 | X69: 0 | Y69: 0 | Z69: 0 | AA69: 0 | AB69: 0 | AC69: 0 | AD69: 0 | AE69: 0 | AF69: 0 | AG69: 0 | AH69: 0 | AI69: 0 | AJ69: 0 | AK69: 0 | AL69: 0 | AM69: 0 | AN69: 0 | AO69: 0 | AP69: 0 | AQ69: 0 | AR69: 0 | AS69: 0 | AT69: 0 | AU69: 0 | AV69: 0 | AW69: 0 | AX69: 0 | AY69: 0 | AZ69: 0 | BA69: 0 | BB69: 0 | BC69: 0 | BD69: 0 | BE69: 0 | BF69: 21000 | BG69: 19599.49 | BH69: 0.93 | BI69: 0 | BJ69: 0 | BK69: 0 | BL69: 0 | BM69: 0 | BN69: 0 | BO69: 0 | BP69: 0 | BQ69: 0 | BR69: 0 | BS69: 0 | BT69: 0 | BU69: 0 | BV69: 0 | BW69: 0 | BX69: 0 | BY69: 0 | BZ69: 0 | CA69: 0 | CB69: 0 | CC69: 0 | CD69: 0 | CE69: 0 | CF69: 0 | CG69: 0 | CH69: 0 | CI69: 0 | CJ69: 0 | CK69: 0 | CL69: 0 | CM69: 0 | CN69: 0 | CO69: 0
A70: 75165 | B70: 7-128 | C70: 111 | D70: 7 | E70: 3 | F70: P1036 | G70: 912 | H70: 11461 | I70: A103611 | K70: Aktivnost: MATERIJALNI RASHODI PO OSNOVI DODATNIH STANDARDA | L70: 24000 | M70: 22000 | N70: 0 | O70: 22000 | P70: 20678.1 | Q70: -1321.9 | R70: 0.94 | S70: 0 | T70: 0 | U70: 0 | V70: 0 | W70: 0 | X70: 0 | Y70: 0 | Z70: 0 | AA70: 0 | AB70: 0 | AC70: 0 | AD70: 0 | AE70: 0 | AF70: 0 | AG70: 0 | AH70: 0 | AI70: 0 | AJ70: 0 | AK70: 0 | AL70: 0 | AM70: 0 | AN70: 0 | AO70: 0 | AP70: 0 | AQ70: 0 | AR70: 0 | AS70: 0 | AT70: 0 | AU70: 0 | AV70: 0 | AW70: 0 | AX70: 0 | AY70: 0 | AZ70: 0 | BA70: 0 | BB70: 0 | BC70: 0 | BD70: 0 | BE70: 0 | BF70: 22000 | BG70: 20678.1 | BH70: 0.94 | BI70: 0 | BJ70: 0 | BK70: 0 | BL70: 0 | BM70: 0 | BN70: 0 | BO70: 0 | BP70: 0 | BQ70: 0 | BR70: 0 | BS70: 0 | BT70: 0 | BU70: 0 | BV70: 0 | BW70: 0 | BX70: 0 | BY70: 0 | BZ70: 0 | CA70: 0 | CB70: 0 | CC70: 0 | CD70: 0 | CE70: 0 | CF70: 0 | CG70: 0 | CH70: 0 | CI70: 0 | CJ70: 0 | CK70: 0 | CL70: 0 | CM70: 0 | CN70: 0 | CO70: 0
A71: 75170 | B71: 7-128 | C71: 111 | D71: 7 | E71: 3 | F71: P1036 | G71: 912 | H71: 11461 | I71: A103611 | J71: 3 | K71: Rashodi poslovanja | L71: 24000 | M71: 22000 | N71: 0 | O71: 22000 | P71: 20678.1 | Q71: -1321.9 | R71: 0.94 | S71: 0 | T71: 0 | U71: 0 | V71: 0 | W71: 0 | X71: 0 | Y71: 0 | Z71: 0 | AA71: 0 | AB71: 0 | AC71: 0 | AD71: 0 | AE71: 0 | AF71: 0 | AG71: 0 | AH71: 0 | AI71: 0 | AJ71: 0 | AK71: 0 | AL71: 0 | AM71: 0 | AN71: 0 | AO71: 0 | AP71: 0 | AQ71: 0 | AR71: 0 | AS71: 0 | AT71: 0 | AU71: 0 | AV71: 0 | AW71: 0 | AX71: 0 | AY71: 0 | AZ71: 0 | BA71: 0 | BB71: 0 | BC71: 0 | BD71: 0 | BE71: 0 | BF71: 22000 | BG71: 20678.1 | BH71: 0.94 | BI71: 0 | BJ71: 0 | BK71: 0 | BL71: 0 | BM71: 0 | BN71: 0 | BO71: 0 | BP71: 0 | BQ71: 0 | BR71: 0 | BS71: 0 | BT71: 0 | BU71: 0 | BV71: 0 | BW71: 0 | BX71: 0 | BY71: 0 | BZ71: 0 | CA71: 0 | CB71: 0 | CC71: 0 | CD71: 0 | CE71: 0 | CF71: 0 | CG71: 0 | CH71: 0 | CI71: 0 | CJ71: 0 | CK71: 0 | CL71: 0 | CM71: 0 | CN71: 0 | CO71: 0
A72: 75175 | B72: 7-128 | C72: 111 | D72: 7 | E72: 3 | F72: P1036 | G72: 912 | H72: 11461 | I72: A103611 | J72: 32 | K72: Materijalni rashodi | L72: 24000 | M72: 22000 | N72: 0 | O72: 22000 | P72: 20678.1 | Q72: -1321.9 | R72: 0.94 | S72: 0 | T72: 0 | U72: 0 | V72: 0 | W72: 0 | X72: 0 | Y72: 0 | Z72: 0 | AA72: 0 | AB72: 0 | AC72: 0 | AD72: 0 | AE72: 0 | AF72: 0 | AG72: 0 | AH72: 0 | AI72: 0 | AJ72: 0 | AK72: 0 | AL72: 0 | AM72: 0 | AN72: 0 | AO72: 0 | AP72: 0 | AQ72: 0 | AR72: 0 | AS72: 0 | AT72: 0 | AU72: 0 | AV72: 0 | AW72: 0 | AX72: 0 | AY72: 0 | AZ72: 0 | BA72: 0 | BB72: 0 | BC72: 0 | BD72: 0 | BE72: 0 | BF72: 22000 | BG72: 20678.1 | BH72: 0.94 | BI72: 0 | BJ72: 0 | BK72: 0 | BL72: 0 | BM72: 0 | BN72: 0 | BO72: 0 | BP72: 0 | BQ72: 0 | BR72: 0 | BS72: 0 | BT72: 0 | BU72: 0 | BV72: 0 | BW72: 0 | BX72: 0 | BY72: 0 | BZ72: 0 | CA72: 0 | CB72: 0 | CC72: 0 | CD72: 0 | CE72: 0 | CF72: 0 | CG72: 0 | CH72: 0 | CI72: 0 | CJ72: 0 | CK72: 0 | CL72: 0 | CM72: 0 | CN72: 0 | CO72: 0
A73: 75180 | B73: 7-128 | C73: 111 | D73: 7 | E73: 3 | F73: P1036 | G73: 912 | H73: 11461 | I73: A103611 | J73: 321 | K73: Naknade troškova zaposlenima | L73: 8000 | M73: 6000 | N73: 0 | O73: 6000 | P73: 4678.1 | Q73: -1321.9 | R73: 0.78 | S73: 0 | T73: 0 | U73: 0 | V73: 0 | W73: 0 | X73: 0 | Y73: 0 | Z73: 0 | AA73: 0 | AB73: 0 | AC73: 0 | AD73: 0 | AE73: 0 | AF73: 0 | AG73: 0 | AH73: 0 | AI73: 0 | AJ73: 0 | AK73: 0 | AL73: 0 | AM73: 0 | AN73: 0 | AO73: 0 | AP73: 0 | AQ73: 0 | AR73: 0 | AS73: 0 | AT73: 0 | AU73: 0 | AV73: 0 | AW73: 0 | AX73: 0 | AY73: 0 | AZ73: 0 | BA73: 0 | BB73: 0 | BC73: 0 | BD73: 0 | BE73: 0 | BF73: 6000 | BG73: 4678.1 | BH73: 0.78 | BI73: 0 | BJ73: 0 | BK73: 0 | BL73: 0 | BM73: 0 | BN73: 0 | BO73: 0 | BP73: 0 | BQ73: 0 | BR73: 0 | BS73: 0 | BT73: 0 | BU73: 0 | BV73: 0 | BW73: 0 | BX73: 0 | BY73: 0 | BZ73: 0 | CA73: 0 | CB73: 0 | CC73: 0 | CD73: 0 | CE73: 0 | CF73: 0 | CG73: 0 | CH73: 0 | CI73: 0 | CJ73: 0 | CK73: 0 | CL73: 0 | CM73: 0 | CN73: 0 | CO73: 0
A74: 75190 | B74: 7-128 | C74: 111 | D74: 7 | E74: 3 | F74: P1036 | G74: 912 | H74: 11461 | I74: A103611 | J74: 322 | K74: Rashodi za materijal i energiju | L74: 16000 | M74: 16000 | N74: 0 | O74: 16000 | P74: 16000 | Q74: 0 | R74: 1 | S74: 0 | T74: 0 | U74: 0 | V74: 0 | W74: 0 | X74: 0 | Y74: 0 | Z74: 0 | AA74: 0 | AB74: 0 | AC74: 0 | AD74: 0 | AE74: 0 | AF74: 0 | AG74: 0 | AH74: 0 | AI74: 0 | AJ74: 0 | AK74: 0 | AL74: 0 | AM74: 0 | AN74: 0 | AO74: 0 | AP74: 0 | AQ74: 0 | AR74: 0 | AS74: 0 | AT74: 0 | AU74: 0 | AV74: 0 | AW74: 0 | AX74: 0 | AY74: 0 | AZ74: 0 | BA74: 0 | BB74: 0 | BC74: 0 | BD74: 0 | BE74: 0 | BF74: 16000 | BG74: 16000 | BH74: 1 | BI74: 0 | BJ74: 0 | BK74: 0 | BL74: 0 | BM74: 0 | BN74: 0 | BO74: 0 | BP74: 0 | BQ74: 0 | BR74: 0 | BS74: 0 | BT74: 0 | BU74: 0 | BV74: 0 | BW74: 0 | BX74: 0 | BY74: 0 | BZ74: 0 | CA74: 0 | CB74: 0 | CC74: 0 | CD74: 0 | CE74: 0 | CF74: 0 | CG74: 0 | CH74: 0 | CI74: 0 | CJ74: 0 | CK74: 0 | CL74: 0 | CM74: 0 | CN74: 0 | CO74: 0
A75: 75200 | B75: 7-129 | C75: 111 | D75: 7 | E75: 3 | F75: P1036 | G75: 912 | H75: 11461 | I75: A103612 | K75: Aktivnost: ŠKOLSKI ODBOR | L75: 20000 | M75: 15000 | N75: 0 | O75: 15000 | P75: 8745.28 | Q75: -6254.72 | R75: 0.58 | S75: 0 | T75: 0 | U75: 0 | V75: 0 | W75: 0 | X75: 0 | Y75: 0 | Z75: 0 | AA75: 0 | AB75: 0 | AC75: 0 | AD75: 0 | AE75: 0 | AF75: 0 | AG75: 0 | AH75: 0 | AI75: 0 | AJ75: 0 | AK75: 0 | AL75: 0 | AM75: 0 | AN75: 0 | AO75: 0 | AP75: 0 | AQ75: 0 | AR75: 0 | AS75: 0 | AT75: 0 | AU75: 0 | AV75: 0 | AW75: 0 | AX75: 0 | AY75: 0 | AZ75: 0 | BA75: 0 | BB75: 0 | BC75: 0 | BD75: 0 | BE75: 0 | BF75: 15000 | BG75: 8745.28 | BH75: 0.58 | BI75: 0 | BJ75: 0 | BK75: 0 | BL75: 0 | BM75: 0 | BN75: 0 | BO75: 0 | BP75: 0 | BQ75: 0 | BR75: 0 | BS75: 0 | BT75: 0 | BU75: 0 | BV75: 0 | BW75: 0 | BX75: 0 | BY75: 0 | BZ75: 0 | CA75: 0 | CB75: 0 | CC75: 0 | CD75: 0 | CE75: 0 | CF75: 0 | CG75: 0 | CH75: 0 | CI75: 0 | CJ75: 0 | CK75: 0 | CL75: 0 | CM75: 0 | CN75: 0 | CO75: 0
A76: 75205 | B76: 7-129 | C76: 111 | D76: 7 | E76: 3 | F76: P1036 | G76: 912 | H76: 11461 | I76: A103612 | J76: 3 | K76: Rashodi poslovanja | L76: 20000 | M76: 15000 | N76: 0 | O76: 15000 | P76: 8745.28 | Q76: -6254.72 | R76: 0.58 | S76: 0 | T76: 0 | U76: 0 | V76: 0 | W76: 0 | X76: 0 | Y76: 0 | Z76: 0 | AA76: 0 | AB76: 0 | AC76: 0 | AD76: 0 | AE76: 0 | AF76: 0 | AG76: 0 | AH76: 0 | AI76: 0 | AJ76: 0 | AK76: 0 | AL76: 0 | AM76: 0 | AN76: 0 | AO76: 0 | AP76: 0 | AQ76: 0 | AR76: 0 | AS76: 0 | AT76: 0 | AU76: 0 | AV76: 0 | AW76: 0 | AX76: 0 | AY76: 0 | AZ76: 0 | BA76: 0 | BB76: 0 | BC76: 0 | BD76: 0 | BE76: 0 | BF76: 15000 | BG76: 8745.28 | BH76: 0.58 | BI76: 0 | BJ76: 0 | BK76: 0 | BL76: 0 | BM76: 0 | BN76: 0 | BO76: 0 | BP76: 0 | BQ76: 0 | BR76: 0 | BS76: 0 | BT76: 0 | BU76: 0 | BV76: 0 | BW76: 0 | BX76: 0 | BY76: 0 | BZ76: 0 | CA76: 0 | CB76: 0 | CC76: 0 | CD76: 0 | CE76: 0 | CF76: 0 | CG76: 0 | CH76: 0 | CI76: 0 | CJ76: 0 | CK76: 0 | CL76: 0 | CM76: 0 | CN76: 0 | CO76: 0
A77: 75210 | B77: 7-129 | C77: 111 | D77: 7 | E77: 3 | F77: P1036 | G77: 912 | H77: 11461 | I77: A103612 | J77: 32 | K77: Materijalni rashodi | L77: 20000 | M77: 15000 | N77: 0 | O77: 15000 | P77: 8745.28 | Q77: -6254.72 | R77: 0.58 | S77: 0 | T77: 0 | U77: 0 | V77: 0 | W77: 0 | X77: 0 | Y77: 0 | Z77: 0 | AA77: 0 | AB77: 0 | AC77: 0 | AD77: 0 | AE77: 0 | AF77: 0 | AG77: 0 | AH77: 0 | AI77: 0 | AJ77: 0 | AK77: 0 | AL77: 0 | AM77: 0 | AN77: 0 | AO77: 0 | AP77: 0 | AQ77: 0 | AR77: 0 | AS77: 0 | AT77: 0 | AU77: 0 | AV77: 0 | AW77: 0 | AX77: 0 | AY77: 0 | AZ77: 0 | BA77: 0 | BB77: 0 | BC77: 0 | BD77: 0 | BE77: 0 | BF77: 15000 | BG77: 8745.28 | BH77: 0.58 | BI77: 0 | BJ77: 0 | BK77: 0 | BL77: 0 | BM77: 0 | BN77: 0 | BO77: 0 | BP77: 0 | BQ77: 0 | BR77: 0 | BS77: 0 | BT77: 0 | BU77: 0 | BV77: 0 | BW77: 0 | BX77: 0 | BY77: 0 | BZ77: 0 | CA77: 0 | CB77: 0 | CC77: 0 | CD77: 0 | CE77: 0 | CF77: 0 | CG77: 0 | CH77: 0 | CI77: 0 | CJ77: 0 | CK77: 0 | CL77: 0 | CM77: 0 | CN77: 0 | CO77: 0
A78: 75215 | B78: 7-129 | C78: 111 | D78: 7 | E78: 3 | F78: P1036 | G78: 912 | H78: 11461 | I78: A103612 | J78: 329 | K78: Ostali nespomenuti rashodi poslovanja | L78: 20000 | M78: 15000 | N78: 0 | O78: 15000 | P78: 8745.28 | Q78: -6254.72 | R78: 0.58 | S78: 0 | T78: 0 | U78: 0 | V78: 0 | W78: 0 | X78: 0 | Y78: 0 | Z78: 0 | AA78: 0 | AB78: 0 | AC78: 0 | AD78: 0 | AE78: 0 | AF78: 0 | AG78: 0 | AH78: 0 | AI78: 0 | AJ78: 0 | AK78: 0 | AL78: 0 | AM78: 0 | AN78: 0 | AO78: 0 | AP78: 0 | AQ78: 0 | AR78: 0 | AS78: 0 | AT78: 0 | AU78: 0 | AV78: 0 | AW78: 0 | AX78: 0 | AY78: 0 | AZ78: 0 | BA78: 0 | BB78: 0 | BC78: 0 | BD78: 0 | BE78: 0 | BF78: 15000 | BG78: 8745.28 | BH78: 0.58 | BI78: 0 | BJ78: 0 | BK78: 0 | BL78: 0 | BM78: 0 | BN78: 0 | BO78: 0 | BP78: 0 | BQ78: 0 | BR78: 0 | BS78: 0 | BT78: 0 | BU78: 0 | BV78: 0 | BW78: 0 | BX78: 0 | BY78: 0 | BZ78: 0 | CA78: 0 | CB78: 0 | CC78: 0 | CD78: 0 | CE78: 0 | CF78: 0 | CG78: 0 | CH78: 0 | CI78: 0 | CJ78: 0 | CK78: 0 | CL78: 0 | CM78: 0 | CN78: 0 | CO78: 0
A79: 75225 | B79: 7-130 | C79: 111,311,531,611,821 | D79: 7 | E79: 3 | F79: P1036 | G79: 912 | H79: 11461 | I79: A103613 | K79: Aktivnost: PROGRAMI I AKTIVNOSTI ŠKOLE | L79: 518850 | M79: 483705 | N79: 0 | O79: 483705 | P79: 319985.79 | Q79: -163719.21 | R79: 0.66 | S79: 0 | T79: 0 | U79: 0 | V79: 0 | W79: 0 | X79: 0 | Y79: 0 | Z79: 0 | AA79: 0 | AB79: 0 | AC79: 0 | AD79: 0 | AE79: 0 | AF79: 0 | AG79: 0 | AH79: 0 | AI79: 0 | AJ79: 0 | AK79: 0 | AL79: 0 | AM79: 0 | AN79: 0 | AO79: 0 | AP79: 0 | AQ79: 0 | AR79: 0 | AS79: 0 | AT79: 0 | AU79: 0 | AV79: 0 | AW79: 0 | AX79: 0 | AY79: 0 | AZ79: 0 | BA79: 0 | BB79: 0 | BC79: 0 | BD79: 0 | BE79: 0 | BF79: 23000 | BG79: 15741.34 | BH79: 0.68 | BI79: 0 | BJ79: 0 | BK79: 0 | BL79: 318000 | BM79: 254557.23 | BN79: 0.8 | BO79: 0 | BP79: 0 | BQ79: 0 | BR79: 0 | BS79: 0 | BT79: 0 | BU79: 11005 | BV79: 4693.37 | BW79: 0.43 | BX79: 0 | BY79: 0 | BZ79: 0 | CA79: 0 | CB79: 0 | CC79: 0 | CD79: 22000 | CE79: 2878 | CF79: 0.13 | CG79: 0 | CH79: 0 | CI79: 0 | CJ79: 0 | CK79: 0 | CL79: 0 | CM79: 109700 | CN79: 42115.85 | CO79: 0.38
A80: 75230 | B80: 7-130 | C80: 111,311,531,611,821 | D80: 7 | E80: 3 | F80: P1036 | G80: 912 | H80: 11461 | I80: A103613 | J80: 3 | K80: Rashodi poslovanja | L80: 518850 | M80: 483705 | N80: 0 | O80: 483705 | P80: 319985.79 | Q80: -163719.21 | R80: 0.66 | S80: 0 | T80: 0 | U80: 0 | V80: 0 | W80: 0 | X80: 0 | Y80: 0 | Z80: 0 | AA80: 0 | AB80: 0 | AC80: 0 | AD80: 0 | AE80: 0 | AF80: 0 | AG80: 0 | AH80: 0 | AI80: 0 | AJ80: 0 | AK80: 0 | AL80: 0 | AM80: 0 | AN80: 0 | AO80: 0 | AP80: 0 | AQ80: 0 | AR80: 0 | AS80: 0 | AT80: 0 | AU80: 0 | AV80: 0 | AW80: 0 | AX80: 0 | AY80: 0 | AZ80: 0 | BA80: 0 | BB80: 0 | BC80: 0 | BD80: 0 | BE80: 0 | BF80: 23000 | BG80: 15741.34 | BH80: 0.68 | BI80: 0 | BJ80: 0 | BK80: 0 | BL80: 318000 | BM80: 254557.23 | BN80: 0.8 | BO80: 0 | BP80: 0 | BQ80: 0 | BR80: 0 | BS80: 0 | BT80: 0 | BU80: 11005 | BV80: 4693.37 | BW80: 0.43 | BX80: 0 | BY80: 0 | BZ80: 0 | CA80: 0 | CB80: 0 | CC80: 0 | CD80: 22000 | CE80: 2878 | CF80: 0.13 | CG80: 0 | CH80: 0 | CI80: 0 | CJ80: 0 | CK80: 0 | CL80: 0 | CM80: 109700 | CN80: 42115.85 | CO80: 0.38
A81: 75235 | B81: 7-130 | C81: 311,531 | D81: 7 | E81: 3 | F81: P1036 | G81: 912 | H81: 11461 | I81: A103613 | J81: 31 | K81: Rashodi za zaposlene | L81: 950 | M81: 1355 | N81: 0 | O81: 1355 | P81: 1344.96 | Q81: -10.04 | R81: 0.99 | S81: 0 | T81: 0 | U81: 0 | V81: 0 | W81: 0 | X81: 0 | Y81: 0 | Z81: 0 | AA81: 0 | AB81: 0 | AC81: 0 | AD81: 0 | AE81: 0 | AF81: 0 | AG81: 0 | AH81: 0 | AI81: 0 | AJ81: 0 | AK81: 0 | AL81: 0 | AM81: 0 | AN81: 0 | AO81: 0 | AP81: 0 | AQ81: 0 | AR81: 0 | AS81: 0 | AT81: 0 | AU81: 0 | AV81: 0 | AW81: 0 | AX81: 0 | AY81: 0 | AZ81: 0 | BA81: 0 | BB81: 0 | BC81: 0 | BD81: 0 | BE81: 0 | BF81: 0 | BG81: 0 | BH81: 0 | BI81: 0 | BJ81: 0 | BK81: 0 | BL81: 350 | BM81: 345.49 | BN81: 0.99 | BO81: 0 | BP81: 0 | BQ81: 0 | BR81: 0 | BS81: 0 | BT81: 0 | BU81: 1005 | BV81: 999.47 | BW81: 0.99 | BX81: 0 | BY81: 0 | BZ81: 0 | CA81: 0 | CB81: 0 | CC81: 0 | CD81: 0 | CE81: 0 | CF81: 0 | CG81: 0 | CH81: 0 | CI81: 0 | CJ81: 0 | CK81: 0 | CL81: 0 | CM81: 0 | CN81: 0 | CO81: 0
A82: 75240 | B82: 7-130 | C82: 311,531 | D82: 7 | E82: 3 | F82: P1036 | G82: 912 | H82: 11461 | I82: A103613 | J82: 311 | K82: Plaće (Bruto) | L82: 810 | M82: 1160 | N82: 0 | O82: 1160 | P82: 1154.47 | Q82: -5.53 | R82: 1 | S82: 0 | T82: 0 | U82: 0 | V82: 0 | W82: 0 | X82: 0 | Y82: 0 | Z82: 0 | AA82: 0 | AB82: 0 | AC82: 0 | AD82: 0 | AE82: 0 | AF82: 0 | AG82: 0 | AH82: 0 | AI82: 0 | AJ82: 0 | AK82: 0 | AL82: 0 | AM82: 0 | AN82: 0 | AO82: 0 | AP82: 0 | AQ82: 0 | AR82: 0 | AS82: 0 | AT82: 0 | AU82: 0 | AV82: 0 | AW82: 0 | AX82: 0 | AY82: 0 | AZ82: 0 | BA82: 0 | BB82: 0 | BC82: 0 | BD82: 0 | BE82: 0 | BF82: 0 | BG82: 0 | BH82: 0 | BI82: 0 | BJ82: 0 | BK82: 0 | BL82: 300 | BM82: 300 | BN82: 1 | BO82: 0 | BP82: 0 | BQ82: 0 | BR82: 0 | BS82: 0 | BT82: 0 | BU82: 860 | BV82: 854.47 | BW82: 0.99 | BX82: 0 | BY82: 0 | BZ82: 0 | CA82: 0 | CB82: 0 | CC82: 0 | CD82: 0 | CE82: 0 | CF82: 0 | CG82: 0 | CH82: 0 | CI82: 0 | CJ82: 0 | CK82: 0 | CL82: 0 | CM82: 0 | CN82: 0 | CO82: 0
A83: 75250 | B83: 7-130 | C83: 311,531 | D83: 7 | E83: 3 | F83: P1036 | G83: 912 | H83: 11461 | I83: A103613 | J83: 313 | K83: Doprinosi na plaće | L83: 140 | M83: 195 | N83: 0 | O83: 195 | P83: 190.49 | Q83: -4.51 | R83: 0.98 | S83: 0 | T83: 0 | U83: 0 | V83: 0 | W83: 0 | X83: 0 | Y83: 0 | Z83: 0 | AA83: 0 | AB83: 0 | AC83: 0 | AD83: 0 | AE83: 0 | AF83: 0 | AG83: 0 | AH83: 0 | AI83: 0 | AJ83: 0 | AK83: 0 | AL83: 0 | AM83: 0 | AN83: 0 | AO83: 0 | AP83: 0 | AQ83: 0 | AR83: 0 | AS83: 0 | AT83: 0 | AU83: 0 | AV83: 0 | AW83: 0 | AX83: 0 | AY83: 0 | AZ83: 0 | BA83: 0 | BB83: 0 | BC83: 0 | BD83: 0 | BE83: 0 | BF83: 0 | BG83: 0 | BH83: 0 | BI83: 0 | BJ83: 0 | BK83: 0 | BL83: 50 | BM83: 45.49 | BN83: 0.91 | BO83: 0 | BP83: 0 | BQ83: 0 | BR83: 0 | BS83: 0 | BT83: 0 | BU83: 145 | BV83: 145 | BW83: 1 | BX83: 0 | BY83: 0 | BZ83: 0 | CA83: 0 | CB83: 0 | CC83: 0 | CD83: 0 | CE83: 0 | CF83: 0 | CG83: 0 | CH83: 0 | CI83: 0 | CJ83: 0 | CK83: 0 | CL83: 0 | CM83: 0 | CN83: 0 | CO83: 0
A84: 75265 | B84: 7-130 | C84: 111,311,531,611,821 | D84: 7 | E84: 3 | F84: P1036 | G84: 912 | H84: 11461 | I84: A103613 | J84: 32 | K84: Materijalni rashodi | L84: 516700 | M84: 481150 | N84: 0 | O84: 481150 | P84: 318640.83 | Q84: -162509.17 | R84: 0.66 | S84: 0 | T84: 0 | U84: 0 | V84: 0 | W84: 0 | X84: 0 | Y84: 0 | Z84: 0 | AA84: 0 | AB84: 0 | AC84: 0 | AD84: 0 | AE84: 0 | AF84: 0 | AG84: 0 | AH84: 0 | AI84: 0 | AJ84: 0 | AK84: 0 | AL84: 0 | AM84: 0 | AN84: 0 | AO84: 0 | AP84: 0 | AQ84: 0 | AR84: 0 | AS84: 0 | AT84: 0 | AU84: 0 | AV84: 0 | AW84: 0 | AX84: 0 | AY84: 0 | AZ84: 0 | BA84: 0 | BB84: 0 | BC84: 0 | BD84: 0 | BE84: 0 | BF84: 23000 | BG84: 15741.34 | BH84: 0.68 | BI84: 0 | BJ84: 0 | BK84: 0 | BL84: 316450 | BM84: 254211.74 | BN84: 0.8 | BO84: 0 | BP84: 0 | BQ84: 0 | BR84: 0 | BS84: 0 | BT84: 0 | BU84: 10000 | BV84: 3693.9 | BW84: 0.37 | BX84: 0 | BY84: 0 | BZ84: 0 | CA84: 0 | CB84: 0 | CC84: 0 | CD84: 22000 | CE84: 2878 | CF84: 0.13 | CG84: 0 | CH84: 0 | CI84: 0 | CJ84: 0 | CK84: 0 | CL84: 0 | CM84: 109700 | CN84: 42115.85 | CO84: 0.38
A85: 75270 | B85: 7-130 | C85: 111,531,821 | D85: 7 | E85: 3 | F85: P1036 | G85: 912 | H85: 11461 | I85: A103613 | J85: 321 | K85: Naknade troškova zaposlenima | L85: 36400 | M85: 36400 | N85: 0 | O85: 36400 | P85: 984 | Q85: -35416 | R85: 0.03 | S85: 0 | T85: 0 | U85: 0 | V85: 0 | W85: 0 | X85: 0 | Y85: 0 | Z85: 0 | AA85: 0 | AB85: 0 | AC85: 0 | AD85: 0 | AE85: 0 | AF85: 0 | AG85: 0 | AH85: 0 | AI85: 0 | AJ85: 0 | AK85: 0 | AL85: 0 | AM85: 0 | AN85: 0 | AO85: 0 | AP85: 0 | AQ85: 0 | AR85: 0 | AS85: 0 | AT85: 0 | AU85: 0 | AV85: 0 | AW85: 0 | AX85: 0 | AY85: 0 | AZ85: 0 | BA85: 0 | BB85: 0 | BC85: 0 | BD85: 0 | BE85: 0 | BF85: 600 | BG85: 0 | BH85: 0 | BI85: 0 | BJ85: 0 | BK85: 0 | BL85: 0 | BM85: 0 | BN85: 0 | BO85: 0 | BP85: 0 | BQ85: 0 | BR85: 0 | BS85: 0 | BT85: 0 | BU85: 800 | BV85: 684 | BW85: 0.86 | BX85: 0 | BY85: 0 | BZ85: 0 | CA85: 0 | CB85: 0 | CC85: 0 | CD85: 0 | CE85: 0 | CF85: 0 | CG85: 0 | CH85: 0 | CI85: 0 | CJ85: 0 | CK85: 0 | CL85: 0 | CM85: 35000 | CN85: 300 | CO85: 0.01
A86: 75285 | B86: 7-130 | C86: 111,311,531,611,821 | D86: 7 | E86: 3 | F86: P1036 | G86: 912 | H86: 11461 | I86: A103613 | J86: 322 | K86: Rashodi za materijal i energiju | L86: 391880 | M86: 322880 | N86: 0 | O86: 322880 | P86: 248154.38 | Q86: -74725.62 | R86: 0.77 | S86: 0 | T86: 0 | U86: 0 | V86: 0 | W86: 0 | X86: 0 | Y86: 0 | Z86: 0 | AA86: 0 | AB86: 0 | AC86: 0 | AD86: 0 | AE86: 0 | AF86: 0 | AG86: 0 | AH86: 0 | AI86: 0 | AJ86: 0 | AK86: 0 | AL86: 0 | AM86: 0 | AN86: 0 | AO86: 0 | AP86: 0 | AQ86: 0 | AR86: 0 | AS86: 0 | AT86: 0 | AU86: 0 | AV86: 0 | AW86: 0 | AX86: 0 | AY86: 0 | AZ86: 0 | BA86: 0 | BB86: 0 | BC86: 0 | BD86: 0 | BE86: 0 | BF86: 2500 | BG86: 2473.27 | BH86: 0.99 | BI86: 0 | BJ86: 0 | BK86: 0 | BL86: 295200 | BM86: 240332.21 | BN86: 0.81 | BO86: 0 | BP86: 0 | BQ86: 0 | BR86: 0 | BS86: 0 | BT86: 0 | BU86: 5180 | BV86: 1509.9 | BW86: 0.29 | BX86: 0 | BY86: 0 | BZ86: 0 | CA86: 0 | CB86: 0 | CC86: 0 | CD86: 5000 | CE86: 2878 | CF86: 0.58 | CG86: 0 | CH86: 0 | CI86: 0 | CJ86: 0 | CK86: 0 | CL86: 0 | CM86: 15000 | CN86: 961 | CO86: 0.06
A87: 75310 | B87: 7-130 | C87: 111,311,531,611,821 | D87: 7 | E87: 3 | F87: P1036 | G87: 912 | H87: 11461 | I87: A103613 | J87: 323 | K87: Rashodi za usluge | L87: 58420 | M87: 91870 | N87: 0 | O87: 91870 | P87: 67492.45 | Q87: -24377.55 | R87: 0.73 | S87: 0 | T87: 0 | U87: 0 | V87: 0 | W87: 0 | X87: 0 | Y87: 0 | Z87: 0 | AA87: 0 | AB87: 0 | AC87: 0 | AD87: 0 | AE87: 0 | AF87: 0 | AG87: 0 | AH87: 0 | AI87: 0 | AJ87: 0 | AK87: 0 | AL87: 0 | AM87: 0 | AN87: 0 | AO87: 0 | AP87: 0 | AQ87: 0 | AR87: 0 | AS87: 0 | AT87: 0 | AU87: 0 | AV87: 0 | AW87: 0 | AX87: 0 | AY87: 0 | AZ87: 0 | BA87: 0 | BB87: 0 | BC87: 0 | BD87: 0 | BE87: 0 | BF87: 19900 | BG87: 13268.07 | BH87: 0.67 | BI87: 0 | BJ87: 0 | BK87: 0 | BL87: 15250 | BM87: 11869.53 | BN87: 0.78 | BO87: 0 | BP87: 0 | BQ87: 0 | BR87: 0 | BS87: 0 | BT87: 0 | BU87: 4020 | BV87: 1500 | BW87: 0.37 | BX87: 0 | BY87: 0 | BZ87: 0 | CA87: 0 | CB87: 0 | CC87: 0 | CD87: 3000 | CE87: 0 | CF87: 0 | CG87: 0 | CH87: 0 | CI87: 0 | CJ87: 0 | CK87: 0 | CL87: 0 | CM87: 49700 | CN87: 40854.85 | CO87: 0.82
A88: 75350 | B88: 7-130 | C88: 311,611,821 | D88: 7 | E88: 3 | F88: P1036 | G88: 912 | H88: 11461 | I88: A103613 | J88: 329 | K88: Ostali nespomenuti rashodi poslovanja | L88: 30000 | M88: 30000 | N88: 0 | O88: 30000 | P88: 2010 | Q88: -27990 | R88: 0.07 | S88: 0 | T88: 0 | U88: 0 | V88: 0 | W88: 0 | X88: 0 | Y88: 0 | Z88: 0 | AA88: 0 | AB88: 0 | AC88: 0 | AD88: 0 | AE88: 0 | AF88: 0 | AG88: 0 | AH88: 0 | AI88: 0 | AJ88: 0 | AK88: 0 | AL88: 0 | AM88: 0 | AN88: 0 | AO88: 0 | AP88: 0 | AQ88: 0 | AR88: 0 | AS88: 0 | AT88: 0 | AU88: 0 | AV88: 0 | AW88: 0 | AX88: 0 | AY88: 0 | AZ88: 0 | BA88: 0 | BB88: 0 | BC88: 0 | BD88: 0 | BE88: 0 | BF88: 0 | BG88: 0 | BH88: 0 | BI88: 0 | BJ88: 0 | BK88: 0 | BL88: 6000 | BM88: 2010 | BN88: 0.34 | BO88: 0 | BP88: 0 | BQ88: 0 | BR88: 0 | BS88: 0 | BT88: 0 | BU88: 0 | BV88: 0 | BW88: 0 | BX88: 0 | BY88: 0 | BZ88: 0 | CA88: 0 | CB88: 0 | CC88: 0 | CD88: 14000 | CE88: 0 | CF88: 0 | CG88: 0 | CH88: 0 | CI88: 0 | CJ88: 0 | CK88: 0 | CL88: 0 | CM88: 10000 | CN88: 0 | CO88: 0
A89: 75360 | B89: 7-130 | C89: 311 | D89: 7 | E89: 3 | F89: P1036 | G89: 912 | H89: 11461 | I89: A103613 | J89: 34 | K89: Financijski rashodi | L89: 1200 | M89: 1200 | N89: 0 | O89: 1200 | P89: 0 | Q89: -1200 | R89: 0 | S89: 0 | T89: 0 | U89: 0 | V89: 0 | W89: 0 | X89: 0 | Y89: 0 | Z89: 0 | AA89: 0 | AB89: 0 | AC89: 0 | AD89: 0 | AE89: 0 | AF89: 0 | AG89: 0 | AH89: 0 | AI89: 0 | AJ89: 0 | AK89: 0 | AL89: 0 | AM89: 0 | AN89: 0 | AO89: 0 | AP89: 0 | AQ89: 0 | AR89: 0 | AS89: 0 | AT89: 0 | AU89: 0 | AV89: 0 | AW89: 0 | AX89: 0 | AY89: 0 | AZ89: 0 | BA89: 0 | BB89: 0 | BC89: 0 | BD89: 0 | BE89: 0 | BF89: 0 | BG89: 0 | BH89: 0 | BI89: 0 | BJ89: 0 | BK89: 0 | BL89: 1200 | BM89: 0 | BN89: 0 | BO89: 0 | BP89: 0 | BQ89: 0 | BR89: 0 | BS89: 0 | BT89: 0 | BU89: 0 | BV89: 0 | BW89: 0 | BX89: 0 | BY89: 0 | BZ89: 0 | CA89: 0 | CB89: 0 | CC89: 0 | CD89: 0 | CE89: 0 | CF89: 0 | CG89: 0 | CH89: 0 | CI89: 0 | CJ89: 0 | CK89: 0 | CL89: 0 | CM89: 0 | CN89: 0 | CO89: 0
A90: 75365 | B90: 7-130 | C90: 311 | D90: 7 | E90: 3 | F90: P1036 | G90: 912 | H90: 11461 | I90: A103613 | J90: 343 | K90: Ostali financijski rashodi | L90: 1200 | M90: 1200 | N90: 0 | O90: 1200 | P90: 0 | Q90: -1200 | R90: 0 | S90: 0 | T90: 0 | U90: 0 | V90: 0 | W90: 0 | X90: 0 | Y90: 0 | Z90: 0 | AA90: 0 | AB90: 0 | AC90: 0 | AD90: 0 | AE90: 0 | AF90: 0 | AG90: 0 | AH90: 0 | AI90: 0 | AJ90: 0 | AK90: 0 | AL90: 0 | AM90: 0 | AN90: 0 | AO90: 0 | AP90: 0 | AQ90: 0 | AR90: 0 | AS90: 0 | AT90: 0 | AU90: 0 | AV90: 0 | AW90: 0 | AX90: 0 | AY90: 0 | AZ90: 0 | BA90: 0 | BB90: 0 | BC90: 0 | BD90: 0 | BE90: 0 | BF90: 0 | BG90: 0 | BH90: 0 | BI90: 0 | BJ90: 0 | BK90: 0 | BL90: 1200 | BM90: 0 | BN90: 0 | BO90: 0 | BP90: 0 | BQ90: 0 | BR90: 0 | BS90: 0 | BT90: 0 | BU90: 0 | BV90: 0 | BW90: 0 | BX90: 0 | BY90: 0 | BZ90: 0 | CA90: 0 | CB90: 0 | CC90: 0 | CD90: 0 | CE90: 0 | CF90: 0 | CG90: 0 | CH90: 0 | CI90: 0 | CJ90: 0 | CK90: 0 | CL90: 0 | CM90: 0 | CN90: 0 | CO90: 0
A91: 75375 | B91: 7-131 | C91: 311,821 | D91: 7 | E91: 3 | F91: P1036 | G91: 912 | H91: 11461 | I91: A103614 | K91: Aktivnost: GLAZBENO OBRAZOVANJE | L91: 146500 | M91: 146500 | N91: 0 | O91: 146500 | P91: 51955.11 | Q91: -94544.89 | R91: 0.35 | S91: 0 | T91: 0 | U91: 0 | V91: 0 | W91: 0 | X91: 0 | Y91: 0 | Z91: 0 | AA91: 0 | AB91: 0 | AC91: 0 | AD91: 0 | AE91: 0 | AF91: 0 | AG91: 0 | AH91: 0 | AI91: 0 | AJ91: 0 | AK91: 0 | AL91: 0 | AM91: 0 | AN91: 0 | AO91: 0 | AP91: 0 | AQ91: 0 | AR91: 0 | AS91: 0 | AT91: 0 | AU91: 0 | AV91: 0 | AW91: 0 | AX91: 0 | AY91: 0 | AZ91: 0 | BA91: 0 | BB91: 0 | BC91: 0 | BD91: 0 | BE91: 0 | BF91: 0 | BG91: 0 | BH91: 0 | BI91: 0 | BJ91: 0 | BK91: 0 | BL91: 107500 | BM91: 47440.56 | BN91: 0.44 | BO91: 0 | BP91: 0 | BQ91: 0 | BR91: 0 | BS91: 0 | BT91: 0 | BU91: 0 | BV91: 0 | BW91: 0 | BX91: 0 | BY91: 0 | BZ91: 0 | CA91: 0 | CB91: 0 | CC91: 0 | CD91: 0 | CE91: 0 | CF91: 0 | CG91: 0 | CH91: 0 | CI91: 0 | CJ91: 0 | CK91: 0 | CL91: 0 | CM91: 39000 | CN91: 4514.55 | CO91: 0.12
A92: 75380 | B92: 7-131 | C92: 311,821 | D92: 7 | E92: 3 | F92: P1036 | G92: 912 | H92: 11461 | I92: A103614 | J92: 3 | K92: Rashodi poslovanja | L92: 146500 | M92: 146500 | N92: 0 | O92: 146500 | P92: 51955.11 | Q92: -94544.89 | R92: 0.35 | S92: 0 | T92: 0 | U92: 0 | V92: 0 | W92: 0 | X92: 0 | Y92: 0 | Z92: 0 | AA92: 0 | AB92: 0 | AC92: 0 | AD92: 0 | AE92: 0 | AF92: 0 | AG92: 0 | AH92: 0 | AI92: 0 | AJ92: 0 | AK92: 0 | AL92: 0 | AM92: 0 | AN92: 0 | AO92: 0 | AP92: 0 | AQ92: 0 | AR92: 0 | AS92: 0 | AT92: 0 | AU92: 0 | AV92: 0 | AW92: 0 | AX92: 0 | AY92: 0 | AZ92: 0 | BA92: 0 | BB92: 0 | BC92: 0 | BD92: 0 | BE92: 0 | BF92: 0 | BG92: 0 | BH92: 0 | BI92: 0 | BJ92: 0 | BK92: 0 | BL92: 107500 | BM92: 47440.56 | BN92: 0.44 | BO92: 0 | BP92: 0 | BQ92: 0 | BR92: 0 | BS92: 0 | BT92: 0 | BU92: 0 | BV92: 0 | BW92: 0 | BX92: 0 | BY92: 0 | BZ92: 0 | CA92: 0 | CB92: 0 | CC92: 0 | CD92: 0 | CE92: 0 | CF92: 0 | CG92: 0 | CH92: 0 | CI92: 0 | CJ92: 0 | CK92: 0 | CL92: 0 | CM92: 39000 | CN92: 4514.55 | CO92: 0.12
A93: 75385 | B93: 7-131 | C93: 311,821 | D93: 7 | E93: 3 | F93: P1036 | G93: 912 | H93: 11461 | I93: A103614 | J93: 32 | K93: Materijalni rashodi | L93: 146500 | M93: 146500 | N93: 0 | O93: 146500 | P93: 51955.11 | Q93: -94544.89 | R93: 0.35 | S93: 0 | T93: 0 | U93: 0 | V93: 0 | W93: 0 | X93: 0 | Y93: 0 | Z93: 0 | AA93: 0 | AB93: 0 | AC93: 0 | AD93: 0 | AE93: 0 | AF93: 0 | AG93: 0 | AH93: 0 | AI93: 0 | AJ93: 0 | AK93: 0 | AL93: 0 | AM93: 0 | AN93: 0 | AO93: 0 | AP93: 0 | AQ93: 0 | AR93: 0 | AS93: 0 | AT93: 0 | AU93: 0 | AV93: 0 | AW93: 0 | AX93: 0 | AY93: 0 | AZ93: 0 | BA93: 0 | BB93: 0 | BC93: 0 | BD93: 0 | BE93: 0 | BF93: 0 | BG93: 0 | BH93: 0 | BI93: 0 | BJ93: 0 | BK93: 0 | BL93: 107500 | BM93: 47440.56 | BN93: 0.44 | BO93: 0 | BP93: 0 | BQ93: 0 | BR93: 0 | BS93: 0 | BT93: 0 | BU93: 0 | BV93: 0 | BW93: 0 | BX93: 0 | BY93: 0 | BZ93: 0 | CA93: 0 | CB93: 0 | CC93: 0 | CD93: 0 | CE93: 0 | CF93: 0 | CG93: 0 | CH93: 0 | CI93: 0 | CJ93: 0 | CK93: 0 | CL93: 0 | CM93: 39000 | CN93: 4514.55 | CO93: 0.12
A94: 75390 | B94: 7-131 | C94: 311,821 | D94: 7 | E94: 3 | F94: P1036 | G94: 912 | H94: 11461 | I94: A103614 | J94: 321 | K94: Naknade troškova zaposlenima | L94: 31000 | M94: 31000 | N94: 0 | O94: 31000 | P94: 2258.16 | Q94: -28741.84 | R94: 0.07 | S94: 0 | T94: 0 | U94: 0 | V94: 0 | W94: 0 | X94: 0 | Y94: 0 | Z94: 0 | AA94: 0 | AB94: 0 | AC94: 0 | AD94: 0 | AE94: 0 | AF94: 0 | AG94: 0 | AH94: 0 | AI94: 0 | AJ94: 0 | AK94: 0 | AL94: 0 | AM94: 0 | AN94: 0 | AO94: 0 | AP94: 0 | AQ94: 0 | AR94: 0 | AS94: 0 | AT94: 0 | AU94: 0 | AV94: 0 | AW94: 0 | AX94: 0 | AY94: 0 | AZ94: 0 | BA94: 0 | BB94: 0 | BC94: 0 | BD94: 0 | BE94: 0 | BF94: 0 | BG94: 0 | BH94: 0 | BI94: 0 | BJ94: 0 | BK94: 0 | BL94: 22000 | BM94: 2258.16 | BN94: 0.1 | BO94: 0 | BP94: 0 | BQ94: 0 | BR94: 0 | BS94: 0 | BT94: 0 | BU94: 0 | BV94: 0 | BW94: 0 | BX94: 0 | BY94: 0 | BZ94: 0 | CA94: 0 | CB94: 0 | CC94: 0 | CD94: 0 | CE94: 0 | CF94: 0 | CG94: 0 | CH94: 0 | CI94: 0 | CJ94: 0 | CK94: 0 | CL94: 0 | CM94: 9000 | CN94: 0 | CO94: 0
A95: 75405 | B95: 7-131 | C95: 311,821 | D95: 7 | E95: 3 | F95: P1036 | G95: 912 | H95: 11461 | I95: A103614 | J95: 322 | K95: Rashodi za materijal i energiju | L95: 25500 | M95: 25500 | N95: 0 | O95: 25500 | P95: 15024.45 | Q95: -10475.55 | R95: 0.59 | S95: 0 | T95: 0 | U95: 0 | V95: 0 | W95: 0 | X95: 0 | Y95: 0 | Z95: 0 | AA95: 0 | AB95: 0 | AC95: 0 | AD95: 0 | AE95: 0 | AF95: 0 | AG95: 0 | AH95: 0 | AI95: 0 | AJ95: 0 | AK95: 0 | AL95: 0 | AM95: 0 | AN95: 0 | AO95: 0 | AP95: 0 | AQ95: 0 | AR95: 0 | AS95: 0 | AT95: 0 | AU95: 0 | AV95: 0 | AW95: 0 | AX95: 0 | AY95: 0 | AZ95: 0 | BA95: 0 | BB95: 0 | BC95: 0 | BD95: 0 | BE95: 0 | BF95: 0 | BG95: 0 | BH95: 0 | BI95: 0 | BJ95: 0 | BK95: 0 | BL95: 17500 | BM95: 11732.4 | BN95: 0.67 | BO95: 0 | BP95: 0 | BQ95: 0 | BR95: 0 | BS95: 0 | BT95: 0 | BU95: 0 | BV95: 0 | BW95: 0 | BX95: 0 | BY95: 0 | BZ95: 0 | CA95: 0 | CB95: 0 | CC95: 0 | CD95: 0 | CE95: 0 | CF95: 0 | CG95: 0 | CH95: 0 | CI95: 0 | CJ95: 0 | CK95: 0 | CL95: 0 | CM95: 8000 | CN95: 3292.05 | CO95: 0.41
A96: 75425 | B96: 7-131 | C96: 311,821 | D96: 7 | E96: 3 | F96: P1036 | G96: 912 | H96: 11461 | I96: A103614 | J96: 323 | K96: Rashodi za usluge | L96: 65200 | M96: 65200 | N96: 0 | O96: 65200 | P96: 29872.5 | Q96: -35327.5 | R96: 0.46 | S96: 0 | T96: 0 | U96: 0 | V96: 0 | W96: 0 | X96: 0 | Y96: 0 | Z96: 0 | AA96: 0 | AB96: 0 | AC96: 0 | AD96: 0 | AE96: 0 | AF96: 0 | AG96: 0 | AH96: 0 | AI96: 0 | AJ96: 0 | AK96: 0 | AL96: 0 | AM96: 0 | AN96: 0 | AO96: 0 | AP96: 0 | AQ96: 0 | AR96: 0 | AS96: 0 | AT96: 0 | AU96: 0 | AV96: 0 | AW96: 0 | AX96: 0 | AY96: 0 | AZ96: 0 | BA96: 0 | BB96: 0 | BC96: 0 | BD96: 0 | BE96: 0 | BF96: 0 | BG96: 0 | BH96: 0 | BI96: 0 | BJ96: 0 | BK96: 0 | BL96: 51200 | BM96: 28650 | BN96: 0.56 | BO96: 0 | BP96: 0 | BQ96: 0 | BR96: 0 | BS96: 0 | BT96: 0 | BU96: 0 | BV96: 0 | BW96: 0 | BX96: 0 | BY96: 0 | BZ96: 0 | CA96: 0 | CB96: 0 | CC96: 0 | CD96: 0 | CE96: 0 | CF96: 0 | CG96: 0 | CH96: 0 | CI96: 0 | CJ96: 0 | CK96: 0 | CL96: 0 | CM96: 14000 | CN96: 1222.5 | CO96: 0.09
A97: 75450 | B97: 7-131 | C97: 311,821 | D97: 7 | E97: 3 | F97: P1036 | G97: 912 | H97: 11461 | I97: A103614 | J97: 329 | K97: Ostali nespomenuti rashodi poslovanja | L97: 24800 | M97: 24800 | N97: 0 | O97: 24800 | P97: 4800 | Q97: -20000 | R97: 0.19 | S97: 0 | T97: 0 | U97: 0 | V97: 0 | W97: 0 | X97: 0 | Y97: 0 | Z97: 0 | AA97: 0 | AB97: 0 | AC97: 0 | AD97: 0 | AE97: 0 | AF97: 0 | AG97: 0 | AH97: 0 | AI97: 0 | AJ97: 0 | AK97: 0 | AL97: 0 | AM97: 0 | AN97: 0 | AO97: 0 | AP97: 0 | AQ97: 0 | AR97: 0 | AS97: 0 | AT97: 0 | AU97: 0 | AV97: 0 | AW97: 0 | AX97: 0 | AY97: 0 | AZ97: 0 | BA97: 0 | BB97: 0 | BC97: 0 | BD97: 0 | BE97: 0 | BF97: 0 | BG97: 0 | BH97: 0 | BI97: 0 | BJ97: 0 | BK97: 0 | BL97: 16800 | BM97: 4800 | BN97: 0.29 | BO97: 0 | BP97: 0 | BQ97: 0 | BR97: 0 | BS97: 0 | BT97: 0 | BU97: 0 | BV97: 0 | BW97: 0 | BX97: 0 | BY97: 0 | BZ97: 0 | CA97: 0 | CB97: 0 | CC97: 0 | CD97: 0 | CE97: 0 | CF97: 0 | CG97: 0 | CH97: 0 | CI97: 0 | CJ97: 0 | CK97: 0 | CL97: 0 | CM97: 8000 | CN97: 0 | CO97: 0
A98: 75465 | B98: 7-132 | C98: 821 | D98: 7 | E98: 3 | F98: P1036 | G98: 912 | H98: 11461 | I98: A103615 | K98: Aktivnost: ZAVIČAJNA NASTAVA | L98: 500 | M98: 500 | N98: 0 | O98: 500 | P98: 0 | Q98: -500 | R98: 0 | S98: 0 | T98: 0 | U98: 0 | V98: 0 | W98: 0 | X98: 0 | Y98: 0 | Z98: 0 | AA98: 0 | AB98: 0 | AC98: 0 | AD98: 0 | AE98: 0 | AF98: 0 | AG98: 0 | AH98: 0 | AI98: 0 | AJ98: 0 | AK98: 0 | AL98: 0 | AM98: 0 | AN98: 0 | AO98: 0 | AP98: 0 | AQ98: 0 | AR98: 0 | AS98: 0 | AT98: 0 | AU98: 0 | AV98: 0 | AW98: 0 | AX98: 0 | AY98: 0 | AZ98: 0 | BA98: 0 | BB98: 0 | BC98: 0 | BD98: 0 | BE98: 0 | BF98: 0 | BG98: 0 | BH98: 0 | BI98: 0 | BJ98: 0 | BK98: 0 | BL98: 0 | BM98: 0 | BN98: 0 | BO98: 0 | BP98: 0 | BQ98: 0 | BR98: 0 | BS98: 0 | BT98: 0 | BU98: 0 | BV98: 0 | BW98: 0 | BX98: 0 | BY98: 0 | BZ98: 0 | CA98: 0 | CB98: 0 | CC98: 0 | CD98: 0 | CE98: 0 | CF98: 0 | CG98: 0 | CH98: 0 | CI98: 0 | CJ98: 0 | CK98: 0 | CL98: 0 | CM98: 500 | CN98: 0 | CO98: 0
A99: 75470 | B99: 7-132 | C99: 821 | D99: 7 | E99: 3 | F99: P1036 | G99: 912 | H99: 11461 | I99: A103615 | J99: 3 | K99: Rashodi poslovanja | L99: 500 | M99: 500 | N99: 0 | O99: 500 | P99: 0 | Q99: -500 | R99: 0 | S99: 0 | T99: 0 | U99: 0 | V99: 0 | W99: 0 | X99: 0 | Y99: 0 | Z99: 0 | AA99: 0 | AB99: 0 | AC99: 0 | AD99: 0 | AE99: 0 | AF99: 0 | AG99: 0 | AH99: 0 | AI99: 0 | AJ99: 0 | AK99: 0 | AL99: 0 | AM99: 0 | AN99: 0 | AO99: 0 | AP99: 0 | AQ99: 0 | AR99: 0 | AS99: 0 | AT99: 0 | AU99: 0 | AV99: 0 | AW99: 0 | AX99: 0 | AY99: 0 | AZ99: 0 | BA99: 0 | BB99: 0 | BC99: 0 | BD99: 0 | BE99: 0 | BF99: 0 | BG99: 0 | BH99: 0 | BI99: 0 | BJ99: 0 | BK99: 0 | BL99: 0 | BM99: 0 | BN99: 0 | BO99: 0 | BP99: 0 | BQ99: 0 | BR99: 0 | BS99: 0 | BT99: 0 | BU99: 0 | BV99: 0 | BW99: 0 | BX99: 0 | BY99: 0 | BZ99: 0 | CA99: 0 | CB99: 0 | CC99: 0 | CD99: 0 | CE99: 0 | CF99: 0 | CG99: 0 | CH99: 0 | CI99: 0 | CJ99: 0 | CK99: 0 | CL99: 0 | CM99: 500 | CN99: 0 | CO99: 0
A100: 75475 | B100: 7-132 | C100: 821 | D100: 7 | E100: 3 | F100: P1036 | G100: 912 | H100: 11461 | I100: A103615 | J100: 32 | K100: Materijalni rashodi | L100: 500 | M100: 500 | N100: 0 | O100: 500 | P100: 0 | Q100: -500 | R100: 0 | S100: 0 | T100: 0 | U100: 0 | V100: 0 | W100: 0 | X100: 0 | Y100: 0 | Z100: 0 | AA100: 0 | AB100: 0 | AC100: 0 | AD100: 0 | AE100: 0 | AF100: 0 | AG100: 0 | AH100: 0 | AI100: 0 | AJ100: 0 | AK100: 0 | AL100: 0 | AM100: 0 | AN100: 0 | AO100: 0 | AP100: 0 | AQ100: 0 | AR100: 0 | AS100: 0 | AT100: 0 | AU100: 0 | AV100: 0 | AW100: 0 | AX100: 0 | AY100: 0 | AZ100: 0 | BA100: 0 | BB100: 0 | BC100: 0 | BD100: 0 | BE100: 0 | BF100: 0 | BG100: 0 | BH100: 0 | BI100: 0 | BJ100: 0 | BK100: 0 | BL100: 0 | BM100: 0 | BN100: 0 | BO100: 0 | BP100: 0 | BQ100: 0 | BR100: 0 | BS100: 0 | BT100: 0 | BU100: 0 | BV100: 0 | BW100: 0 | BX100: 0 | BY100: 0 | BZ100: 0 | CA100: 0 | CB100: 0 | CC100: 0 | CD100: 0 | CE100: 0 | CF100: 0 | CG100: 0 | CH100: 0 | CI100: 0 | CJ100: 0 | CK100: 0 | CL100: 0 | CM100: 500 | CN100: 0 | CO100: 0
A101: 75490 | B101: 7-132 | C101: 821 | D101: 7 | E101: 3 | F101: P1036 | G101: 912 | H101: 11461 | I101: A103615 | J101: 323 | K101: Rashodi za usluge | L101: 500 | M101: 500 | N101: 0 | O101: 500 | P101: 0 | Q101: -500 | R101: 0 | S101: 0 | T101: 0 | U101: 0 | V101: 0 | W101: 0 | X101: 0 | Y101: 0 | Z101: 0 | AA101: 0 | AB101: 0 | AC101: 0 | AD101: 0 | AE101: 0 | AF101: 0 | AG101: 0 | AH101: 0 | AI101: 0 | AJ101: 0 | AK101: 0 | AL101: 0 | AM101: 0 | AN101: 0 | AO101: 0 | AP101: 0 | AQ101: 0 | AR101: 0 | AS101: 0 | AT101: 0 | AU101: 0 | AV101: 0 | AW101: 0 | AX101: 0 | AY101: 0 | AZ101: 0 | BA101: 0 | BB101: 0 | BC101: 0 | BD101: 0 | BE101: 0 | BF101: 0 | BG101: 0 | BH101: 0 | BI101: 0 | BJ101: 0 | BK101: 0 | BL101: 0 | BM101: 0 | BN101: 0 | BO101: 0 | BP101: 0 | BQ101: 0 | BR101: 0 | BS101: 0 | BT101: 0 | BU101: 0 | BV101: 0 | BW101: 0 | BX101: 0 | BY101: 0 | BZ101: 0 | CA101: 0 | CB101: 0 | CC101: 0 | CD101: 0 | CE101: 0 | CF101: 0 | CG101: 0 | CH101: 0 | CI101: 0 | CJ101: 0 | CK101: 0 | CL101: 0 | CM101: 500 | CN101: 0 | CO101: 0
