Workbook

Sheet SAŽETAK NOVO
A1: Naziv škole: Osnovna škola Vladimira Nazora-Scuola elementare "Vladimir Nazor"
A2: Sjedište i adresa: ROVINJ-ROVIGNO, De Amicis 31
A3: Telefon/fax: 052 814 176
A4: Žiro-račun škole: HR9223400091110418489
A5: OIB: 10372585831
A6: PRIJEDLOG FINANCIJSKOG PLANA PRORAČUNSKOG KORISNIKA JEDINICE LOKALNE I PODRUČNE (REGIONALNE) SAMOUPRAVE ZA 2026. I PROJEKCIJE ZA 2027. I 2028. GODINU
A8: I. OPĆI DIO
A10: A) SAŽETAK RAČUNA PRIHODA I RASHODA
J11: EUR
A12: Razred i naziv | F12: Izvršenje 2024. | G12: Tekući plan 2025. | H12: Plan 2026. | I12: Projekcija 2027. | J12: Projekcija 2028.
A13: 1 | F13: 2 | G13: 3 | H13: 4 | I13: 5 | J13: 6
A14: PRIHODI UKUPNO | F14: 2015749.6 | G14: =G15+G16 -> 2419909.5 | H14: =H15+H16 -> 2305300 | I14: =I15+I16 -> 2397500 | J14: =J15+J16 -> 2421600
A15: 6 PRIHODI POSLOVANJA | F15: 2015749.6 | G15: 2419909.5 | H15: 2305300 | I15: 2397500 | J15: 2421600
A16: 7 PRIHODI OD PRODAJE NEFINANCIJSKE IMOVINE | F16: 0 | G16: 0 | H16: 0 | I16: 0 | J16: 0
A17: RASHODI UKUPNO | F17: 2042853.1 | G17: =G18+G19 -> 2453207 | H17: =H18+H19 -> 2345300 | I17: =I18+I19 -> 2397500 | J17: =J18+J19 -> 2421600
A18: 3 RASHODI POSLOVANJA | F18: 1991904.3 | G18: 2390009.5 | H18: 2277400 | I18: 2339364 | J18: 2362882
A19: 4 RASHODI ZA NABAVU NEFINANCIJSKE IMOVINE | F19: 50948.87 | G19: 63197.53 | H19: 67900 | I19: 58136 | J19: 58718
A20: RAZLIKA - VIŠAK / MANJAK | F20: -27103.49 | G20: =G14-G17 -> -33297.53 | H20: =H14-H17 -> -40000 | I20: =I14-I17 -> 0 | J20: =J14-J17 -> 0
A22: B) SAŽETAK RAČUNA FINANCIRANJA
A24: Razred i naziv | F24: Izvršenje 2024. | G24: Tekući plan 2025. | H24: Plan 2026. | I24: Projekcija 2027. | J24: Projekcija 2028.
A25: 1 | F25: 2 | G25: 3 | H25: 4 | I25: 5 | J25: 6
A26: 8 PRIMICI OD FINANCIJSKE IMOVINE I ZADUŽIVANJA | F26: 0 | G26: 0
A27: 5 IZDACI ZA FINANCIJSKU IMOVINU I OTPLATE ZAJMOVA | F27: 0 | G27: 0
A28: NETO FINANCIRANJE | F28: =F26-F27 -> 0 | G28: =G26-G27 -> 0 | H28: =H26-H27 -> 0 | I28: =I26-I27 -> 0 | J28: =J26-J27 -> 0
A29: VIŠAK / MANJAK + NETO FINANCIRANJE | F29: =F20+F28 -> -27103.49 | G29: =G20+G28 -> -33297.53 | H29: =H20+H28 -> -40000 | I29: =I20+I28 -> 0 | J29: =J20+J28 -> 0
A31: C) PRENESENI VIŠAK ILI PRENESENI MANJAK
A33: Naziv | F33: Izvršenje 2024. | G33: Tekući plan 2025. | H33: Plan 2026. | I33: Projekcija 2027. | J33: Projekcija 2028.
A34: 1 | F34: 2 | G34: 3 | H34: 4 | I34: 5 | J34: 6
A35: PRIJENOS VIŠKA / MANJKA IZ PRETHODNE(IH) GODINE | F35: 60401.02 | G35: 33297.53 | H35: 40000 | I35: 0 | J35: 0
A36: PRIJENOS VIŠKA / MANJKA U SLJEDEĆE RAZDOBLJE | F36: =F29+F35 -> 33297.53 | G36: =G29+G35 -> 2.0372681e-10 | H36: =H29+H35 -> 0 | I36: =I29+I35 -> 0 | J36: =J29+J35 -> 0
A37: VIŠAK / MANJAK + NETO FINANCIRANJE + PRIJENOS VIŠKA / MANJKA IZ PRETHODNE(IH) GODINE - PRIJENOS VIŠKA / MANJKA U SLJEDEĆE RAZDOBLJE | F37: =F20+F28+F35-F36 -> 0 | G37: =G20+G28+G35-G36 -> 0 | H37: =H20+H28+H35-H36 -> 0 | I37: =I20+I28+I35-I36 -> 0 | J37: =J20+J28+J35-J36 -> 0
A39: D) VIŠEGODIŠNJI PLAN URAVNOTEŽENJA
A41: Naziv | F41: Izvršenje 2024. | G41: Tekući plan 2025. | H41: Plan 2026. | I41: Projekcija 2027. | J41: Projekcija 2028.
A42: 1 | F42: 2 | G42: 3 | H42: 4 | I42: 5 | J42: 6
A43: PRIJENOS VIŠKA / MANJKA IZ PRETHODNE(IH) GODINE | F43: 60401.02 | G43: 33297.53 | H43: 40000 | I43: =H46 -> 0 | J43: =I46 -> 0
A44: VIŠAK / MANJAK IZ PRETHODNE(IH) GODINE KOJI ĆE SE RASPOREDITI / POKRITI | F44: 0 | G44: 33297.53 | H44: 40000 | I44: 0 | J44: 0
A45: VIŠAK / MANJAK TEKUĆE GODINE | F45: -27103.49 | G45: 0 | H45: 0 | I45: 0 | J45: 0
A46: PRIJENOS VIŠKA / MANJKA U SLJEDEĆE RAZDOBLJE | F46: =F43-F44+F45 -> 33297.53 | G46: =G43-G44+G45 -> 0 | H46: =H43-H44+H45 -> 0 | I46: =I43-I44+I45 -> 0 | J46: =J43-J44+J45 -> 0

Sheet  Račun prihoda i rashoda NOVO
A1: Naziv škole: Osnovna škola Vladimira Nazora-Scuola elementare "Vladimir Nazor"
A2: Sjedište i adresa: ROVINJ-ROVIGNO, De Amicis 31
A3: Telefon/fax: 052 814 176
A4: Žiro-račun škole: HR9223400091110418489
A5: OIB: 10372585831
A6: PRIJEDLOG FINANCIJSKOG PLANA PRORAČUNSKOG KORISNIKA JEDINICE LOKALNE I PODRUČNE (REGIONALNE) SAMOUPRAVE ZA 2026. I PROJEKCIJE ZA 2027. I 2028. GODINU
A8: I. OPĆI DIO
A10: A. RAČUN PRIHODA I RASHODA
A12: A1. PRIHODI I RASHODI PREMA EKONOMSKOJ KLASIFIKACIJI
A14: Razred/ skupina | B14: Naziv | C14: Izvršenje 2024. | D14: Tekući plan 2025. | E14: Plan 2026. | F14: Projekcija 2027. | G14: Projekcija 2028.
A15: 1 | B15: 2 | C15: 3 | D15: 4 | E15: 5 | F15: 6 | G15: 7
B16: UKUPNO PRIHODI | C16: =SUM(C17+C23) -> 2015749.6 | D16: =SUM(D17+D23) -> 2419909.5 | E16: =SUM(E17+E23) -> 2305300 | F16: =SUM(F17+F23) -> 2397500 | G16: =SUM(G17+G23) -> 2421600
A17: 6 | B17: Prihodi poslovanja | C17: =SUM(C18+C19+C20+C21+C22) -> 2015749.6 | D17: =SUM(D18+D19+D20+D21+D22) -> 2419909.5 | E17: =SUM(E18+E19+E20+E21+E22) -> 2305300 | F17: =SUM(F18+F19+F20+F21+F22) -> 2397500 | G17: =SUM(G18+G19+G20+G21+G22) -> 2421600
A18: 63 | B18: Pomoći iz inozemstva i od subjekata unutar općeg proračuna | C18: 1557034.1 | D18: 1940818.5 | E18: 1804370 | F18: 1876545 | G18: 1895346
A19: 64 | B19: Prihodi od imovine | C19: 117.86 | D19: 120 | E19: 120 | F19: 125 | G19: 126
A20: 65 | B20: Prihodi od upravnih i administr.pristojbi i po posebnim propisima | C20: 50157.75 | D20: 60840 | E20: 56840 | F20: 59101 | G20: 59773
A21: 66 | B21: Prihodi od prodaje proizvoda i robe te pruženih usluga i prihodi od donacija | C21: 3458.02 | D21: 4540 | E21: 4240 | F21: 4410 | G21: 4454
A22: 67 | B22: Prihodi iz nadležnog proračuna i od HZZO-a temeljem ugovornih obveza | C22: 404981.86 | D22: 413590.97 | E22: 439730 | F22: 457319 | G22: 461901
A23: 7 | B23: Prihodi od prodaje nefinancijske imovine | C23: =SUM(C24) -> 0 | D23: =SUM(D24) -> 0 | E23: =SUM(E24) -> 0 | F23: =SUM(F24) -> 0 | G23: =SUM(G24) -> 0
A24: 72 | B24: Prihodi od prodaje proizvedene dugotrajne imovine | C24: 0 | D24: 0 | E24: 0 | F24: 0 | G24: 0
A25: …
A29: Razred/ skupina | B29: Naziv | C29: Izvršenje 2024. | D29: Tekući plan 2025. | E29: Plan 2026. | F29: Projekcija 2027. | G29: Projekcija 2028.
A30: 1 | B30: 2 | C30: 3 | D30: 4 | E30: 5 | F30: 6 | G30: 7
B31: UKUPNO RASHODI | C31: =SUM(C32+C38) -> 2042853.1 | D31: =SUM(D32+D38) -> 2453207 | E31: =SUM(E32+E38) -> 2345300 | F31: =SUM(F32+F38) -> 2397500 | G31: =SUM(G32+G38) -> 2421600
A32: 3 | B32: Rashodi poslovanja | C32: =SUM(C33+C34+C35+C36+C37) -> 1991904.3 | D32: =SUM(D33+D34+D35+D36+D37) -> 2390009.5 | E32: =SUM(E33+E34+E35+E36+E37) -> 2277400 | F32: =SUM(F33+F34+F35+F36+F37) -> 2339364 | G32: =SUM(G33+G34+G35+G36+G37) -> 2362882
A33: 31 | B33: Rashodi za zaposlene | C33: 1644316.8 | D33: 1978140 | E33: 1885365 | F33: 1959568 | G33: 1979204
A34: 32 | B34: Materijalni rashodi | C34: 317412.03 | D34: 376790.97 | E34: 357635 | F34: 344228 | G34: 347755
A35: 34 | B35: Financijski rashodi | C35: 839.43 | D35: 1300 | E35: 1400 | F35: 1248 | G35: 1260
A36: 37 | B36: Naknade građanima i kućanstvima temelj osig i druge nakn | C36: 28328.44 | D36: 33000 | E36: 32000 | F36: 33280 | G36: 33613
A37: 38 | B37: Donacije i ostali rashodi | C37: 1007.55 | D37: 778.5 | E37: 1000 | F37: 1040 | G37: 1050
A38: 4 | B38: Rashodi za nabavu nefinancijske imovine | C38: =SUM(C39+C40) -> 50948.87 | D38: =SUM(D39+D40) -> 63197.53 | E38: =SUM(E39+E40) -> 67900 | F38: =SUM(F39+F40) -> 58136 | G38: =SUM(G39+G40) -> 58718
A39: 41 | B39: Rashodi za nabavu neproizvedene dugotrajne imovine | C39: 0 | D39: 0 | E39: 0 | F39: 0 | G39: 0
A40: 42 | B40: Rashodi za nabavu proizvedene dugotrajne imovine | C40: 50948.87 | D40: 63197.53 | E40: 67900 | F40: 58136 | G40: 58718

Sheet Prihodi i rashodi po izvorima N
B1: Naziv škole: Osnovna škola Vladimira Nazora-Scuola elementare "Vladimir Nazor"
B2: Sjedište i adresa: ROVINJ-ROVIGNO, De Amicis 31
B3: Telefon/fax: 052 814 176
B4: Žiro-račun škole: HR9223400091110418489
B5: OIB: 10372585831
B6: PRIJEDLOG FINANCIJSKOG PLANA PRORAČUNSKOG KORISNIKA JEDINICE LOKALNE I PODRUČNE (REGIONALNE) SAMOUPRAVE ZA 2026. I PROJEKCIJE ZA 2027. I 2028. GODINU
C8: I. OPĆI DIO
C10: A. RAČUN PRIHODA I RASHODA
C12: A2. PRIHODI I RASHODI PREMA IZVORIMA FINANCIRANJA
B14: Razred/ skupina | C14: Naziv | D14: Izvršenje 2024. | E14: Tekući plan 2025. | F14: Plan 2026. | G14: Projekcija 2027. | H14: Projekcija 2028.
B15: 1 | C15: 2 | D15: 3 | E15: 4 | F15: 5 | G15: 6 | H15: 7
C16: UKUPNO PRIHODI | D16: =SUM(D17+D20+D22+D25+D30) -> 2015749.6 | E16: =SUM(E17+E20+E22+E25+E30) -> 2419909.5 | F16: =SUM(F17+F20+F22+F25+F30) -> 2305300 | G16: =SUM(G17+G20+G22+G25+G30) -> 2397500 | H16: =SUM(H17+H20+H22+H25+H30) -> 2421600
B17: 1 | C17: Opći prihodi i primici | D17: =SUM(D18) -> 404981.86 | E17: =SUM(E18) -> 413890.97 | F17: =SUM(F18) -> 417111.52 | G17: =SUM(G18) -> 433784 | H17: =SUM(H18) -> 438209
B18: 11 | C18: Opći prihodi i primici | D18: 404981.86 | E18: 413890.97 | F18: 417111.52 | G18: 433784 | H18: 438209
B19: … | C19: …
B20: 3 | C20: Vlastiti prihodi | D20: =SUM(D21) -> 1128.67 | E20: =SUM(E21) -> 700 | F20: =SUM(F21) -> 700 | G20: =SUM(G21) -> 728 | H20: =SUM(H21) -> 735
B21: 31 | C21: Vlastiti prihodi | D21: 1128.67 | E21: 700 | F21: 700 | G21: 728 | H21: 735
B22: 4 | C22: Prihodi za posebne namjene | D22: =SUM(D23) -> 49186.94 | E22: =SUM(E23) -> 60000 | F22: =SUM(F23+F24) -> 56000 | G22: =SUM(G23+G24) -> 58240 | H22: =SUM(H23+H24) -> 58824
B23: 41 | C23: Prihodi za posebne namjene | D23: 49186.94 | E23: 60000
B24: 43 | C24: Ostali prihodi za posebne namjene | F24: 56000 | G24: 58240 | H24: 58824
B25: 5 | C25: Pomoći | D25: =SUM(D26+D28+D29) -> 1557034.1 | E25: =SUM(E26+E28+E29) -> 1940818.5 | F25: =SUM(F26+F27+F28+F29) -> 1827288.5 | G25: =SUM(G26+G27+G28+G29) -> 1900380 | H25: =SUM(H26+H27+H28+H29) -> 1919420
B26: 50 | C26: Pomoći iz državnog proračuna | D26: 1433135.2 | E26: 1696000 | F26: 1720388.5 | G26: 1789204 | H26: 1807129
B27: 52 | C27: Ostale pomoći | F27: 4400 | G27: 4576 | H27: 4623
B28: 53 | C28: Proračun drugi nivoi | D28: 68199.08 | E28: 98318.5
B29: 56 | C29: Pomoći tijela i fondova EU | D29: 55699.91 | E29: 146500 | F29: 102500 | G29: 106600 | H29: 107668
B30: 6 | C30: Donacije | D30: =SUM(D31) -> 3418.02 | E30: =SUM(E31) -> 4500 | F30: =SUM(F31) -> 4200 | G30: =SUM(G31) -> 4368 | H30: =SUM(H31) -> 4412
B31: 61 | C31: Donacije | D31: 3418.02 | E31: 4500 | F31: 4200 | G31: 4368 | H31: 4412
B33: Razred/ skupina | C33: Naziv | D33: Izvršenje 2024. | E33: Tekući plan 2025. | F33: Plan 2026. | G33: Projekcija 2027. | H33: Projekcija 2028.
B34: 1 | C34: 2 | D34: 3 | E34: 4 | F34: 5 | G34: 6 | H34: 7
C35: UKUPNO RASHODI | D35: =SUM(D36+D39+D42+D46+D51+D53) -> 2042853.1 | E35: =SUM(E36+E39+E42+E46+E51+E53) -> 2453207 | F35: =SUM(F36+F39+F42+F46+F51+F53) -> 2345300 | G35: =SUM(G36+G39+G42+G46+G51+G53) -> 2397500 | H35: =SUM(H36+H39+H42+H46+H51+H53) -> 2421600
B36: 1 | C36: 1 Opći prihodi i primici | D36: =SUM(D37) -> 404981.86 | E36: =SUM(E37) -> 413890.97 | F36: =SUM(F37) -> 417111.52 | G36: =SUM(G37) -> 433784 | H36: =SUM(H37) -> 438209
B37: 11 | C37: 11 Opći prihodi i primici | D37: 404981.86 | E37: 413890.97 | F37: 417111.52 | G37: 433784 | H37: 438209
B38: … | C38: …
B39: 3 | C39: 3 Vlastiti prihodi | D39: =SUM(D40) -> 205.25 | E39: =SUM(E40) -> 700 | F39: =SUM(F40) -> 40700 | G39: =SUM(G40) -> 728 | H39: =SUM(H40) -> 735
B40: 31 | C40: 31 Vlastiti prihodi | D40: 205.25 | E40: 700 | F40: 40700 | G40: 728 | H40: 735
B41: … | C41: …
B42: 4 | C42: Prihodi za posebne namjene | D42: =SUM(D43+D44) -> 27548.55 | E42: =SUM(E43+E44) -> 60000 | F42: =SUM(F43+F44) -> 56000 | G42: =SUM(G43+G44) -> 58240 | H42: =SUM(H43+H44) -> 58824
B43: 41 | C43: Prihodi za posebne namjene | D43: 27548.55 | E43: 60000
B44: 43 | C44: Ostali prihodi za posebne namjene | F44: 56000 | G44: 58240 | H44: 58824
B45: … | C45: …
...

Sheet Rashodi prema funkcijskoj kl
A1: Naziv škole: Osnovna škola Vladimira Nazora-Scuola elementare "Vladimir Nazor"
A2: Sjedište i adresa: ROVINJ-ROVIGNO, De Amicis 31
A3: Telefon/fax: 052 814 176
A4: Žiro-račun škole: HR9223400091110418489
A5: OIB: 10372585831
A8: PRIJEDLOG FINANCIJSKOG PLANA PRORAČUNSKOG KORISNIKA JEDINICE LOKALNE I PODRUČNE (REGIONALNE) SAMOUPRAVE ZA 2026. I PROJEKCIJE ZA 2027. I 2028. GODINU
A10: I. OPĆI DIO
A12: A. RAČUN PRIHODA I RASHODA
A14: A3. RASHODI PREMA FUNKCIJSKOJ KLASIFIKACIJI
A16: BROJČANA OZNAKA I NAZIV | B16: Izvršenje 2024. | C16: Tekući plan 2025. | D16: Plan 2026. | E16: Projekcija 2027. | F16: Projekcija 2028.
A17: UKUPNI RASHODI | B17: =SUM(B19+B22) -> 2042853.1 | C17: =SUM(C19+C22) -> 2453207 | D17: =SUM(D19+D22) -> 2345300 | E17: =SUM(E19+E22) -> 2397500 | F17: =SUM(F19+F22) -> 2421600
A19: 09 obrazovanje | B19: =SUM(B20) -> 2042853.1 | C19: =SUM(C20) -> 2452907 | D19: =SUM(D20) -> 2345300 | E19: =SUM(E20) -> 2397500 | F19: =SUM(F20) -> 2421600
A20: 0912 osnovno obrazovanje | B20: 2042853.1 | C20: 2452907 | D20: 2345300 | E20: 2397500 | F20: 2421600
A22: 10 socijalna zaštita | B22: =SUM(B23) -> 0 | C22: =SUM(C23) -> 300 | D22: =SUM(D23) -> 0 | E22: =SUM(E23) -> 0 | F22: =SUM(F23) -> 0
A23: 107 socijalna pomoć stanovništvu koje nije obuhvaćeno redovnim socijalnim programima | B23: 0 | C23: 300 | D23: 0 | E23: 0 | F23: 0

Sheet Račun financiranja
A1: Naziv škole: Osnovna škola Vladimira Nazora-Scuola elementare "Vladimir Nazor"
A2: Sjedište i adresa: ROVINJ-ROVIGNO, De Amicis 31
A3: Telefon/fax: 052 814 176
A4: Žiro-račun škole: HR9223400091110418489
A5: OIB: 10372585831
A8: PRIJEDLOG FINANCIJSKOG PLANA PRORAČUNSKOG KORISNIKA JEDINICE LOKALNE I PODRUČNE (REGIONALNE) SAMOUPRAVE ZA 2026. I PROJEKCIJA ZA 2027. I 2028. GODINU
A10: I. OPĆI DIO
A12: B. RAČUN FINANCIRANJA
A14: B1. RAČUN FINANCIRANJA PREMA EKONOMSKOJ KLASIFIKACIJI
A16: Razred | B16: Skupina | C16: Izvor | D16: Naziv | E16: Izvršenje 2024. | F16: Tekući plan 2025. | G16: Plan 2026. | H16: Projekcija 2027. | I16: Projekcija 2028.
A17: 8 | D17: Primici od financijske imovine i zaduživanja | E17: 0 | F17: 0 | G17: 0 | H17: 0 | I17: 0
B18: 84 | D18: Primici od zaduživanja | E18: 0 | F18: 0 | G18: 0 | H18: 0 | I18: 0
C19: 81 | D19: Namjenski primici od zaduživanja | E19: 0 | F19: 0 | G19: 0 | H19: 0 | I19: 0
A20: 5 | D20: Izdaci za financijsku imovinu i otplate zajmova | E20: 0 | F20: 0 | G20: 0 | H20: 0 | I20: 0
B21: 54 | D21: Izdaci za otplatu glavnice primljenih kredita i zajmova | E21: 0 | F21: 0 | G21: 0 | H21: 0 | I21: 0
C22: 11 | D22: Opći prihodi i primici | E22: 0 | F22: 0 | G22: 0 | H22: 0 | I22: 0
C23: 31 | D23: Vlastiti prihodi | E23: 0 | F23: 0 | G23: 0 | H23: 0 | I23: 0

Sheet Račun financiranja po izvorima
A1: Naziv škole: Osnovna škola Vladimira Nazora-Scuola elementare "Vladimir Nazor"
A2: Sjedište i adresa: ROVINJ-ROVIGNO, De Amicis 31
A3: Telefon/fax: 052 814 176
A4: Žiro-račun škole: HR9223400091110418489
A5: OIB: 10372585831
A6: PRIJEDLOG FINANCIJSKOG PLANA PRORAČUNSKOG KORISNIKA JEDINICE LOKALNE I PODRUČNE (REGIONALNE) SAMOUPRAVE ZA 2026. I PROJEKCIJA ZA 2027. I 2028. GODINU
B8: I. OPĆI DIO
B10: B2. RAČUN FINANCIRANJA PREMA IZVORIMA FINANCIRANJA
A12: Razred/ skupina | B12: Naziv | C12: Izvršenje 2024. | D12: Tekući plan 2025. | E12: Plan 2026. | F12: Projekcija 2027. | G12: Projekcija 2028.
A13: 1 | B13: 2 | C13: 3 | D13: 4 | E13: 5 | F13: 6 | G13: 7
B14: UKUPNO PRIMICI | C14: 0 | D14: 0 | E14: 0 | F14: 0 | G14: 0
A15: 1 | B15: Opći prihodi i primici | C15: 0 | D15: 0 | E15: 0 | F15: 0 | G15: 0
A16: 11 | B16: Opći prihodi i primici | C16: 0 | D16: 0 | E16: 0 | F16: 0 | G16: 0
A17: … | B17: … | C17: 0 | D17: 0 | E17: 0 | F17: 0 | G17: 0
A18: 3 | B18: Vlastiti prihodi | C18: 0 | D18: 0 | E18: 0 | F18: 0 | G18: 0
A19: 31 | B19: Vlastiti prihodi | C19: 0 | D19: 0 | E19: 0 | F19: 0 | G19: 0
A20: … | B20: … | C20: 0 | D20: 0 | E20: 0 | F20: 0 | G20: 0
C21: 0 | D21: 0 | E21: 0 | F21: 0 | G21: 0
B22: UKUPNO IZDACI | C22: 0 | D22: 0 | E22: 0 | F22: 0 | G22: 0
A23: 1 | B23: 1 Opći prihodi i primici | C23: 0 | D23: 0 | E23: 0 | F23: 0 | G23: 0
A24: 11 | B24: 11 Opći prihodi i primici | C24: 0 | D24: 0 | E24: 0 | F24: 0 | G24: 0
A25: 3 | B25: 3 Vlastiti prihodi | C25: 0 | D25: 0 | E25: 0 | F25: 0 | G25: 0
A26: 31 | B26: 31 Vlastiti prihodi | C26: 0 | D26: 0 | E26: 0 | F26: 0 | G26: 0
B27: …

Sheet POSEBNI DIO
A1: Naziv škole: Osnovna škola Vladimira Nazora-Scuola elementare "Vladimir Nazor"
A2: Sjedište i adresa: ROVINJ-ROVIGNO, De Amicis 31
A3: Telefon/fax: 052 814 176
A4: Žiro-račun škole: HR9223400091110418489
A5: OIB: 10372585831
A8: PRIJEDLOG FINANCIJSKOG PLANA PRORAČUNSKOG KORISNIKA JEDINICE LOKALNE I PODRUČNE (REGIONALNE) SAMOUPRAVE ZA 2026. I PROJEKCIJA ZA 2027. I 2028. GODINU
A10: II. POSEBNI DIO
F12: 7.5345 | H12: POTREBNO POPUNITI
A13: Šifra | D13: Naziv | F13: Izvršenje 2024. | G13: Tekući plan 2025. | H13: Plan 2026. | I13: Projekcija 2027. | J13: Projekcija 2028.
A14: PROGRAM 1026 | D14: PROGRAM:OPĆE JAVNE POTREBE U ŠKOLSTVU | F14: =SUM(F16+F25) -> 1400 | G14: =SUM(G16+G25) -> 902 | H14: =SUM(H16+H25) -> 0 | I14: =SUM(I16+I25) -> 0 | J14: =SUM(J16+J25) -> 0
G15: =SUM(G17+G26) -> 0
A16: Aktivnost A102607 | D16: Aktivnost: NATJECANJA UČENIKA | F16: =SUM(F20) -> 1400 | G16: =SUM(G20) -> 902 | H16: =SUM(H20) -> 0 | I16: =SUM(I20) -> 0 | J16: =SUM(J20) -> 0
G17: =SUM(G21) -> 0
A18: Izvor financiranja 112 | D18: Posebni programi-zajednički dio-iz Grada | F18: =SUM(F20) -> 1400 | G18: =SUM(G20) -> 902 | H18: =SUM(H20) -> 0 | I18: =SUM(I20) -> 0 | J18: =SUM(J20) -> 0
G19: =SUM(G21) -> 0
A20: 3 | D20: Rashodi poslovanja | F20: =SUM(F23) -> 1400 | G20: =SUM(G23) -> 902 | H20: =SUM(H23) -> 0 | I20: =SUM(I23) -> 0 | J20: =SUM(J23) -> 0
G21: =SUM(G24) -> 0
A22: 31 | D22: Rashodi za zaposlene
A23: 32 | D23: Materijalni rashodi | F23: 1400 | G23: 902 | H23: 0 | I23: 0 | J23: 0
A25: Aktivnost A102609 | D25: Aktivnost: POMOĆNICI UČENICIMA S TEŠKOĆAMA U RAZVOJU | F25: =SUM(F29) -> 0 | G25: =SUM(G29) -> 0 | H25: =SUM(H29) -> 0 | I25: =SUM(I29) -> 0 | J25: =SUM(J29) -> 0
G26: =SUM(G30) -> 0
A27: Izvor financiranja 112 | D27: Posebni programi-zajednički dio-iz Grada | F27: =SUM(F29) -> 0 | G27: =SUM(G29) -> 0 | H27: =SUM(H29) -> 0 | I27: =SUM(I29) -> 0 | J27: =SUM(J29) -> 0
G28: =SUM(G30) -> 0
A29: 3 | D29: Rashodi poslovanja | F29: =SUM(F32) -> 0 | G29: =SUM(G32) -> 0 | H29: =SUM(H32) -> 0 | I29: =SUM(I32) -> 0 | J29: =SUM(J32) -> 0
G30: 0
A31: 31 | D31: Rashodi za zaposlene
A32: 31 | D32: Rashodi za zaposlene | G32: =SUM(G33/$F$12) -> 0 | H32: =SUM(H33/$F$12) -> 0 | I32: =SUM(I33/$F$12) -> 0 | J32: =SUM(J33/$F$12) -> 0
G33: 0
A34: PROGRAM 1032 | D34: PROGRAM: SOCIJALNA SKRB | F34: =SUM(F36) -> 0 | G34: =SUM(G36) -> 300 | H34: =SUM(H36) -> 0 | I34: =SUM(I36) -> 0 | J34: =SUM(J36) -> 0
G35: =SUM(G37) -> 0
A36: Aktivnost A103212 | D36: Aktivnost: NAKNADA RAZLIKE U CIJENI TOPLOG OBROKA | F36: =SUM(F40) -> 0 | G36: =SUM(G40) -> 300 | H36: =SUM(H40) -> 0 | I36: =SUM(I40) -> 0 | J36: =SUM(J40) -> 0
G37: =SUM(G41) -> 0
A38: Izvor financiranja 112 | D38: Posebni programi-zajednički dio-iz Grada | F38: =SUM(F40) -> 0 | G38: =SUM(G40) -> 300 | H38: =SUM(H40) -> 0 | I38: =SUM(I40) -> 0 | J38: =SUM(J40) -> 0
G39: =SUM(G41) -> 0
A40: 3 | D40: Rashodi poslovanja | F40: =SUM(F43) -> 0 | G40: =SUM(G43) -> 300 | H40: =SUM(H43) -> 0 | I40: =SUM(I43) -> 0 | J40: =SUM(J43) -> 0
G41: =SUM(G44) -> 0
A42: 31 | D42: Rashodi za zaposlene
A43: 32 | D43: Materijalni rashodi | F43: 0 | G43: 300 | H43: 0 | I43: 0 | J43: 0
A45: PROGRAM 1036 | D45: PROGRAM: DJELATNOST USTANOVA U OSNOVNOM ŠKOLSTVU | F45: =SUM(F47+F56+F108+F116+F128+F136+F144+F154+F162+F260+F298+F324+F380+F390+F400+F410+F420+F438+F464+F474+F484+F494+F504+F522) -> 2041453.1 | G45: =SUM(G47+G56+G108+G116+G128+G136+G144+G154+G162+G260+G298+G324+G380+G390+G400+G410+G420+G438+G464+G474+G484+G494+G504+G522) -> 2452005 | H45: =SUM(H47+H56+H108+H116+H128+H136+H144+H154+H162+H260+H298+H324+H380+H390+H400+H410+H420+H438+H464+H474+H484+H494+H504+H522) -> 2345300 | I45: =SUM(I47+I56+I108+I116+I128+I136+I144+I154+I162+I260+I298+I324+I380+I390+I400+I410+I420+I438+I464+I474+I484+I494+I504+I522) -> 2397500 | J45: =SUM(J47+J56+J108+J116+J128+J136+J144+J154+J162+J260+J298+J324+J380+J390+J400+J410+J420+J438+J464+J474+J484+J494+J504+J522) -> 2421600
A47: Aktivnost A103643 | D47: Aktivnost: NATJECANJA UČENIKA | F47: =SUM(F51) -> 0 | G47: =SUM(G51) -> 0 | H47: =SUM(H51) -> 1000 | I47: =SUM(I51) -> 1040 | J47: =SUM(J51) -> 1050
...

Sheet PRIHODI
C2: Naziv škole: Osnovna škola Vladimira Nazora-Scuola elementare "Vladimir Nazor" | K2: Naziv škole: Osnovna škola Vladimira Nazora-Scuola elementare "Vladimir Nazor"
C3: Sjedište i adresa: ROVINJ-ROVIGNO, De Amicis 31 | H3: PRIJEDLOG 1.IZMJENA I DOPUNA FINANCIJSKOG PLANA 2018. I PROJEKCIJE 2019. I 2020.g. | K3: Sjedište i adresa: ROVINJ-ROVIGNO, De Amicis 31
C4: Telefon/fax: 052 814 176 | H4: RASHODI | K4: Telefon/fax: 052 814 176
C5: Žiro-račun škole: HR9223400091110418489 | K5: Žiro-račun škole: HR3423400091511359042
C6: OIB: 10372585831 | K6: OIB: 10372585831
L13: PRIJEDLOG ( NACRT ) FINANCIJSKOG PLANA 2017. I PROJEKCIJE ZA 2018. I 2019. GODINU | M13: PRIJEDLOG ( NACRT ) FINANCIJSKOG PLANA 2017. I PROJEKCIJE ZA 2018. I 2019. GODINU | N13: PRIJEDLOG ( NACRT ) FINANCIJSKOG PLANA 2017. I PROJEKCIJE ZA 2018. I 2019. GODINU | O13: PRIJEDLOG ( NACRT ) FINANCIJSKOG PLANA 2017. I PROJEKCIJE ZA 2018. I 2019. GODINU | P13: PRIJEDLOG ( NACRT ) FINANCIJSKOG PLANA 2017. I PROJEKCIJE ZA 2018. I 2019. GODINU | Q13: PRIJEDLOG ( NACRT ) FINANCIJSKOG PLANA 2017. I PROJEKCIJE ZA 2018. I 2019. GODINU | R13: PRIJEDLOG ( NACRT ) FINANCIJSKOG PLANA 2017. I PROJEKCIJE ZA 2018. I 2019. GODINU | S13: FINANCIJSKI PLAN ZA 2026., PROJEKCIJE 2027.-2028.
F14: - | J14: A | K14: RAČUN PRIHODA I RASHODA
P15: ovu kolonu NE DIRATI !!!
K16: PRIHODI I PRIMICI
E18: izvor | J18: konto | K18: opis | L18: BAZA za kopiranje - NE DIRAJ | P18: povećanje / smanjenje | S18: 110 -Opći prihodi i primic | T18: 111 - Opći prihodi i primici po decentralizaciji | U18: 311 - Vlastiti prihodi - pr.korisnici | V18: 431-Prihodi posebne namjene-pr.korisnici | W18: 50111 -Pomoći iz drž.proračuna-pr.korisnici | X18: 5021 - Pomoći za min.standard dec.funkcija | Y18: 5023 - Pomoći iz državnog proračuna - COP-pr.korisnici | Z18: 5231 - Pomoći (ŽP,GR,OP)-pr.korisnici | AA18: 5611 - Europski socijalni fond plus-pr.korisnici | AB18: 611 - Donacije | AC18: 711 - Prih od prodaje ili zamjene nefinancijske imovine i naknade štete od osiguranja | AD18: 811 - Namjenski primici od zaduživanja | AE18: 511 - DIREKTNO MZO | AF18: Sveukupno 2026. | AG18: PROJEKCIJA 2027. | AH18: PROJEKCIJA 2028.
E19: 0 | J19: 01 | K19: 02 | S19: 10 | T19: 11 | U19: 13 | V19: 14 | W19: 15 | Y19: 25 | Z19: 16 | AA19: 17 | AB19: 19 | AC19: 20 | AD19: 21 | AE19: 26 | AF19: 27 | AG19: 28 | AH19: 29
J20: Prihodi i primici | L20: =SUM(L21+L174+L176) -> 0 | M20: =SUM(M21+M174+M176) -> 0 | N20: =SUM(N21+N174+N176) -> 0 | O20: =SUM(O21+O174+O176) -> 0 | P20: =SUM(P21+P174+P176) -> 0 | Q20: =SUM(Q21+Q174+Q176) -> 0 | S20: =SUM(S21+S174+S176) -> 337800 | T20: =SUM(T21+T174+T176) -> 79311.52 | U20: =SUM(U21+U174+U176) -> 700 | V20: =SUM(V21+V174+V176) -> 56000 | W20: =SUM(W21+W174+W176) -> 87470 | X20: =SUM(X21+X174+X176) -> 22918.48 | Y20: =SUM(Y21+Y174+Y176) -> 1610000 | Z20: =SUM(Z21+Z174+Z176) -> 4400 | ... AE20: =SUM(AE21+AE174+AE176) -> 0 | AF20: =SUM(S20:AD20) -> 2305300 | AG20: =SUM(AG21+AG174+AG176) -> 2397500 | AH20: =SUM(AH21+AH174+AH176) -> 2421600
J21: prihodi iz poslovnih aktivnosti | L21: =SUM(L22+L149) -> 0 | M21: =SUM(M22+M149) -> 0 | N21: =SUM(N22+N149) -> 0 | O21: =SUM(O22+O149) -> 0 | P21: =SUM(P22+P149) -> 0 | Q21: =SUM(Q22+Q149) -> 0 | S21: =SUM(S22+S149) -> 337800 | T21: =SUM(T22+T149) -> 79311.52 | U21: =SUM(U22+U149) -> 700 | V21: =SUM(V22+V149) -> 56000 | W21: =SUM(W22+W149) -> 87470 | X21: =SUM(X22+X149) -> 22918.48 | Y21: =SUM(Y22+Y149) -> 1610000 | Z21: =SUM(Z22+Z149) -> 4400 | ... AE21: =SUM(AE22+AE149) -> 0 | AF21: =SUM(S21:AD21) -> 2305300 | AG21: =SUM(AG22+AG149) -> 2397500 | AH21: =SUM(AH22+AH149) -> 2421600
J22: 6 | K22: prihodi poslovanja | L22: =SUM(L23+L91+L104+L119+L137+L143) -> 0 | M22: =SUM(M23+M91+M104+M119+M137+M143) -> 0 | N22: =SUM(N23+N91+N104+N119+N137+N143) -> 0 | O22: =SUM(O23+O91+O104+O119+O137+O143) -> 0 | P22: =SUM(P23+P91+P104+P119+P137+P143) -> 0 | Q22: =SUM(Q23+Q91+Q104+Q119+Q137+Q143) -> 0 | S22: =SUM(S23+S91+S104+S119+S137+S143) -> 337800 | T22: =SUM(T23+T91+T104+T119+T137+T143) -> 79311.52 | U22: =SUM(U23+U91+U104+U119+U137+U143) -> 700 | V22: =SUM(V23+V91+V104+V119+V137+V143) -> 56000 | W22: =SUM(W23+W91+W104+W119+W137+W143) -> 87470 | X22: =SUM(X23+X91+X104+X119+X137+X143) -> 22918.48 | Y22: =SUM(Y23+Y91+Y104+Y119+Y137+Y143) -> 1610000 | Z22: =SUM(Z23+Z91+Z104+Z119+Z137+Z143) -> 4400 | ... AE22: =SUM(AE23+AE91+AE104+AE119+AE137+AE143) -> 0 | AF22: =SUM(S22:AD22) -> 2305300 | AG22: =SUM(AG23+AG91+AG104+AG119+AG137+AG143) -> 2397500 | AH22: =SUM(AH23+AH91+AH104+AH119+AH137+AH143) -> 2421600
J23: 63 | K23: pomoći iz inozemstva i od subjekata unutar općeg proračuna | L23: =SUM(L24+L30+L42+L61+L71+L78) -> 0 | M23: =SUM(M24+M30+M42+M61+M71+M78) -> 0 | N23: =SUM(N24+N30+N42+N61+N71+N78) -> 0 | O23: =SUM(O24+O30+O42+O61+O71+O78) -> 0 | P23: =SUM(P24+P30+P42+P61+P71+P78) -> 0 | Q23: =SUM(Q24+Q30+Q42+Q61+Q71+Q78) -> 0 | S23: =SUM(S24+S30+S42+S61+S71+S78) -> 0 | T23: =SUM(T24+T30+T42+T61+T71+T78) -> 0 | U23: =SUM(U24+U30+U42+U61+U71+U78) -> 0 | V23: =SUM(V24+V30+V42+V61+V71+V78) -> 0 | W23: =SUM(W24+W30+W42+W61+W71+W78+W87) -> 87470 | X23: =SUM(X24+X30+X42+X61+X71+X78+X87) -> 0 | Y23: =SUM(Y24+Y30+Y42+Y61+Y71+Y78) -> 1610000 | Z23: =SUM(Z24+Z30+Z42+Z61+Z71+Z78+Z87) -> 4400 | AA23: =SUM(AA24+AA30+AA42+AA61+AA71+AA78+AA87) -> 102500 | AB23: =SUM(AB24+AB30+AB42+AB61+AB71+AB78) -> 0 | AC23: =SUM(AC24+AC30+AC42+AC61+AC71+AC78) -> 0 | AD23: =SUM(AD24+AD30+AD42+AD61+AD71+AD78) -> 0 | AE23: =SUM(AE24+AE30+AE42+AE61+AE71+AE78) -> 0 | AF23: =SUM(S23:AD23) -> 1804370 | AG23: 1876545 | AH23: 1895346
E24: 54 | J24: 631 | K24: pomoći od inozemnih vlada | L24: =SUM(L25+L28) -> 0 | M24: =SUM(M25+M28) -> 0 | N24: =SUM(N25+N28) -> 0 | O24: =SUM(O25+O28) -> 0 | P24: =SUM(P25+P28) -> 0 | Q24: =SUM(Q25+Q28) -> 0 | S24: =SUM(S25+S28) -> 0 | T24: =SUM(T25+T28) -> 0 | U24: =SUM(U25+U28) -> 0 | W24: =SUM(W25+W28) -> 0 | X24: =SUM(X25+X28) -> 0 | Y24: =SUM(Y25+Y28) -> 0 | Z24: =SUM(Z25+Z28) -> 0 | AA24: =SUM(AA25+AA28) -> 0 | AB24: =SUM(AB25+AB28) -> 0 | AC24: =SUM(AC25+AC28) -> 0 | AD24: =SUM(AD25+AD28) -> 0 | AE24: =SUM(AE25+AE28) -> 0 | AF24: =SUM(S24:AD24) -> 0 | AG24: =SUM(AG25+AG28) -> 0 | AH24: =SUM(AH25+AH28) -> 0
E25: 54 | J25: 6311 | K25: tekuće pomoći od inozemnih vlada | L25: =SUM(L26:L27) -> 0 | M25: =SUM(M26:M27) -> 0 | N25: =SUM(N26:N27) -> 0 | O25: =SUM(O26:O27) -> 0 | P25: =SUM(P26:P27) -> 0 | Q25: =SUM(Q26:Q27) -> 0 | S25: =SUM(S26:S27) -> 0 | T25: =SUM(T26:T27) -> 0 | U25: =SUM(U26:U27) -> 0 | W25: =SUM(W26:W27) -> 0 | X25: =SUM(X26:X27) -> 0 | Y25: =SUM(Y26:Y27) -> 0 | Z25: =SUM(Z26:Z27) -> 0 | AA25: =SUM(AA26:AA27) -> 0 | AB25: =SUM(AB26:AB27) -> 0 | AC25: =SUM(AC26:AC27) -> 0 | AD25: =SUM(AD26:AD27) -> 0 | AE25: =SUM(AE26:AE27) -> 0 | AF25: =SUM(S25:AD25) -> 0 | AG25: =SUM(AG26:AG27) -> 0 | AH25: =SUM(AH26:AH27) -> 0
E26: 54 | J26: 63111 | K26: tekuće pomoći od inozemnih vlada u EU | P26: =Q26-O26 -> 0 | AF26: =SUM(S26:AD26) -> 0
E27: 54 | J27: 63111 | K27: tekuće pomoći od inozemnih vlada u EU | P27: =Q27-O27 -> 0 | AF27: =SUM(S27:AD27) -> 0
E28: 54 | J28: 6312 | K28: kapitalne pomoći od inozemnih vlada | L28: =SUM(L29:L29) -> 0 | M28: =SUM(M29:M29) -> 0 | N28: =SUM(N29:N29) -> 0 | O28: =SUM(O29:O29) -> 0 | P28: =SUM(P29:P29) -> 0 | Q28: =SUM(Q29:Q29) -> 0 | S28: =SUM(S29:S29) -> 0 | T28: =SUM(T29:T29) -> 0 | U28: =SUM(U29:U29) -> 0 | W28: =SUM(W29:W29) -> 0 | X28: =SUM(X29:X29) -> 0 | Y28: =SUM(Y29:Y29) -> 0 | Z28: =SUM(Z29:Z29) -> 0 | AA28: =SUM(AA29:AA29) -> 0 | AB28: =SUM(AB29:AB29) -> 0 | AC28: =SUM(AC29:AC29) -> 0 | AD28: =SUM(AD29:AD29) -> 0 | AE28: =SUM(AE29:AE29) -> 0 | AF28: =SUM(S28:AD28) -> 0 | AG28: =SUM(AG29:AG29) -> 0 | AH28: =SUM(AH29:AH29) -> 0
E29: 54 | J29: 63121 | K29: kapitalne pomoći od inozemnih vlada u EU | P29: =Q29-O29 -> 0 | AF29: =SUM(S29:AD29) -> 0
D30: 38 | E30: 54 | J30: 632 | K30: pomoći od međunarodnih organizacija te institucija i tijela EU | L30: =SUM(L31+L33+L35+L39) -> 0 | M30: =SUM(M31+M33+M35+M39) -> 0 | N30: =SUM(N31+N33+N35+N39) -> 0 | O30: =SUM(O31+O33+O35+O39) -> 0 | P30: =SUM(P31+P33+P35+P39) -> 0 | Q30: =SUM(Q31+Q33+Q35+Q39) -> 0 | S30: =SUM(S31+S33+S35+S39) -> 0 | T30: =SUM(T31+T33+T35+T39) -> 0 | U30: =SUM(U31+U33+U35+U39) -> 0 | W30: =SUM(W31+W33+W35+W39) -> 0 | X30: =SUM(X31+X33+X35+X39) -> 0 | Y30: =SUM(Y31+Y33+Y35+Y39) -> 0 | Z30: =SUM(Z31+Z33+Z35+Z39) -> 0 | AA30: =SUM(AA31+AA33+AA35+AA39) -> 0 | AB30: =SUM(AB31+AB33+AB35+AB39) -> 0 | AC30: =SUM(AC31+AC33+AC35+AC39) -> 0 | AD30: =SUM(AD31+AD33+AD35+AD39) -> 0 | AE30: =SUM(AE31+AE33+AE35+AE39) -> 0 | AF30: =SUM(S30:AD30) -> 0 | AG30: =SUM(AG31+AG33+AG35+AG39) -> 0 | AH30: =SUM(AH31+AH33+AH35+AH39) -> 0
D31: 39 | E31: 54 | J31: 6321 | K31: tekuće pomoći od međunarodnih organizacija | L31: =SUM(L32) -> 0 | M31: =SUM(M32) -> 0 | N31: =SUM(N32) -> 0 | O31: =SUM(O32) -> 0 | P31: =SUM(P32) -> 0 | Q31: =SUM(Q32) -> 0 | S31: =SUM(S32) -> 0 | T31: =SUM(T32) -> 0 | U31: =SUM(U32) -> 0 | W31: =SUM(W32) -> 0 | X31: =SUM(X32) -> 0 | Y31: =SUM(Y32) -> 0 | Z31: =SUM(Z32) -> 0 | AA31: =SUM(AA32) -> 0 | AB31: =SUM(AB32) -> 0 | AC31: =SUM(AC32) -> 0 | AD31: =SUM(AD32) -> 0 | AE31: =SUM(AE32) -> 0 | AF31: =SUM(S31:AD31) -> 0 | AG31: =SUM(AG32) -> 0 | AH31: =SUM(AH32) -> 0
D32: 40 | E32: 54 | J32: 63211 | K32: tekuće pomoći od međunarodnih organizacija | P32: =Q32-O32 -> 0 | AA32: 0 | AF32: =SUM(S32:AD32) -> 0
D33: 39 | E33: 54 | J33: 6322 | K33: kapitalne pomoći od međunarodnih organizacija | L33: =SUM(L34) -> 0 | M33: =SUM(M34) -> 0 | N33: =SUM(N34) -> 0 | O33: =SUM(O34) -> 0 | P33: =SUM(P34) -> 0 | Q33: =SUM(Q34) -> 0 | S33: =SUM(S34) -> 0 | T33: =SUM(T34) -> 0 | U33: =SUM(U34) -> 0 | W33: =SUM(W34) -> 0 | X33: =SUM(X34) -> 0 | Y33: =SUM(Y34) -> 0 | Z33: =SUM(Z34) -> 0 | AA33: =SUM(AA34) -> 0 | AB33: =SUM(AB34) -> 0 | AC33: =SUM(AC34) -> 0 | AD33: =SUM(AD34) -> 0 | AE33: =SUM(AE34) -> 0 | AF33: =SUM(S33:AD33) -> 0 | AG33: =SUM(AG34) -> 0 | AH33: =SUM(AH34) -> 0
D34: 40 | E34: 54 | J34: 63221 | K34: kapitalne pomoći od međunarodnih organizacija | P34: =Q34-O34 -> 0 | AA34: 0 | AF34: =SUM(S34:AD34) -> 0
E35: 54 | J35: 6323 | K35: tekuće pomoći od institucija i tijela EU | L35: =SUM(L36:L38) -> 0 | M35: =SUM(M36:M38) -> 0 | N35: =SUM(N36:N38) -> 0 | O35: =SUM(O36:O38) -> 0 | P35: =SUM(P36:P38) -> 0 | Q35: =SUM(Q36:Q38) -> 0 | S35: =SUM(S36:S38) -> 0 | T35: =SUM(T36:T38) -> 0 | U35: =SUM(U36:U38) -> 0 | W35: =SUM(W36:W38) -> 0 | X35: =SUM(X36:X38) -> 0 | Y35: =SUM(Y36:Y38) -> 0 | Z35: =SUM(Z36:Z38) -> 0 | AA35: =SUM(AA36:AA38) -> 0 | AB35: =SUM(AB36:AB38) -> 0 | AC35: =SUM(AC36:AC38) -> 0 | AD35: =SUM(AD36:AD38) -> 0 | AE35: =SUM(AE36:AE38) -> 0 | AF35: =SUM(S35:AD35) -> 0 | AG35: =SUM(AG36:AG38) -> 0 | AH35: =SUM(AH36:AH38) -> 0
E36: 54 | J36: 63231 | K36: tekuće pomoći od institucija i tijela EU | P36: =Q36-O36 -> 0 | AF36: =SUM(S36:AD36) -> 0
E37: 54 | J37: 63231 | K37: tekuće pomoći od institucija i tijela EU | P37: =Q37-O37 -> 0 | AF37: =SUM(S37:AD37) -> 0
E38: 54 | J38: 63231 | K38: tekuće pomoći od institucija i tijela EU | P38: =Q38-O38 -> 0 | AF38: =SUM(S38:AD38) -> 0
E39: 54 | J39: 6324 | K39: kapitalne pomoći od institucija i tijela EU | L39: =SUM(L40:L41) -> 0 | M39: =SUM(M40:M41) -> 0 | N39: =SUM(N40:N41) -> 0 | O39: =SUM(O40:O41) -> 0 | P39: =SUM(P40:P41) -> 0 | Q39: =SUM(Q40:Q41) -> 0 | S39: =SUM(S40:S41) -> 0 | T39: =SUM(T40:T41) -> 0 | U39: =SUM(U40:U41) -> 0 | W39: =SUM(W40:W41) -> 0 | X39: =SUM(X40:X41) -> 0 | Y39: =SUM(Y40:Y41) -> 0 | Z39: =SUM(Z40:Z41) -> 0 | AA39: =SUM(AA40:AA41) -> 0 | AB39: =SUM(AB40:AB41) -> 0 | AC39: =SUM(AC40:AC41) -> 0 | AD39: =SUM(AD40:AD41) -> 0 | AE39: =SUM(AE40:AE41) -> 0 | AF39: =SUM(S39:AD39) -> 0 | AG39: =SUM(AG40:AG41) -> 0 | AH39: =SUM(AH40:AH41) -> 0
E40: 54 | J40: 63241 | K40: kapitalne pomoći od institucija i tijela EU | P40: =Q40-O40 -> 0 | AF40: =SUM(S40:AD40) -> 0
E41: 54 | J41: 63241 | K41: kapitalne pomoći od institucija i tijela EU | P41: =Q41-O41 -> 0 | AF41: =SUM(S41:AD41) -> 0
E42: 53 | J42: 633 | K42: pomoći iz proračuna | L42: =SUM(L43+L52) -> 0 | M42: =SUM(M43+M52) -> 0 | N42: =SUM(N43+N52) -> 0 | O42: =SUM(O43+O52) -> 0 | P42: =SUM(P43+P52) -> 0 | Q42: =SUM(Q43+Q52) -> 0 | S42: =SUM(S43+S52) -> 0 | T42: =SUM(T43+T52) -> 0 | U42: =SUM(U43+U52) -> 0 | W42: =SUM(W43+W52) -> 0 | X42: =SUM(X43+X52) -> 0 | Y42: =SUM(Y43+Y52) -> 0 | Z42: =SUM(Z43+Z52) -> 0 | AA42: =SUM(AA43+AA52) -> 0 | AB42: =SUM(AB43+AB52) -> 0 | AC42: =SUM(AC43+AC52) -> 0 | AD42: =SUM(AD43+AD52) -> 0 | AE42: =SUM(AE43+AE52) -> 0 | AF42: =SUM(S42:AD42) -> 0 | AG42: =SUM(AG43+AG52) -> 0 | AH42: =SUM(AH43+AH52) -> 0
E43: 53 | J43: 6331 | K43: tekuće pomoći iz proračuna | L43: =SUM(L44:L51) -> 0 | M43: =SUM(M44:M51) -> 0 | N43: =SUM(N44:N51) -> 0 | O43: =SUM(O44:O51) -> 0 | P43: =SUM(P44:P51) -> 0 | Q43: =SUM(Q44:Q51) -> 0 | S43: =SUM(S44:S51) -> 0 | T43: =SUM(T44:T51) -> 0 | U43: =SUM(U44:U51) -> 0 | W43: =SUM(W44:W51) -> 0 | X43: =SUM(X44:X51) -> 0 | Y43: =SUM(Y44:Y51) -> 0 | Z43: =SUM(Z44:Z51) -> 0 | AA43: =SUM(AA44:AA51) -> 0 | AB43: =SUM(AB44:AB51) -> 0 | AC43: =SUM(AC44:AC51) -> 0 | AD43: =SUM(AD44:AD51) -> 0 | AE43: =SUM(AE44:AE51) -> 0 | AF43: =SUM(S43:AD43) -> 0 | AG43: =SUM(AG44:AG51) -> 0 | AH43: =SUM(AH44:AH51) -> 0
E44: 53 | J44: 63311 | K44: proračun RH za predškolstvo - DV Neven, program predškole | P44: =Q44-O44 -> 0 | AF44: =SUM(S44:AD44) -> 0
E45: 53 | J45: 63311 | K45: proračun RH za predškolstvo - DV-GI Naridola, programi manjina | P45: =Q45-O45 -> 0 | AF45: =SUM(S45:AD45) -> 0
E46: 53 | J46: 63311 | K46: proračun RH za predškolstvo - DV-GI Naridola, program predškole | P46: =Q46-O46 -> 0 | AF46: =SUM(S46:AD46) -> 0
E47: 53 | J47: 63311 | K47: proračun RH - program zaštite od požara | P47: =Q47-O47 -> 0 | AF47: =SUM(S47:AD47) -> 0
E48: 53 | J48: 63311 | K48: proračun RH - Min.regionalnog razvoja - sufin MOZAIKa (asistenti u nastavi) | P48: =Q48-O48 -> 0 | AF48: =SUM(S48:AD48) -> 0
...

Sheet RASHODI i DI
C1: Naziv škole: Osnovna škola Vladimira Nazora-Scuola elementare "Vladimir Nazor"
C2: Sjedište i adresa: ROVINJ-ROVIGNO, De Amicis 31 | H2: FINANCIJSKI PLAN ZA 2026., PROJEKCIJE ZA 2027.-2028.
C3: Telefon/fax: 052 814 176 | H3: RASHODI
C4: Žiro-račun škole: HR3423400091511359042
C5: OIB: 10372585831
E6: PLAN 2017. | F6: ukupno PLAN 2017. | H6: 110 -Opći prihodi i primic | I6: 111 - Opći prihodi i primici po decentralizaciji | J6: 311 - Vlastiti prihodi - uplate roditelja i osoblja ( nastavnika i dr ) | K6: 431-Prihodi posebne namjene-pr.korisnici | L6: 50111 -Pomoći iz drž.proračuna-pr.korisnici | M6: 5021 - Pomoći za min.standard dec.funkcija | N6: 5023 - Pomoći iz državnog proračuna - COP-pr.korisnici | O6: 5231 - Pomoći (ŽP,GR,OP)-pr.korisnici | P6: 5611 - Europski socijalni fond plus-pr.korisnici | Q6: 551 - Pomoći iz inozemstva | R6: 611 - Donacije | S6: 711 - Prih od prodaje ili zamjene nefinancijske imovine i naknade štete od osiguranja | T6: 811 - Namjenski primici od zaduživanja | U6: ukupno Grad i vlastitI | V6: 511 - OŠ - DIREKTNO MZO | W6: Sveukupno 2026. | X6: PROJEKCIJA 2027. | Y6: PROJEKCIJA 2028.
D7: 0 | E7: 0'1 | F7: 02 | H7: 1 | I7: 2 | J7: 4 | K7: 5 | L7: 6 | M7: 7 | N7: 16 | P7: 8 | Q7: 9 | R7: 10 | S7: 11 | T7: 12 | U7: 15 | V7: 17 | W7: 18 | X7: 19 | Y7: 20
F8: =SUM(H8:T8) -> 0
C9: razlika | H9: =H11-H10 -> -995791 | I9: =I11-I10 -> 79311.52 | J9: =J11-J10 -> -492500 | L9: =L11-L10 -> 63470 | M9: =M11-M10 -> -116331.52 | N9: =N11-N10 -> -3454564 | P9: =P11-P10 -> 102500 | Q9: =Q11-Q10 -> 0 | R9: =R11-R10 -> -20800 | S9: =S11-S10 -> 0 | T9: =T11-T10 -> 0 | U9: =SUM(#REF!+#REF!) -> #REF! | V9: =V11-V10 -> -5064564 | W9: =SUM(U9:U9) -> #REF!
C10: škola | H10: 1333591 | J10: =573200-40000 -> 533200 | L10: 24000 | M10: 139250 | N10: 5064564 | R10: 25000 | U10: =SUM(#REF!+#REF!) -> #REF! | V10: 5064564 | W10: =SUM(U10:U10) -> #REF!
C11: SVEUKUPNO KORISNIK (zbroj aktivnosti - A, T ili K ) | D11: =SUM(D135+D271+D351+D431+D512+D215+D617+D697+D777+D861+D1259+D112+D941+D1021+D12+D92) -> 0 | E11: =SUM(E135+E271+E351+E431+E512+E215+E617+E697+E777+E861+E1259+E112+E941+E1021+E12+E92) -> 0 | F11: =SUM(F135+F271+F351+F431+F512+F215+F617+F697+F777+F861+F1259+F112+F941+F1021+F12+F92) -> 2087200 | H11: =SUM(H12+H112+H135+H271+H351+H431+H512+H215+H617+H777+H941+H1188+H1259+H1418+H1454+H1511+H1543+H1566+H1613+H1621+H1640+H1646) -> 337800 | I11: =SUM(I12+I112+I135+I271+I351+I431+I512+I215+I617+I777+I941+I1188+I1259+I1418+I1454+I1511+I1543+I1566+I1613+I1621+I1640+I1646) -> 79311.52 | J11: =SUM(J12+J112+J135+J271+J351+J431+J512+J215+J617+J777+J941+J1188+J1259+J1418+J1454+J1511+J1543+J1566+J1613+J1621+J1640+J1646) -> 40700 | K11: =SUM(K12+K112+K135+K271+K351+K431+K512+K215+K617+K777+K941+K1188+K1259+K1418+K1454+K1511+K1543+K1566+K1613+K1621+K1640+K1646) -> 56000 | L11: =SUM(L12+L112+L135+L271+L351+L431+L512+L215+L617+L777+L941+L1188+L1259+L1418+L1454+L1511+L1543+L1566+L1613+L1621+L1640+L1646) -> 87470 | M11: =SUM(M12+M112+M135+M271+M351+M431+M512+M215+M617+M777+M941+M1188+M1259+M1418+M1454+M1511+M1543+M1566+M1613+M1621+M1640+M1646) -> 22918.48 | N11: =SUM(N12+N112+N135+N271+N351+N431+N512+N215+N617+N777+N941+N1188+N1259+N1418+N1454+N1511+N1543+N1566+N1613+N1621+N1640+N1646) -> 1610000 | O11: =SUM(O12+O112+O135+O271+O351+O431+O512+O215+O617+O777+O941+O1188+O1259+O1418+O1454+O1511+O1543+O1566+O1613+O1621+O1640+O1646) -> 4400 | ... V11: =SUM(V12+V112+V135+V271+V351+V431+V512+V215+V617+V777+V941+V1188+V1259+V1418+V1454+V1511+V1543+V1566+V1613+V1621+V1640+V1646) -> 0 | W11: =SUM(H11:R11) -> 2345300 | X11: =SUM(X12+X112+X135+X271+X351+X431+X512+X215+X617+X777+X941+X1188+X1259+X1418+X1454+X1511+X1543+X1566+X1613+X1621+X1640+X1646) -> 2397500 | Y11: =SUM(Y12+Y112+Y135+Y271+Y351+Y431+Y512+Y215+Y617+Y777+Y941+Y1188+Y1259+Y1418+Y1454+Y1511+Y1543+Y1566+Y1613+Y1621+Y1640+Y1646) -> 2421600
C12: Aktivnost: A103643 NATJ. UČ. - ŠKOL. ( 3+4= sveukupno troškovi i nabava ) | D12: =SUM(D13+D70) -> 0 | E12: =SUM(E13+E70) -> 0 | F12: =SUM(H12:T12) -> 1000 | H12: =SUM(H13+H70) -> 1000 | I12: =SUM(I13+I70) -> 0 | J12: =SUM(J13+J70) -> 0 | K12: =SUM(K13+K70) -> 0 | L12: =SUM(L13+L70) -> 0 | M12: =SUM(M13+M70) -> 0 | N12: =SUM(N13+N70) -> 0 | O12: =SUM(O13+O70) -> 0 | ... T12: =SUM(T13+T70) -> 0 | U12: =SUM(#REF!+#REF!) -> #REF! | V12: =SUM(V13+V70) -> 0 | W12: =SUM(H12:R12) -> 1000 | X12: =SUM(X13) -> 1040 | Y12: =SUM(Y13) -> 1050
B13: 3 | C13: ukupno troškovi | D13: =SUM(D14+D26+D59) -> 0 | E13: =SUM(E14+E26+E59) -> 0 | F13: =SUM(H13:T13) -> 1000 | H13: =SUM(H14+H26+H59) -> 1000 | I13: =SUM(I14+I26+I59) -> 0 | J13: =SUM(J14+J26+J59) -> 0 | K13: =SUM(K14+K26+K59) -> 0 | L13: =SUM(L14+L26+L59) -> 0 | M13: =SUM(M14+M26+M59) -> 0 | N13: =SUM(N14+N26+N59) -> 0 | O13: =SUM(O14+O26+O59) -> 0 | ... T13: =SUM(T14+T26+T59) -> 0 | U13: =SUM(#REF!+#REF!) -> #REF! | V13: =SUM(V14+V26+V59) -> 0 | W13: =SUM(H13:R13) -> 1000 | X13: =SUM(X26) -> 1040 | Y13: =SUM(Y26) -> 1050
B14: 31 | D14: =SUM(D15+D20+D22) -> 0 | E14: =SUM(E15+E20+E22) -> 0 | F14: =SUM(H14:T14) -> 0 | H14: =SUM(H15+H20+H22) -> 0 | I14: =SUM(I15+I20+I22) -> 0 | J14: =SUM(J15+J20+J22) -> 0 | K14: =SUM(K15+K20+K22) -> 0 | L14: =SUM(L15+L20+L22) -> 0 | M14: =SUM(M15+M20+M22) -> 0 | N14: =SUM(N15+N20+N22) -> 0 | O14: =SUM(O15+O20+O22) -> 0 | ... T14: =SUM(T15+T20+T22) -> 0 | U14: =SUM(#REF!+#REF!) -> #REF! | V14: =SUM(V15+V20+V22) -> 0 | W14: =SUM(H14:R14) -> 0
B15: 311 | D15: =SUM(D16+D17+D18+D19) -> 0 | E15: =SUM(E16+E17+E18+E19) -> 0 | F15: =SUM(H15:T15) -> 0 | H15: =SUM(H16+H17+H18+H19) -> 0 | I15: =SUM(I16+I17+I18+I19) -> 0 | J15: =SUM(J16+J17+J18+J19) -> 0 | K15: =SUM(K16+K17+K18+K19) -> 0 | L15: =SUM(L16+L17+L18+L19) -> 0 | M15: =SUM(M16+M17+M18+M19) -> 0 | N15: =SUM(N16+N17+N18+N19) -> 0 | O15: =SUM(O16+O17+O18+O19) -> 0 | ... T15: =SUM(T16+T17+T18+T19) -> 0 | U15: =SUM(#REF!+#REF!) -> #REF! | V15: =SUM(V16+V17+V18+V19) -> 0 | W15: =SUM(H15:R15) -> 0
B16: 3111 | C16: Plaće za redovan rad | F16: =SUM(H16:T16) -> 0 | U16: =SUM(#REF!+#REF!) -> #REF! | W16: =SUM(H16:R16) -> 0
B17: 3112 | C17: Plaće u naravi | F17: =SUM(H17:T17) -> 0 | U17: =SUM(#REF!+#REF!) -> #REF! | W17: =SUM(H17:R17) -> 0
B18: 3113 | C18: Plaće za prekovremeni rad | F18: =SUM(H18:T18) -> 0 | U18: =SUM(#REF!+#REF!) -> #REF! | W18: =SUM(H18:R18) -> 0
B19: 3114 | C19: Plaće za posebne uvjete rada | F19: =SUM(H19:T19) -> 0 | U19: =SUM(#REF!+#REF!) -> #REF! | W19: =SUM(H19:R19) -> 0
B20: 312 | D20: =SUM(D21) -> 0 | E20: =SUM(E21) -> 0 | F20: =SUM(H20:T20) -> 0 | H20: =SUM(H21) -> 0 | I20: =SUM(I21) -> 0 | J20: =SUM(J21) -> 0 | K20: =SUM(K21) -> 0 | L20: =SUM(L21) -> 0 | M20: =SUM(M21) -> 0 | N20: =SUM(N21) -> 0 | O20: =SUM(O21) -> 0 | ... T20: =SUM(T21) -> 0 | U20: =SUM(#REF!+#REF!) -> #REF! | V20: =SUM(V21) -> 0 | W20: =SUM(H20:R20) -> 0
B21: 3121 | C21: Ostali rashodi za zaposlene | F21: =SUM(H21:T21) -> 0 | U21: =SUM(#REF!+#REF!) -> #REF! | W21: =SUM(H21:R21) -> 0
B22: 313 | D22: =SUM(D23+D24+D25) -> 0 | E22: =SUM(E23+E24+E25) -> 0 | F22: =SUM(H22:T22) -> 0 | H22: =SUM(H23+H24+H25) -> 0 | I22: =SUM(I23+I24+I25) -> 0 | J22: =SUM(J23+J24+J25) -> 0 | K22: =SUM(K23+K24+K25) -> 0 | L22: =SUM(L23+L24+L25) -> 0 | M22: =SUM(M23+M24+M25) -> 0 | N22: =SUM(N23+N24+N25) -> 0 | O22: =SUM(O23+O24+O25) -> 0 | ... T22: =SUM(T23+T24+T25) -> 0 | U22: =SUM(#REF!+#REF!) -> #REF! | V22: =SUM(V23+V24+V25) -> 0 | W22: =SUM(H22:R22) -> 0
B23: 3131 | C23: Doprinosi za mirovinsko osiguranje | F23: =SUM(H23:T23) -> 0 | U23: =SUM(#REF!+#REF!) -> #REF! | W23: =SUM(H23:R23) -> 0
B24: 3132 | C24: Doprinosi za obvezno zdravstveno osiguranje | F24: =SUM(H24:T24) -> 0 | U24: =SUM(#REF!+#REF!) -> #REF! | W24: =SUM(H24:R24) -> 0
B25: 3133 | C25: Doprinosi za obvezno osiguranje u slučaju nezaposlenosti | F25: =SUM(H25:T25) -> 0 | U25: =SUM(#REF!+#REF!) -> #REF! | W25: =SUM(H25:R25) -> 0
B26: 32 | D26: =SUM(D27+D32+D39+D49+D51) -> 0 | E26: =SUM(E27+E32+E39+E49+E51) -> 0 | F26: =SUM(H26:T26) -> 1000 | H26: =SUM(H27+H32+H39+H49+H51) -> 1000 | I26: =SUM(I27+I32+I39+I49+I51) -> 0 | J26: =SUM(J27+J32+J39+J49+J51) -> 0 | K26: =SUM(K27+K32+K39+K49+K51) -> 0 | L26: =SUM(L27+L32+L39+L49+L51) -> 0 | M26: =SUM(M27+M32+M39+M49+M51) -> 0 | N26: =SUM(N27+N32+N39+N49+N51) -> 0 | O26: =SUM(O27+O32+O39+O49+O51) -> 0 | ... T26: =SUM(T27+T32+T39+T49+T51) -> 0 | U26: =SUM(#REF!+#REF!) -> #REF! | V26: =SUM(V27+V32+V39+V49+V51) -> 0 | W26: =SUM(H26:R26) -> 1000 | X26: 1040 | Y26: 1050
B27: 321 | D27: =SUM(D28+D29+D30+D31) -> 0 | E27: =SUM(E28+E29+E30+E31) -> 0 | F27: =SUM(H27:T27) -> 0 | H27: =SUM(H28+H29+H30+H31) -> 0 | I27: =SUM(I28+I29+I30+I31) -> 0 | J27: =SUM(J28+J29+J30+J31) -> 0 | K27: =SUM(K28+K29+K30+K31) -> 0 | L27: =SUM(L28+L29+L30+L31) -> 0 | M27: =SUM(M28+M29+M30+M31) -> 0 | N27: =SUM(N28+N29+N30+N31) -> 0 | O27: =SUM(O28+O29+O30+O31) -> 0 | ... T27: =SUM(T28+T29+T30+T31) -> 0 | U27: =SUM(#REF!+#REF!) -> #REF! | V27: =SUM(V28+V29+V30+V31) -> 0 | W27: =SUM(H27:R27) -> 0
B28: 3211 | C28: Službena putovanja | F28: =SUM(H28:T28) -> 0 | U28: =SUM(#REF!+#REF!) -> #REF! | W28: =SUM(H28:R28) -> 0
B29: 3212 | C29: Naknade za prijevoz, za rad na terenu i odvojeni život | F29: =SUM(H29:T29) -> 0 | U29: =SUM(#REF!+#REF!) -> #REF! | W29: =SUM(H29:R29) -> 0
B30: 3213 | C30: Stručno usavršavanje zaposlenika | F30: =SUM(H30:T30) -> 0 | U30: =SUM(#REF!+#REF!) -> #REF! | W30: =SUM(H30:R30) -> 0
B31: 3214 | C31: Ostale naknade troškova zaposlenima | F31: =SUM(H31:T31) -> 0 | U31: =SUM(#REF!+#REF!) -> #REF! | W31: =SUM(H31:R31) -> 0
B32: 322 | D32: =SUM(D33+D34+D35+D36+D37+D38) -> 0 | E32: =SUM(E33+E34+E35+E36+E37+E38) -> 0 | F32: =SUM(H32:T32) -> 0 | H32: =SUM(H33+H34+H35+H36+H37+H38) -> 0 | I32: =SUM(I33+I34+I35+I36+I37+I38) -> 0 | J32: =SUM(J33+J34+J35+J36+J37+J38) -> 0 | K32: =SUM(K33+K34+K35+K36+K37+K38) -> 0 | L32: =SUM(L33+L34+L35+L36+L37+L38) -> 0 | M32: =SUM(M33+M34+M35+M36+M37+M38) -> 0 | N32: =SUM(N33+N34+N35+N36+N37+N38) -> 0 | O32: =SUM(O33+O34+O35+O36+O37+O38) -> 0 | ... T32: =SUM(T33+T34+T35+T36+T37+T38) -> 0 | U32: =SUM(#REF!+#REF!) -> #REF! | V32: =SUM(V33+V34+V35+V36+V37+V38) -> 0 | W32: =SUM(H32:R32) -> 0
B33: 3221 | C33: Uredski materijal i ostali materijalni rashodi | F33: =SUM(H33:T33) -> 0 | U33: =SUM(#REF!+#REF!) -> #REF! | W33: =SUM(H33:R33) -> 0
B34: 3222 | C34: Materijal i sirovine | F34: =SUM(H34:T34) -> 0 | U34: =SUM(#REF!+#REF!) -> #REF! | W34: =SUM(H34:R34) -> 0
B35: 3223 | C35: Energija | F35: =SUM(H35:T35) -> 0 | U35: =SUM(#REF!+#REF!) -> #REF! | W35: =SUM(H35:R35) -> 0
B36: 3224 | C36: Materijal i dijelovi za tekuće i investicijsko održavanje | F36: =SUM(H36:T36) -> 0 | U36: =SUM(#REF!+#REF!) -> #REF! | W36: =SUM(H36:R36) -> 0
B37: 3225 | C37: Sitni inventar i auto gume | F37: =SUM(H37:T37) -> 0 | U37: =SUM(#REF!+#REF!) -> #REF! | W37: =SUM(H37:R37) -> 0
B38: 3227 | C38: Službena, radna i zaštitna odjeća i obuća | F38: =SUM(H38:T38) -> 0 | U38: =SUM(#REF!+#REF!) -> #REF! | W38: =SUM(H38:R38) -> 0
B39: 323 | D39: =SUM(D40+D41+D42+D43+D44+D45+D46+D47+D48) -> 0 | E39: =SUM(E40+E41+E42+E43+E44+E45+E46+E47+E48) -> 0 | F39: =SUM(H39:T39) -> 0 | H39: =SUM(H40+H41+H42+H43+H44+H45+H46+H47+H48) -> 0 | I39: =SUM(I40+I41+I42+I43+I44+I45+I46+I47+I48) -> 0 | J39: =SUM(J40+J41+J42+J43+J44+J45+J46+J47+J48) -> 0 | K39: =SUM(K40+K41+K42+K43+K44+K45+K46+K47+K48) -> 0 | L39: =SUM(L40+L41+L42+L43+L44+L45+L46+L47+L48) -> 0 | M39: =SUM(M40+M41+M42+M43+M44+M45+M46+M47+M48) -> 0 | N39: =SUM(N40+N41+N42+N43+N44+N45+N46+N47+N48) -> 0 | O39: =SUM(O40+O41+O42+O43+O44+O45+O46+O47+O48) -> 0 | ... T39: =SUM(T40+T41+T42+T43+T44+T45+T46+T47+T48) -> 0 | U39: =SUM(#REF!+#REF!) -> #REF! | V39: =SUM(V40+V41+V42+V43+V44+V45+V46+V47+V48) -> 0 | W39: =SUM(H39:R39) -> 0
B40: 3231 | C40: Usluge telefona, pošte i prijevoza | F40: =SUM(H40:T40) -> 0 | U40: =SUM(#REF!+#REF!) -> #REF! | W40: =SUM(H40:R40) -> 0
...

Sheet PRIHODI IZVRŠENJE 2021
A1: OŠ V.NAZORA-SE V.NAZOR | C1: Plan prihoda
A2: E.De Amicis 31, 52210
A3: Rovinj (Rovigno)
A5: Razred/Skupina/Podskupina | B5: Izvor finaciranja | C5: Vrsta prihoda | D5: Izvršenje u 2020 | E5: Izvršenje od 01.01.2020 do 31.12.2020 | F5: Izvorni plan 2021 | G5: Tekući plan 2021 | H5: Preraspodjela 2021 | I5: Tekući plan+preraspodjela | J5: Izvršenje od 01.01.2021 do 31.12.2021 | K5: Razlika izvršenja | L5: Index izvršenja 2021/2020 | M5: Izvršenje/plan 2021 | N5: 11 - Opći prihodi i primici | O5: 11 - izvršenje | P5: 11 - izvršenje/plan | Q5: 41 - Prihodi za posebne namjene | R5: 41 - izvršenje | S5: 41 - izvršenje/plan | T5: 50 - Decentralizacija - pokriva RH | U5: 50 - izvršenje | V5: 50 - izvršenje/plan | W5: 52 - HZZ, FZOEU, TZ, CK i dr - za posebne i / ili ugovorene namje | X5: 52 - izvršenje | Y5: 52 - izvršenje/plan | Z5: 53 - Proračuni, drugi nivoi - za posebne i / ili ugovorene namjen | AA5: 53 - izvršenje | AB5: 53 - izvršenje/plan | AC5: 54 - Pomoći tijela i fondova EU | AD5: 54 - izvršenje | AE5: 54 - izvršenje/plan | AF5: 55 - Pomoći iz inozemstva | AG5: 55 - izvršenje | AH5: 55 - izvršenje/plan | AI5: 61 - Donacije | AJ5: 61 - izvršenje | AK5: 61 - izvršenje/plan | AL5: 71 - Prih od prodaje ili zamj nefin imov i nakn_osig | AM5: 71 - izvršenje | AN5: 71 - izvršenje/plan | AO5: 81 - Namjenski primici od zaduživanja | AP5: 81 - izvršenje | AQ5: 81 - izvršenje/plan | AR5: 82 - Preneseni viškovi iz ranijih godina | AS5: 82 - izvršenje | AT5: 82 - izvršenje/plan | AU5: 83 - Ostali povrem namj primici - prodaja udjela i sl | AV5: 83 - izvršenje | AW5: 83 - izvršenje/plan | AX5: 110 - Predfinanciranje Eu i ostalo | AY5: 110 - izvršenje | AZ5: 110 - izvršenje/plan | BA5: 111 - Redovna djelatnost - kod korisnika - iz Grada | BB5: 111 - izvršenje | BC5: 111 - izvršenje/plan | BD5: 112 - Posebni programi - zajednički dio - iz Grada | BE5: 112 - izvršenje | BF5: 112 - izvršenje/plan | BG5: 311 - Vlastiti prihodi - uplate roditelja i osoblja | BH5: 311 - izvršenje | BI5: 311 - izvršenje/plan | BJ5: 511 - OŠ - COP, Minist | BK5: 511 - izvršenje | BL5: 511 - izvršenje/plan | BM5: 521 - HZZ, FZOEU, TZ, CK i dr - za posebne i / ili ugovorene namj | BN5: 521 - izvršenje | BO5: 521 - izvršenje/plan | BP5: 531 - Proračuni, drugi nivoi - za posebne i / ili ugovorene namjen | BQ5: 531 - izvršenje | BR5: 531 - izvršenje/plan | BS5: 541 - Pomoći tijela i fondova EU | BT5: 541 - izvršenje | BU5: 541 - izvršenje/plan | BV5: 551 - Pomoći iz inozemstva | BW5: 551 - izvršenje | BX5: 551 - izvršenje/plan | BY5: 611 - Donacije | BZ5: 611 - izvršenje | CA5: 611 - izvršenje/plan | CB5: 711 - Prih od prodaje ili zamj nefin imov i nakn_osig | CC5: 711 - izvršenje | CD5: 711 - izvršenje/plan | CE5: 811 - Namjenski primici od zaduživanja | CF5: 811 - izvršenje | CG5: 811 - izvršenje/plan | CH5: 821 - Preneseni viškovi iz ranijih godina | CI5: 821 - izvršenje | CJ5: 821 - izvršenje/plan
A6: 1 | B6: 2 | C6: 3 | D6: 4 | E6: 5 | F6: 6 | G6: 7 | H6: 8 | I6: 9 = 8 + 7 | J6: 10 | K6: 11 = (10-9) | L6: 12 = (10/5) | M6: 13 = (10/9)
A7: 6 | B7: 111,112,311,511,531,541,611 | C7: Prihodi poslovanja | D7: 10951627 | E7: 10951627 | F7: 7917950 | G7: 10061862 | H7: 0 | I7: 10061862 | J7: 9477434 | K7: -584428 | L7: 86.54 | M7: 94.19 | N7: 0 | O7: 0 | P7: 0 | Q7: 0 | R7: 0 | S7: 0 | T7: 0 | U7: 0 | V7: 0 | W7: 0 | X7: 0 | Y7: 0 | Z7: 0 | AA7: 0 | AB7: 0 | AC7: 0 | AD7: 0 | AE7: 0 | AF7: 0 | AG7: 0 | AH7: 0 | AI7: 0 | AJ7: 0 | AK7: 0 | AL7: 0 | AM7: 0 | AN7: 0 | AO7: 0 | AP7: 0 | AQ7: 0 | AR7: 0 | AS7: 0 | AT7: 0 | AU7: 0 | AV7: 0 | AW7: 0 | AX7: 0 | AY7: 0 | AZ7: 0 | BA7: 1945442 | BB7: 1883469.8 | BC7: 0.96814493 | BD7: 45315 | BE7: 38353.42 | BF7: 0.84637361 | BG7: 528000 | BH7: 401004.3 | BI7: 0.75947784 | BJ7: 6997000 | BK7: 6778306.7 | BL7: 0.96874471 | BM7: 0 | BN7: 0 | BO7: 0 | BP7: 448905 | BQ7: 310586.32 | BR7: 0.69187539 | BS7: 67200 | BT7: 59095.41 | BU7: 0.87939598 | BV7: 0 | BW7: 0 | BX7: 0 | BY7: 30000 | BZ7: 6618 | CA7: 0.2206 | CB7: 0 | CC7: 0 | CD7: 0 | CE7: 0 | CF7: 0 | CG7: 0 | CH7: 0 | CI7: 0 | CJ7: 0 | CK7: =SUM(BB7+BE7+BH7+BK7+BQ7+BT7+BZ7) -> 9477434
A8: 63 | B8: 511,531,541 | C8: Pomoći iz inozem i od subjekata unutar općeg proračuna | D8: 6762041.5 | E8: 6762041.5 | F8: 7296550 | G8: 7511105 | H8: 0 | I8: 7511105 | J8: 7146738.5 | K8: -364366.53 | L8: 105.69 | M8: 95.15 | N8: 0 | O8: 0 | P8: 0 | Q8: 0 | R8: 0 | S8: 0 | T8: 0 | U8: 0 | V8: 0 | W8: 0 | X8: 0 | Y8: 0 | Z8: 0 | AA8: 0 | AB8: 0 | AC8: 0 | AD8: 0 | AE8: 0 | AF8: 0 | AG8: 0 | AH8: 0 | AI8: 0 | AJ8: 0 | AK8: 0 | AL8: 0 | AM8: 0 | AN8: 0 | AO8: 0 | AP8: 0 | AQ8: 0 | AR8: 0 | AS8: 0 | AT8: 0 | AU8: 0 | AV8: 0 | AW8: 0 | AX8: 0 | AY8: 0 | AZ8: 0 | BA8: 0 | BB8: 0 | BC8: 0 | BD8: 0 | BE8: 0 | BF8: 0 | BG8: 0 | BH8: 0 | BI8: 0 | BJ8: 6997000 | BK8: 6778306.7 | BL8: 0.96874471 | BM8: 0 | BN8: 0 | BO8: 0 | BP8: 446905 | BQ8: 309336.32 | BR8: 0.69217467 | BS8: 67200 | BT8: 59095.41 | BU8: 0.87939598 | BV8: 0 | BW8: 0 | BX8: 0 | BY8: 0 | BZ8: 0 | CA8: 0 | CB8: 0 | CC8: 0 | CD8: 0 | CE8: 0 | CF8: 0 | CG8: 0 | CH8: 0 | CI8: 0 | CJ8: 0 | CK8: =SUM(BB8+BE8+BH8+BK8+BQ8+BT8+BZ8) -> 7146738.5
A9: 636 | B9: 511,531 | C9: Pomoći proračunskim korisn iz proračuna - nenadlez | D9: 6762041.5 | E9: 6762041.5 | F9: 7296550 | G9: 7443905 | H9: 0 | I9: 7443905 | J9: 7087643.1 | K9: -356261.94 | L9: 104.82 | M9: 95.21 | N9: 0 | O9: 0 | P9: 0 | Q9: 0 | R9: 0 | S9: 0 | T9: 0 | U9: 0 | V9: 0 | W9: 0 | X9: 0 | Y9: 0 | Z9: 0 | AA9: 0 | AB9: 0 | AC9: 0 | AD9: 0 | AE9: 0 | AF9: 0 | AG9: 0 | AH9: 0 | AI9: 0 | AJ9: 0 | AK9: 0 | AL9: 0 | AM9: 0 | AN9: 0 | AO9: 0 | AP9: 0 | AQ9: 0 | AR9: 0 | AS9: 0 | AT9: 0 | AU9: 0 | AV9: 0 | AW9: 0 | AX9: 0 | AY9: 0 | AZ9: 0 | BA9: 0 | BB9: 0 | BC9: 0 | BD9: 0 | BE9: 0 | BF9: 0 | BG9: 0 | BH9: 0 | BI9: 0 | BJ9: 6997000 | BK9: 6778306.7 | BL9: 0.96874471 | BM9: 0 | BN9: 0 | BO9: 0 | BP9: 446905 | BQ9: 309336.32 | BR9: 0.69217467 | BS9: 0 | BT9: 0 | BU9: 0 | BV9: 0 | BW9: 0 | BX9: 0 | BY9: 0 | BZ9: 0 | CA9: 0 | CB9: 0 | CC9: 0 | CD9: 0 | CE9: 0 | CF9: 0 | CG9: 0 | CH9: 0 | CI9: 0 | CJ9: 0 | CK9: =SUM(BB9+BE9+BH9+BK9+BQ9+BT9+BZ9) -> 7087643.1
A10: 64 | B10: 311 | C10: Prihodi od imovine | D10: 1124.71 | E10: 1124.71 | F10: 1200 | G10: 1200 | H10: 0 | I10: 1200 | J10: 712.44 | K10: -487.56 | L10: 63.34 | M10: 59.37 | N10: 0 | O10: 0 | P10: 0 | Q10: 0 | R10: 0 | S10: 0 | T10: 0 | U10: 0 | V10: 0 | W10: 0 | X10: 0 | Y10: 0 | Z10: 0 | AA10: 0 | AB10: 0 | AC10: 0 | AD10: 0 | AE10: 0 | AF10: 0 | AG10: 0 | AH10: 0 | AI10: 0 | AJ10: 0 | AK10: 0 | AL10: 0 | AM10: 0 | AN10: 0 | AO10: 0 | AP10: 0 | AQ10: 0 | AR10: 0 | AS10: 0 | AT10: 0 | AU10: 0 | AV10: 0 | AW10: 0 | AX10: 0 | AY10: 0 | AZ10: 0 | BA10: 0 | BB10: 0 | BC10: 0 | BD10: 0 | BE10: 0 | BF10: 0 | BG10: 1200 | BH10: 712.44 | BI10: 0.5937 | BJ10: 0 | BK10: 0 | BL10: 0 | BM10: 0 | BN10: 0 | BO10: 0 | BP10: 0 | BQ10: 0 | BR10: 0 | BS10: 0 | BT10: 0 | BU10: 0 | BV10: 0 | BW10: 0 | BX10: 0 | BY10: 0 | BZ10: 0 | CA10: 0 | CB10: 0 | CC10: 0 | CD10: 0 | CE10: 0 | CF10: 0 | CG10: 0 | CH10: 0 | CI10: 0 | CJ10: 0 | CK10: =SUM(BB10+BE10+BH10+BK10+BQ10+BT10+BZ10) -> 712.44
A11: 641 | B11: 311 | C11: Prihodi od financijske imovine | D11: 1124.71 | E11: 1124.71 | F11: 1200 | G11: 1200 | H11: 0 | I11: 1200 | J11: 712.44 | K11: -487.56 | L11: 63.34 | M11: 59.37 | N11: 0 | O11: 0 | P11: 0 | Q11: 0 | R11: 0 | S11: 0 | T11: 0 | U11: 0 | V11: 0 | W11: 0 | X11: 0 | Y11: 0 | Z11: 0 | AA11: 0 | AB11: 0 | AC11: 0 | AD11: 0 | AE11: 0 | AF11: 0 | AG11: 0 | AH11: 0 | AI11: 0 | AJ11: 0 | AK11: 0 | AL11: 0 | AM11: 0 | AN11: 0 | AO11: 0 | AP11: 0 | AQ11: 0 | AR11: 0 | AS11: 0 | AT11: 0 | AU11: 0 | AV11: 0 | AW11: 0 | AX11: 0 | AY11: 0 | AZ11: 0 | BA11: 0 | BB11: 0 | BC11: 0 | BD11: 0 | BE11: 0 | BF11: 0 | BG11: 1200 | BH11: 712.44 | BI11: 0.5937 | BJ11: 0 | BK11: 0 | BL11: 0 | BM11: 0 | BN11: 0 | BO11: 0 | BP11: 0 | BQ11: 0 | BR11: 0 | BS11: 0 | BT11: 0 | BU11: 0 | BV11: 0 | BW11: 0 | BX11: 0 | BY11: 0 | BZ11: 0 | CA11: 0 | CB11: 0 | CC11: 0 | CD11: 0 | CE11: 0 | CF11: 0 | CG11: 0 | CH11: 0 | CI11: 0 | CJ11: 0 | CK11: =SUM(BB11+BE11+BH11+BK11+BQ11+BT11+BZ11) -> 712.44
A12: 65 | B12: 311,531 | C12: Prih od upravnih i administr pristojbi i po poseb propisima i naknada | D12: 848684.61 | E12: 848684.61 | F12: 588200 | G12: 526800 | H12: 0 | I12: 526800 | J12: 404531.86 | K12: -122268.14 | L12: 47.67 | M12: 76.79 | N12: 0 | O12: 0 | P12: 0 | Q12: 0 | R12: 0 | S12: 0 | T12: 0 | U12: 0 | V12: 0 | W12: 0 | X12: 0 | Y12: 0 | Z12: 0 | AA12: 0 | AB12: 0 | AC12: 0 | AD12: 0 | AE12: 0 | AF12: 0 | AG12: 0 | AH12: 0 | AI12: 0 | AJ12: 0 | AK12: 0 | AL12: 0 | AM12: 0 | AN12: 0 | AO12: 0 | AP12: 0 | AQ12: 0 | AR12: 0 | AS12: 0 | AT12: 0 | AU12: 0 | AV12: 0 | AW12: 0 | AX12: 0 | AY12: 0 | AZ12: 0 | BA12: 0 | BB12: 0 | BC12: 0 | BD12: 0 | BE12: 5040 | BF12: 0 | BG12: 524800 | BH12: 398691.86 | BI12: 0.75970248 | BJ12: 0 | BK12: 0 | BL12: 0 | BM12: 0 | BN12: 0 | BO12: 0 | BP12: 2000 | BQ12: 800 | BR12: 0.4 | BS12: 0 | BT12: 0 | BU12: 0 | BV12: 0 | BW12: 0 | BX12: 0 | BY12: 0 | BZ12: 0 | CA12: 0 | CB12: 0 | CC12: 0 | CD12: 0 | CE12: 0 | CF12: 0 | CG12: 0 | CH12: 0 | CI12: 0 | CJ12: 0 | CK12: =SUM(BB12+BE12+BH12+BK12+BQ12+BT12+BZ12) -> 404531.86
A13: 652 | B13: 311,531 | C13: Prihodi po posebnim propisima | D13: 848684.61 | E13: 848684.61 | F13: 588200 | G13: 526800 | H13: 0 | I13: 526800 | J13: 404531.86 | K13: -122268.14 | L13: 47.67 | M13: 76.79 | N13: 0 | O13: 0 | P13: 0 | Q13: 0 | R13: 0 | S13: 0 | T13: 0 | U13: 0 | V13: 0 | W13: 0 | X13: 0 | Y13: 0 | Z13: 0 | AA13: 0 | AB13: 0 | AC13: 0 | AD13: 0 | AE13: 0 | AF13: 0 | AG13: 0 | AH13: 0 | AI13: 0 | AJ13: 0 | AK13: 0 | AL13: 0 | AM13: 0 | AN13: 0 | AO13: 0 | AP13: 0 | AQ13: 0 | AR13: 0 | AS13: 0 | AT13: 0 | AU13: 0 | AV13: 0 | AW13: 0 | AX13: 0 | AY13: 0 | AZ13: 0 | BA13: 0 | BB13: 0 | BC13: 0 | BD13: 0 | BE13: 5040 | BF13: 0 | BG13: 524800 | BH13: 398691.86 | BI13: 0.75970248 | BJ13: 0 | BK13: 0 | BL13: 0 | BM13: 0 | BN13: 0 | BO13: 0 | BP13: 2000 | BQ13: 800 | BR13: 0.4 | BS13: 0 | BT13: 0 | BU13: 0 | BV13: 0 | BW13: 0 | BX13: 0 | BY13: 0 | BZ13: 0 | CA13: 0 | CB13: 0 | CC13: 0 | CD13: 0 | CE13: 0 | CF13: 0 | CG13: 0 | CH13: 0 | CI13: 0 | CJ13: 0 | CK13: =SUM(BB13+BE13+BH13+BK13+BQ13+BT13+BZ13) -> 404531.86
A14: 66 | B14: 311,611 | C14: Prih/ prod proizv i robe te pruž usl i prih od donacija | D14: 9592.23 | E14: 9592.23 | F14: 32000 | G14: 32000 | H14: 0 | I14: 32000 | J14: 8668 | K14: -23332 | L14: 90.36 | M14: 27.09 | N14: 0 | O14: 0 | P14: 0 | Q14: 0 | R14: 0 | S14: 0 | T14: 0 | U14: 0 | V14: 0 | W14: 0 | X14: 0 | Y14: 0 | Z14: 0 | AA14: 0 | AB14: 0 | AC14: 0 | AD14: 0 | AE14: 0 | AF14: 0 | AG14: 0 | AH14: 0 | AI14: 0 | AJ14: 0 | AK14: 0 | AL14: 0 | AM14: 0 | AN14: 0 | AO14: 0 | AP14: 0 | AQ14: 0 | AR14: 0 | AS14: 0 | AT14: 0 | AU14: 0 | AV14: 0 | AW14: 0 | AX14: 0 | AY14: 0 | AZ14: 0 | BA14: 0 | BB14: 0 | BC14: 0 | BD14: 0 | BE14: 0 | BF14: 0 | BG14: 2000 | BH14: 1600 | BI14: 0.8 | BJ14: 0 | BK14: 0 | BL14: 0 | BM14: 0 | BN14: 0 | BO14: 0 | BP14: 0 | BQ14: 450 | BR14: 0 | BS14: 0 | BT14: 0 | BU14: 0 | BV14: 0 | BW14: 0 | BX14: 0 | BY14: 30000 | BZ14: 6618 | CA14: 0.2206 | CB14: 0 | CC14: 0 | CD14: 0 | CE14: 0 | CF14: 0 | CG14: 0 | CH14: 0 | CI14: 0 | CJ14: 0 | CK14: =SUM(BB14+BE14+BH14+BK14+BQ14+BT14+BZ14) -> 8668
A15: 661 | B15: 311 | C15: Prihodi od prodaje proizv i robe te pruženih usluga | D15: 600 | E15: 600 | F15: 2000 | G15: 2000 | H15: 0 | I15: 2000 | J15: 300 | K15: -1700 | L15: 50 | M15: 15 | N15: 0 | O15: 0 | P15: 0 | Q15: 0 | R15: 0 | S15: 0 | T15: 0 | U15: 0 | V15: 0 | W15: 0 | X15: 0 | Y15: 0 | Z15: 0 | AA15: 0 | AB15: 0 | AC15: 0 | AD15: 0 | AE15: 0 | AF15: 0 | AG15: 0 | AH15: 0 | AI15: 0 | AJ15: 0 | AK15: 0 | AL15: 0 | AM15: 0 | AN15: 0 | AO15: 0 | AP15: 0 | AQ15: 0 | AR15: 0 | AS15: 0 | AT15: 0 | AU15: 0 | AV15: 0 | AW15: 0 | AX15: 0 | AY15: 0 | AZ15: 0 | BA15: 0 | BB15: 0 | BC15: 0 | BD15: 0 | BE15: 0 | BF15: 0 | BG15: 2000 | BH15: 300 | BI15: 0.15 | BJ15: 0 | BK15: 0 | BL15: 0 | BM15: 0 | BN15: 0 | BO15: 0 | BP15: 0 | BQ15: 0 | BR15: 0 | BS15: 0 | BT15: 0 | BU15: 0 | BV15: 0 | BW15: 0 | BX15: 0 | BY15: 0 | BZ15: 0 | CA15: 0 | CB15: 0 | CC15: 0 | CD15: 0 | CE15: 0 | CF15: 0 | CG15: 0 | CH15: 0 | CI15: 0 | CJ15: 0 | CK15: =SUM(BB15+BE15+BH15+BK15+BQ15+BT15+BZ15) -> 300
A16: 663 | B16: 611 | C16: Donacije od pravnih i fizičkih osoba izvan općeg proračuna | D16: 8992.23 | E16: 8992.23 | F16: 30000 | G16: 30000 | H16: 0 | I16: 30000 | J16: 8368 | K16: -21632 | L16: 93.06 | M16: 27.89 | N16: 0 | O16: 0 | P16: 0 | Q16: 0 | R16: 0 | S16: 0 | T16: 0 | U16: 0 | V16: 0 | W16: 0 | X16: 0 | Y16: 0 | Z16: 0 | AA16: 0 | AB16: 0 | AC16: 0 | AD16: 0 | AE16: 0 | AF16: 0 | AG16: 0 | AH16: 0 | AI16: 0 | AJ16: 0 | AK16: 0 | AL16: 0 | AM16: 0 | AN16: 0 | AO16: 0 | AP16: 0 | AQ16: 0 | AR16: 0 | AS16: 0 | AT16: 0 | AU16: 0 | AV16: 0 | AW16: 0 | AX16: 0 | AY16: 0 | AZ16: 0 | BA16: 0 | BB16: 0 | BC16: 0 | BD16: 0 | BE16: 0 | BF16: 0 | BG16: 0 | BH16: 1300 | BI16: 0 | BJ16: 0 | BK16: 0 | BL16: 0 | BM16: 0 | BN16: 0 | BO16: 0 | BP16: 0 | BQ16: 450 | BR16: 0 | BS16: 0 | BT16: 0 | BU16: 0 | BV16: 0 | BW16: 0 | BX16: 0 | BY16: 30000 | BZ16: 6618 | CA16: 0.2206 | CB16: 0 | CC16: 0 | CD16: 0 | CE16: 0 | CF16: 0 | CG16: 0 | CH16: 0 | CI16: 0 | CJ16: 0 | CK16: =SUM(BB16+BE16+BH16+BK16+BQ16+BT16+BZ16) -> 8368
